BEGIN:VCALENDAR
VERSION:2.0
PRODID:-//EZFacility.com, Inc.//EZL 2.5.5.28621
BEGIN:VEVENT
UID:13562289@ezleagues.ezfacility.com
DTSTAMP:20260426T033827Z
CREATED:20260426T033827Z
DTSTART:20210207T163000Z
DTEND:20210207T173000Z
LOCATION:Field 3
CONTACT:
SUMMARY:East Catholic White VS. Rockville White
DESCRIPTION:League Name: S2-Lacrosse-Girls-Bentley-2021\nGame Type: Regular
 \nGame Status: Pending\nHome Team: East Catholic White\nAway Team: Rockvil
 le White\n
END:VEVENT
BEGIN:VEVENT
UID:13564255@ezleagues.ezfacility.com
DTSTAMP:20260426T033827Z
CREATED:20260426T033827Z
DTSTART:20210214T180000Z
DTEND:20210214T190000Z
LOCATION:Field 1
CONTACT:
SUMMARY:Rockville White VS. Cromwell/Rocky Hill
DESCRIPTION:League Name: S2-Lacrosse-Girls-Bentley-2021\nGame Type: Regular
 \nGame Status: Pending\nHome Team: Rockville White\nAway Team: Cromwell/Ro
 cky Hill\n
END:VEVENT
BEGIN:VEVENT
UID:13564271@ezleagues.ezfacility.com
DTSTAMP:20260426T033827Z
CREATED:20260426T033827Z
DTSTART:20210221T131500Z
DTEND:20210221T141500Z
LOCATION:Field 2
CONTACT:
SUMMARY:Rockville White VS. Berlin White
DESCRIPTION:League Name: S2-Lacrosse-Girls-Bentley-2021\nGame Type: Regular
 \nGame Status: Pending\nHome Team: Rockville White\nAway Team: Berlin Whit
 e\n
END:VEVENT
BEGIN:VEVENT
UID:13564741@ezleagues.ezfacility.com
DTSTAMP:20260426T033827Z
CREATED:20260426T033827Z
DTSTART:20210228T180000Z
DTEND:20210228T190000Z
LOCATION:Field 1
CONTACT:
SUMMARY:Bristol Central VS. Rockville White
DESCRIPTION:League Name: S2-Lacrosse-Girls-Bentley-2021\nGame Type: Regular
 \nGame Status: Pending\nHome Team: Bristol Central\nAway Team: Rockville W
 hite\n
END:VEVENT
BEGIN:VEVENT
UID:13573281@ezleagues.ezfacility.com
DTSTAMP:20260426T033827Z
CREATED:20260426T033827Z
DTSTART:20210307T171500Z
DTEND:20210307T181500Z
LOCATION:Field 2
CONTACT:
SUMMARY:Ellington Yellow VS. Rockville White
DESCRIPTION:League Name: S2-Lacrosse-Girls-Bentley-2021\nGame Type: Regular
 \nGame Status: Pending\nHome Team: Ellington Yellow\nAway Team: Rockville 
 White\n
END:VEVENT
BEGIN:VEVENT
UID:13574524@ezleagues.ezfacility.com
DTSTAMP:20260426T033827Z
CREATED:20260426T033827Z
DTSTART:20210314T170000Z
DTEND:20210314T180000Z
LOCATION:Field 1
CONTACT:
SUMMARY:East Catholic White VS. Rockville White
DESCRIPTION:League Name: S2-Lacrosse-Girls-Bentley-2021\nGame Type: Regular
 \nGame Status: Pending\nHome Team: East Catholic White\nAway Team: Rockvil
 le White\n
END:VEVENT
END:VCALENDAR
