BEGIN:VCALENDAR
VERSION:2.0
PRODID:-//EZFacility.com, Inc.//EZL 2.5.5.28621
BEGIN:VEVENT
UID:13582578@ezleagues.ezfacility.com
DTSTAMP:20260426T035025Z
CREATED:20260426T035025Z
DTSTART:20210207T180000Z
DTEND:20210207T190000Z
LOCATION:Rise Indoor 1
CONTACT:
SUMMARY:Panteras FC VS. America
DESCRIPTION:League Name: WS Futbol Sala Sunday Youth 08/07 Spring 2021\nGam
 e Type: Regular\nGame Status: Complete\nHome Team: Panteras FC\nAway Team:
  America\nHome Score: 11\nAway Score: 9
END:VEVENT
BEGIN:VEVENT
UID:13582598@ezleagues.ezfacility.com
DTSTAMP:20260426T035025Z
CREATED:20260426T035025Z
DTSTART:20210221T190000Z
DTEND:20210221T200000Z
LOCATION:Rise Indoor 1
CONTACT:
SUMMARY:Chelsea FC VS. Panteras FC
DESCRIPTION:League Name: WS Futbol Sala Sunday Youth 08/07 Spring 2021\nGam
 e Type: Regular\nGame Status: Complete\nHome Team: Chelsea FC\nAway Team: 
 Panteras FC\nHome Score: 16\nAway Score: 9
END:VEVENT
BEGIN:VEVENT
UID:13582580@ezleagues.ezfacility.com
DTSTAMP:20260426T035025Z
CREATED:20260426T035025Z
DTSTART:20210228T140000Z
DTEND:20210228T150000Z
LOCATION:Truist Out 3A
CONTACT:
SUMMARY:Red Bull VS. Panteras FC
DESCRIPTION:League Name: WS Futbol Sala Sunday Youth 08/07 Spring 2021\nGam
 e Type: Regular\nGame Status: Complete\nHome Team: Red Bull\nAway Team: Pa
 nteras FC\nHome Score: 12\nAway Score: 15
END:VEVENT
BEGIN:VEVENT
UID:13582588@ezleagues.ezfacility.com
DTSTAMP:20260426T035025Z
CREATED:20260426T035025Z
DTSTART:20210307T210000Z
DTEND:20210307T220000Z
LOCATION:Rise Indoor 1
CONTACT:
SUMMARY:Panteras FC VS. Academia FC
DESCRIPTION:League Name: WS Futbol Sala Sunday Youth 08/07 Spring 2021\nGam
 e Type: Regular\nGame Status: Complete\nHome Team: Panteras FC\nAway Team:
  Academia FC\nHome Score: 14\nAway Score: 15
END:VEVENT
BEGIN:VEVENT
UID:13649403@ezleagues.ezfacility.com
DTSTAMP:20260426T035025Z
CREATED:20260426T035025Z
DTSTART:20210314T200000Z
DTEND:20210314T210000Z
LOCATION:Truist Out 3A
CONTACT:
SUMMARY:Panteras FC VS. POOL FC
DESCRIPTION:League Name: WS Futbol Sala Sunday Youth 08/07 Spring 2021\nGam
 e Type: Regular\nGame Status: Complete\nHome Team: Panteras FC\nAway Team:
  POOL FC\nHome Score: 14\nAway Score: 10
END:VEVENT
BEGIN:VEVENT
UID:13582593@ezleagues.ezfacility.com
DTSTAMP:20260426T035025Z
CREATED:20260426T035025Z
DTSTART:20210321T160000Z
DTEND:20210321T170000Z
LOCATION:Rise Indoor 1
CONTACT:
SUMMARY:America VS. Panteras FC
DESCRIPTION:League Name: WS Futbol Sala Sunday Youth 08/07 Spring 2021\nGam
 e Type: Regular\nGame Status: Complete\nHome Team: America\nAway Team: Pan
 teras FC\nHome Score: 13\nAway Score: 11
END:VEVENT
BEGIN:VEVENT
UID:13582573@ezleagues.ezfacility.com
DTSTAMP:20260426T035025Z
CREATED:20260426T035025Z
DTSTART:20210411T170000Z
DTEND:20210411T180000Z
LOCATION:Rise Indoor 1
CONTACT:
SUMMARY:Academia FC VS. Panteras FC
DESCRIPTION:League Name: WS Futbol Sala Sunday Youth 08/07 Spring 2021\nGam
 e Type: Regular\nGame Status: Complete\nHome Team: Academia FC\nAway Team:
  Panteras FC\nHome Score: 11\nAway Score: 16
END:VEVENT
BEGIN:VEVENT
UID:13582599@ezleagues.ezfacility.com
DTSTAMP:20260426T035025Z
CREATED:20260426T035025Z
DTSTART:20210418T180000Z
DTEND:20210418T190000Z
LOCATION:Truist Out 3A
CONTACT:
SUMMARY:Panteras FC VS. Deportivo Unido
DESCRIPTION:League Name: WS Futbol Sala Sunday Youth 08/07 Spring 2021\nGam
 e Type: Regular\nGame Status: Complete\nHome Team: Panteras FC\nAway Team:
  Deportivo Unido\nHome Score: 12\nAway Score: 11
END:VEVENT
BEGIN:VEVENT
UID:13582576@ezleagues.ezfacility.com
DTSTAMP:20260426T035025Z
CREATED:20260426T035025Z
DTSTART:20210418T190000Z
DTEND:20210418T200000Z
LOCATION:Truist Out 3A
CONTACT:
SUMMARY:Panteras FC VS. Chelsea FC
DESCRIPTION:League Name: WS Futbol Sala Sunday Youth 08/07 Spring 2021\nGam
 e Type: Regular\nGame Status: Complete\nHome Team: Panteras FC\nAway Team:
  Chelsea FC\nHome Score: 10\nAway Score: 13
END:VEVENT
BEGIN:VEVENT
UID:13582595@ezleagues.ezfacility.com
DTSTAMP:20260426T035025Z
CREATED:20260426T035025Z
DTSTART:20210502T150000Z
DTEND:20210502T160000Z
LOCATION:Truist Out 3A
CONTACT:
SUMMARY:Panteras FC VS. Red Bull
DESCRIPTION:League Name: WS Futbol Sala Sunday Youth 08/07 Spring 2021\nGam
 e Type: Regular\nGame Status: Complete\nHome Team: Panteras FC\nAway Team:
  Red Bull\nHome Score: 6\nAway Score: 16
END:VEVENT
END:VCALENDAR
