BEGIN:VCALENDAR
VERSION:2.0
PRODID:-//EZFacility.com, Inc.//EZL 2.5.5.28621
BEGIN:VEVENT
UID:13592019@ezleagues.ezfacility.com
DTSTAMP:20260423T203821Z
CREATED:20260423T203821Z
DTSTART:20210212T010000Z
DTEND:20210212T020000Z
LOCATION:Rise Indoor 1
CONTACT:
SUMMARY:Liverpool VS. Alianza FC
DESCRIPTION:League Name: WS Futbol Sala Thursday Over 35's League Spring 20
 21\nGame Type: Regular\nGame Status: Complete\nHome Team: Liverpool\nAway 
 Team: Alianza FC\nHome Score: 9\nAway Score: 16
END:VEVENT
BEGIN:VEVENT
UID:13592004@ezleagues.ezfacility.com
DTSTAMP:20260423T203821Z
CREATED:20260423T203821Z
DTSTART:20210226T020000Z
DTEND:20210226T030000Z
LOCATION:Truist Out 3A
CONTACT:
SUMMARY:Alianza FC VS. Casmul
DESCRIPTION:League Name: WS Futbol Sala Thursday Over 35's League Spring 20
 21\nGame Type: Regular\nGame Status: Complete\nHome Team: Alianza FC\nAway
  Team: Casmul\nHome Score: 14\nAway Score: 9
END:VEVENT
BEGIN:VEVENT
UID:13591999@ezleagues.ezfacility.com
DTSTAMP:20260423T203821Z
CREATED:20260423T203821Z
DTSTART:20210305T010000Z
DTEND:20210305T020000Z
LOCATION:Truist Out 3A
CONTACT:
SUMMARY:Pumas FC VS. Alianza FC
DESCRIPTION:League Name: WS Futbol Sala Thursday Over 35's League Spring 20
 21\nGame Type: Regular\nGame Status: Complete\nHome Team: Pumas FC\nAway T
 eam: Alianza FC\nHome Score: 8\nAway Score: 15
END:VEVENT
BEGIN:VEVENT
UID:13591989@ezleagues.ezfacility.com
DTSTAMP:20260423T203821Z
CREATED:20260423T203821Z
DTSTART:20210312T010000Z
DTEND:20210312T020000Z
LOCATION:Truist Out 3A
CONTACT:
SUMMARY:Firpo VS. Alianza FC
DESCRIPTION:League Name: WS Futbol Sala Thursday Over 35's League Spring 20
 21\nGame Type: Regular\nGame Status: Complete\nHome Team: Firpo\nAway Team
 : Alianza FC\nHome Score: 9\nAway Score: 10
END:VEVENT
BEGIN:VEVENT
UID:13592014@ezleagues.ezfacility.com
DTSTAMP:20260423T203821Z
CREATED:20260423T203821Z
DTSTART:20210326T000000Z
DTEND:20210326T010000Z
LOCATION:Rise Indoor 1
CONTACT:
SUMMARY:Alianza FC VS. Vikingos
DESCRIPTION:League Name: WS Futbol Sala Thursday Over 35's League Spring 20
 21\nGame Type: Regular\nGame Status: Complete\nHome Team: Alianza FC\nAway
  Team: Vikingos\nHome Score: 9\nAway Score: 9
END:VEVENT
BEGIN:VEVENT
UID:13592064@ezleagues.ezfacility.com
DTSTAMP:20260423T203821Z
CREATED:20260423T203821Z
DTSTART:20210402T000000Z
DTEND:20210402T010000Z
LOCATION:Rise Indoor 1
CONTACT:
SUMMARY:Alianza FC VS. Liverpool
DESCRIPTION:League Name: WS Futbol Sala Thursday Over 35's League Spring 20
 21\nGame Type: Regular\nGame Status: Complete\nHome Team: Alianza FC\nAway
  Team: Liverpool\nHome Score: 14\nAway Score: 8
END:VEVENT
BEGIN:VEVENT
UID:13592074@ezleagues.ezfacility.com
DTSTAMP:20260423T203821Z
CREATED:20260423T203821Z
DTSTART:20210405T010000Z
DTEND:20210405T020000Z
LOCATION:Rise Indoor 1
CONTACT:
SUMMARY:Alianza FC VS. Deportivo Muzquiz
DESCRIPTION:League Name: WS Futbol Sala Thursday Over 35's League Spring 20
 21\nGame Type: Regular\nGame Status: Complete\nHome Team: Alianza FC\nAway
  Team: Deportivo Muzquiz\nHome Score: 0\nAway Score: 10
END:VEVENT
BEGIN:VEVENT
UID:13591994@ezleagues.ezfacility.com
DTSTAMP:20260423T203821Z
CREATED:20260423T203821Z
DTSTART:20210409T000000Z
DTEND:20210409T010000Z
LOCATION:Rise Indoor 1
CONTACT:
SUMMARY:Alianza FC VS. Galacticos
DESCRIPTION:League Name: WS Futbol Sala Thursday Over 35's League Spring 20
 21\nGame Type: Regular\nGame Status: Complete\nHome Team: Alianza FC\nAway
  Team: Galacticos\nHome Score: 8\nAway Score: 6
END:VEVENT
BEGIN:VEVENT
UID:13592029@ezleagues.ezfacility.com
DTSTAMP:20260423T203821Z
CREATED:20260423T203821Z
DTSTART:20210416T010000Z
DTEND:20210416T020000Z
LOCATION:Truist Out 3A
CONTACT:
SUMMARY:Deportivo Muzquiz VS. Alianza FC
DESCRIPTION:League Name: WS Futbol Sala Thursday Over 35's League Spring 20
 21\nGame Type: Regular\nGame Status: Complete\nHome Team: Deportivo Muzqui
 z\nAway Team: Alianza FC\nHome Score: 11\nAway Score: 13
END:VEVENT
BEGIN:VEVENT
UID:13592034@ezleagues.ezfacility.com
DTSTAMP:20260423T203821Z
CREATED:20260423T203821Z
DTSTART:20210423T010000Z
DTEND:20210423T020000Z
LOCATION:Truist Out 3A
CONTACT:
SUMMARY:Alianza FC VS. Firpo
DESCRIPTION:League Name: WS Futbol Sala Thursday Over 35's League Spring 20
 21\nGame Type: Regular\nGame Status: Complete\nHome Team: Alianza FC\nAway
  Team: Firpo\nHome Score: 10\nAway Score: 12
END:VEVENT
BEGIN:VEVENT
UID:13592039@ezleagues.ezfacility.com
DTSTAMP:20260423T203821Z
CREATED:20260423T203821Z
DTSTART:20210430T010000Z
DTEND:20210430T020000Z
LOCATION:Truist Out 3A
CONTACT:
SUMMARY:Galacticos VS. Alianza FC
DESCRIPTION:League Name: WS Futbol Sala Thursday Over 35's League Spring 20
 21\nGame Type: Regular\nGame Status: Complete\nHome Team: Galacticos\nAway
  Team: Alianza FC\nHome Score: 8\nAway Score: 6
END:VEVENT
BEGIN:VEVENT
UID:13592044@ezleagues.ezfacility.com
DTSTAMP:20260423T203821Z
CREATED:20260423T203821Z
DTSTART:20210507T000000Z
DTEND:20210507T010000Z
LOCATION:Truist Out 3A
CONTACT:
SUMMARY:Alianza FC VS. Pumas FC
DESCRIPTION:League Name: WS Futbol Sala Thursday Over 35's League Spring 20
 21\nGame Type: Regular\nGame Status: Complete\nHome Team: Alianza FC\nAway
  Team: Pumas FC\nHome Score: 12\nAway Score: 11
END:VEVENT
BEGIN:VEVENT
UID:13592049@ezleagues.ezfacility.com
DTSTAMP:20260423T203821Z
CREATED:20260423T203821Z
DTSTART:20210514T010000Z
DTEND:20210514T020000Z
LOCATION:Truist Out 3A
CONTACT:
SUMMARY:Casmul VS. Alianza FC
DESCRIPTION:League Name: WS Futbol Sala Thursday Over 35's League Spring 20
 21\nGame Type: Regular\nGame Status: Complete\nHome Team: Casmul\nAway Tea
 m: Alianza FC\nHome Score: 10\nAway Score: 12
END:VEVENT
BEGIN:VEVENT
UID:13592059@ezleagues.ezfacility.com
DTSTAMP:20260423T203821Z
CREATED:20260423T203821Z
DTSTART:20210611T000000Z
DTEND:20210611T010000Z
LOCATION:Rise Indoor 1
CONTACT:
SUMMARY:Vikingos VS. Alianza FC
DESCRIPTION:League Name: WS Futbol Sala Thursday Over 35's League Spring 20
 21\nGame Type: Regular\nGame Status: Complete\nHome Team: Vikingos\nAway T
 eam: Alianza FC\nHome Score: 11\nAway Score: 11
END:VEVENT
BEGIN:VEVENT
UID:13592024@ezleagues.ezfacility.com
DTSTAMP:20260423T203821Z
CREATED:20260423T203821Z
DTSTART:20210625T010000Z
DTEND:20210625T020000Z
LOCATION:Rise Indoor 1
CONTACT:
SUMMARY:Alianza FC VS. Foosball Thruball
DESCRIPTION:League Name: WS Futbol Sala Thursday Over 35's League Spring 20
 21\nGame Type: Regular\nGame Status: Complete\nHome Team: Alianza FC\nAway
  Team: Foosball Thruball\nHome Score: 17\nAway Score: 14
END:VEVENT
BEGIN:VEVENT
UID:13592069@ezleagues.ezfacility.com
DTSTAMP:20260423T203821Z
CREATED:20260423T203821Z
DTSTART:20210702T010000Z
DTEND:20210702T020000Z
LOCATION:Rise Indoor 4
CONTACT:
SUMMARY:Foosball Thruball VS. Alianza FC
DESCRIPTION:League Name: WS Futbol Sala Thursday Over 35's League Spring 20
 21\nGame Type: Regular\nGame Status: Complete\nHome Team: Foosball Thrubal
 l\nAway Team: Alianza FC\nHome Score: 14\nAway Score: 19
END:VEVENT
BEGIN:VEVENT
UID:13758882@ezleagues.ezfacility.com
DTSTAMP:20260423T203821Z
CREATED:20260423T203821Z
DTSTART:20210709T010000Z
DTEND:20210709T020000Z
LOCATION:Rise Indoor 4
CONTACT:
SUMMARY:Alianza FC VS. Casmul
DESCRIPTION:League Name: WS Futbol Sala Thursday Over 35's League Spring 20
 21\nGame Type: Postseason\nGame Status: Complete\nHome Team: Alianza FC\nA
 way Team: Casmul\nHome Score: 5\nAway Score: 8
END:VEVENT
END:VCALENDAR
