BEGIN:VCALENDAR
VERSION:2.0
PRODID:-//EZFacility.com, Inc.//EZL 2.5.5.28621
BEGIN:VEVENT
UID:13598485@ezleagues.ezfacility.com
DTSTAMP:20260420T015238Z
CREATED:20260420T015238Z
DTSTART:20210228T223000Z
DTEND:20210228T233000Z
LOCATION:6v6 Field 2
CONTACT:
SUMMARY:TS Dynamite VS. TS Raptors Green
DESCRIPTION:League Name: U14 Girls Rec Boarded 2nd Session 2021\nGame Type:
  Regular\nGame Status: Complete\nHome Team: TS Dynamite\nAway Team: TS Rap
 tors Green\nHome Score: 2\nAway Score: 5
END:VEVENT
BEGIN:VEVENT
UID:13598489@ezleagues.ezfacility.com
DTSTAMP:20260420T015238Z
CREATED:20260420T015238Z
DTSTART:20210307T173000Z
DTEND:20210307T183000Z
LOCATION:6v6 Field 2
CONTACT:
SUMMARY:TS Dynamite VS. TS Shock
DESCRIPTION:League Name: U14 Girls Rec Boarded 2nd Session 2021\nGame Type:
  Regular\nGame Status: Complete\nHome Team: TS Dynamite\nAway Team: TS Sho
 ck\nHome Score: 10\nAway Score: 2
END:VEVENT
BEGIN:VEVENT
UID:13598493@ezleagues.ezfacility.com
DTSTAMP:20260420T015238Z
CREATED:20260420T015238Z
DTSTART:20210314T190000Z
DTEND:20210314T200000Z
LOCATION:6v6 Field 1
CONTACT:
SUMMARY:TS Dynamite VS. Chargers
DESCRIPTION:League Name: U14 Girls Rec Boarded 2nd Session 2021\nGame Type:
  Regular\nGame Status: Complete\nHome Team: TS Dynamite\nAway Team: Charge
 rs\nHome Score: 2\nAway Score: 7
END:VEVENT
BEGIN:VEVENT
UID:13598513@ezleagues.ezfacility.com
DTSTAMP:20260420T015238Z
CREATED:20260420T015238Z
DTSTART:20210320T203000Z
DTEND:20210320T213000Z
LOCATION:6v6 Field 2
CONTACT:
SUMMARY:TS Raptors Green VS. TS Dynamite
DESCRIPTION:League Name: U14 Girls Rec Boarded 2nd Session 2021\nGame Type:
  Regular\nGame Status: Complete\nHome Team: TS Raptors Green\nAway Team: T
 S Dynamite\nHome Score: 4\nAway Score: 10
END:VEVENT
BEGIN:VEVENT
UID:13598497@ezleagues.ezfacility.com
DTSTAMP:20260420T015238Z
CREATED:20260420T015238Z
DTSTART:20210321T210000Z
DTEND:20210321T220000Z
LOCATION:6v6 Field 1
CONTACT:
SUMMARY:TS Dynamite VS. Spain
DESCRIPTION:League Name: U14 Girls Rec Boarded 2nd Session 2021\nGame Type:
  Regular\nGame Status: Complete\nHome Team: TS Dynamite\nAway Team: Spain\
 nHome Score: 9\nAway Score: 1
END:VEVENT
BEGIN:VEVENT
UID:13598505@ezleagues.ezfacility.com
DTSTAMP:20260420T015238Z
CREATED:20260420T015238Z
DTSTART:20210327T223000Z
DTEND:20210327T233000Z
LOCATION:6v6 Field 2
CONTACT:
SUMMARY:TS Raptors Yellow VS. TS Dynamite
DESCRIPTION:League Name: U14 Girls Rec Boarded 2nd Session 2021\nGame Type:
  Regular\nGame Status: Complete\nHome Team: TS Raptors Yellow\nAway Team: 
 TS Dynamite\nHome Score: 11\nAway Score: 1
END:VEVENT
BEGIN:VEVENT
UID:13598501@ezleagues.ezfacility.com
DTSTAMP:20260420T015238Z
CREATED:20260420T015238Z
DTSTART:20210328T210000Z
DTEND:20210328T220000Z
LOCATION:6v6 Field 1
CONTACT:
SUMMARY:Chargers VS. TS Dynamite
DESCRIPTION:League Name: U14 Girls Rec Boarded 2nd Session 2021\nGame Type:
  Regular\nGame Status: Complete\nHome Team: Chargers\nAway Team: TS Dynami
 te\nHome Score: 8\nAway Score: 3
END:VEVENT
BEGIN:VEVENT
UID:13598509@ezleagues.ezfacility.com
DTSTAMP:20260420T015238Z
CREATED:20260420T015238Z
DTSTART:20210411T193000Z
DTEND:20210411T203000Z
LOCATION:6v6 Field 2
CONTACT:
SUMMARY:TS Vipers VS. TS Dynamite
DESCRIPTION:League Name: U14 Girls Rec Boarded 2nd Session 2021\nGame Type:
  Regular\nGame Status: Complete\nHome Team: TS Vipers\nAway Team: TS Dynam
 ite\nHome Score: 8\nAway Score: 4
END:VEVENT
END:VCALENDAR
