BEGIN:VCALENDAR
VERSION:2.0
PRODID:-//EZFacility.com, Inc.//EZL 2.5.5.28621
BEGIN:VEVENT
UID:13611612@ezleagues.ezfacility.com
DTSTAMP:20260423T132143Z
CREATED:20260423T132143Z
DTSTART:20210412T224000Z
DTEND:20210413T001000Z
LOCATION:WC Field 1
CONTACT:
SUMMARY:Boomer Baseball (Moen) VS. Norwalk Naturals (Sinkler)
DESCRIPTION:League Name: Baseball 08U CBL of Iowa 2021\nGame Type: Regular\
 nGame Status: Pending\nHome Team: Boomer Baseball (Moen)\nAway Team: Norwa
 lk Naturals (Sinkler)\n
END:VEVENT
BEGIN:VEVENT
UID:13611626@ezleagues.ezfacility.com
DTSTAMP:20260423T132143Z
CREATED:20260423T132143Z
DTSTART:20210415T000500Z
DTEND:20210415T013500Z
LOCATION:WC Field 1
CONTACT:
SUMMARY:Waukee Lumberjacks (Albaugh) VS. Boomer Baseball (Moen)
DESCRIPTION:League Name: Baseball 08U CBL of Iowa 2021\nGame Type: Regular\
 nGame Status: Pending\nHome Team: Waukee Lumberjacks (Albaugh)\nAway Team:
  Boomer Baseball (Moen)\n
END:VEVENT
BEGIN:VEVENT
UID:13611598@ezleagues.ezfacility.com
DTSTAMP:20260423T132143Z
CREATED:20260423T132143Z
DTSTART:20210421T000500Z
DTEND:20210421T013500Z
LOCATION:WC Field 3
CONTACT:
SUMMARY:Boomer Baseball (Moen) VS. Iowa Sticks 8U Red
DESCRIPTION:League Name: Baseball 08U CBL of Iowa 2021\nGame Type: Regular\
 nGame Status: Pending\nHome Team: Boomer Baseball (Moen)\nAway Team: Iowa 
 Sticks 8U Red\n
END:VEVENT
BEGIN:VEVENT
UID:13611584@ezleagues.ezfacility.com
DTSTAMP:20260423T132143Z
CREATED:20260423T132143Z
DTSTART:20210505T224000Z
DTEND:20210506T001000Z
LOCATION:HP #8
CONTACT:
SUMMARY:Boomer Baseball (Moen) VS. DCG Stampede (Harrigan)
DESCRIPTION:League Name: Baseball 08U CBL of Iowa 2021\nGame Type: Regular\
 nGame Status: Pending\nHome Team: Boomer Baseball (Moen)\nAway Team: DCG S
 tampede (Harrigan)\n
END:VEVENT
BEGIN:VEVENT
UID:13611591@ezleagues.ezfacility.com
DTSTAMP:20260423T132143Z
CREATED:20260423T132143Z
DTSTART:20210512T224000Z
DTEND:20210513T001000Z
LOCATION:HP #7
CONTACT:
SUMMARY:Boomer Baseball (Moen) VS. Game Ready Black (Bowen)
DESCRIPTION:League Name: Baseball 08U CBL of Iowa 2021\nGame Type: Regular\
 nGame Status: Pending\nHome Team: Boomer Baseball (Moen)\nAway Team: Game 
 Ready Black (Bowen)\n
END:VEVENT
BEGIN:VEVENT
UID:13611647@ezleagues.ezfacility.com
DTSTAMP:20260423T132143Z
CREATED:20260423T132143Z
DTSTART:20210526T002000Z
DTEND:20210526T015000Z
LOCATION:WC Field 1
CONTACT:
SUMMARY:Iowa Sticks 8U White VS. Boomer Baseball (Moen)
DESCRIPTION:League Name: Baseball 08U CBL of Iowa 2021\nGame Type: Regular\
 nGame Status: Pending\nHome Team: Iowa Sticks 8U White\nAway Team: Boomer 
 Baseball (Moen)\n
END:VEVENT
BEGIN:VEVENT
UID:13611640@ezleagues.ezfacility.com
DTSTAMP:20260423T132143Z
CREATED:20260423T132143Z
DTSTART:20210528T224000Z
DTEND:20210529T001000Z
LOCATION:HP #7
CONTACT:
SUMMARY:Iowa T-Bones (LaFleur) VS. Boomer Baseball (Moen)
DESCRIPTION:League Name: Baseball 08U CBL of Iowa 2021\nGame Type: Regular\
 nGame Status: Pending\nHome Team: Iowa T-Bones (LaFleur)\nAway Team: Boome
 r Baseball (Moen)\n
END:VEVENT
BEGIN:VEVENT
UID:13611605@ezleagues.ezfacility.com
DTSTAMP:20260423T132143Z
CREATED:20260423T132143Z
DTSTART:20210603T000500Z
DTEND:20210603T013500Z
LOCATION:HP #8
CONTACT:
SUMMARY:Boomer Baseball (Moen) VS. Iowa Storm (Lewis)
DESCRIPTION:League Name: Baseball 08U CBL of Iowa 2021\nGame Type: Regular\
 nGame Status: Pending\nHome Team: Boomer Baseball (Moen)\nAway Team: Iowa 
 Storm (Lewis)\n
END:VEVENT
BEGIN:VEVENT
UID:13611619@ezleagues.ezfacility.com
DTSTAMP:20260423T132143Z
CREATED:20260423T132143Z
DTSTART:20210604T224000Z
DTEND:20210605T001000Z
LOCATION:HP #8
CONTACT:
SUMMARY:Waukee Force (Ross) VS. Boomer Baseball (Moen)
DESCRIPTION:League Name: Baseball 08U CBL of Iowa 2021\nGame Type: Regular\
 nGame Status: Pending\nHome Team: Waukee Force (Ross)\nAway Team: Boomer B
 aseball (Moen)\n
END:VEVENT
BEGIN:VEVENT
UID:13611633@ezleagues.ezfacility.com
DTSTAMP:20260423T132143Z
CREATED:20260423T132143Z
DTSTART:20210615T000500Z
DTEND:20210615T013500Z
LOCATION:HP #8
CONTACT:
SUMMARY:Norwalk United (Stevens) VS. Boomer Baseball (Moen)
DESCRIPTION:League Name: Baseball 08U CBL of Iowa 2021\nGame Type: Regular\
 nGame Status: Pending\nHome Team: Norwalk United (Stevens)\nAway Team: Boo
 mer Baseball (Moen)\n
END:VEVENT
END:VCALENDAR
