BEGIN:VCALENDAR
VERSION:2.0
PRODID:-//EZFacility.com, Inc.//EZL 2.5.5.28621
BEGIN:VEVENT
UID:13638481@ezleagues.ezfacility.com
DTSTAMP:20260426T035027Z
CREATED:20260426T035027Z
DTSTART:20210324T030000Z
DTEND:20210324T040000Z
LOCATION:Arena
CONTACT:
SUMMARY:Club soloma VS. Labor FC
DESCRIPTION:League Name: Men's Arena Soccer - Spring 2021\nGame Type: Regul
 ar\nGame Status: Complete\nHome Team: Club soloma\nAway Team: Labor FC\nHo
 me Score: 4\nAway Score: 8
END:VEVENT
BEGIN:VEVENT
UID:13638488@ezleagues.ezfacility.com
DTSTAMP:20260426T035027Z
CREATED:20260426T035027Z
DTSTART:20210331T040000Z
DTEND:20210331T050000Z
LOCATION:Arena
CONTACT:
SUMMARY:Club soloma VS. PSG
DESCRIPTION:League Name: Men's Arena Soccer - Spring 2021\nGame Type: Regul
 ar\nGame Status: Complete\nHome Team: Club soloma\nAway Team: PSG\nHome Sc
 ore: 5\nAway Score: 7
END:VEVENT
BEGIN:VEVENT
UID:13638495@ezleagues.ezfacility.com
DTSTAMP:20260426T035027Z
CREATED:20260426T035027Z
DTSTART:20210408T020000Z
DTEND:20210408T030000Z
LOCATION:Arena
CONTACT:
SUMMARY:Club soloma VS. The Shield
DESCRIPTION:League Name: Men's Arena Soccer - Spring 2021\nGame Type: Regul
 ar\nGame Status: Complete\nHome Team: Club soloma\nAway Team: The Shield\n
 Home Score: 6\nAway Score: 3
END:VEVENT
BEGIN:VEVENT
UID:13638502@ezleagues.ezfacility.com
DTSTAMP:20260426T035027Z
CREATED:20260426T035027Z
DTSTART:20210414T040000Z
DTEND:20210414T050000Z
LOCATION:Arena
CONTACT:
SUMMARY:Club soloma VS. Mexico
DESCRIPTION:League Name: Men's Arena Soccer - Spring 2021\nGame Type: Regul
 ar\nGame Status: Complete\nHome Team: Club soloma\nAway Team: Mexico\nHome
  Score: 2\nAway Score: 9
END:VEVENT
BEGIN:VEVENT
UID:13638509@ezleagues.ezfacility.com
DTSTAMP:20260426T035027Z
CREATED:20260426T035027Z
DTSTART:20210422T040000Z
DTEND:20210422T050000Z
LOCATION:Arena
CONTACT:
SUMMARY:Club soloma VS. Justice League
DESCRIPTION:League Name: Men's Arena Soccer - Spring 2021\nGame Type: Regul
 ar\nGame Status: Complete\nHome Team: Club soloma\nAway Team: Justice Leag
 ue\nHome Score: 8\nAway Score: 3
END:VEVENT
BEGIN:VEVENT
UID:13638515@ezleagues.ezfacility.com
DTSTAMP:20260426T035027Z
CREATED:20260426T035027Z
DTSTART:20210429T040000Z
DTEND:20210429T050000Z
LOCATION:Arena
CONTACT:
SUMMARY:Deportivo Ingles VS. Club soloma
DESCRIPTION:League Name: Men's Arena Soccer - Spring 2021\nGame Type: Regul
 ar\nGame Status: Complete\nHome Team: Deportivo Ingles\nAway Team: Club so
 loma\nHome Score: 8\nAway Score: 5
END:VEVENT
BEGIN:VEVENT
UID:13638520@ezleagues.ezfacility.com
DTSTAMP:20260426T035027Z
CREATED:20260426T035027Z
DTSTART:20210506T020000Z
DTEND:20210506T030000Z
LOCATION:Arena
CONTACT:
SUMMARY:Mean Machines VS. Club soloma
DESCRIPTION:League Name: Men's Arena Soccer - Spring 2021\nGame Type: Regul
 ar\nGame Status: Complete\nHome Team: Mean Machines\nAway Team: Club solom
 a\nHome Score: 4\nAway Score: 2
END:VEVENT
BEGIN:VEVENT
UID:13638525@ezleagues.ezfacility.com
DTSTAMP:20260426T035027Z
CREATED:20260426T035027Z
DTSTART:20210513T030000Z
DTEND:20210513T040000Z
LOCATION:Arena
CONTACT:
SUMMARY:The Krew VS. Club soloma
DESCRIPTION:League Name: Men's Arena Soccer - Spring 2021\nGame Type: Regul
 ar\nGame Status: Complete\nHome Team: The Krew\nAway Team: Club soloma\nHo
 me Score: 11\nAway Score: 3
END:VEVENT
BEGIN:VEVENT
UID:13638530@ezleagues.ezfacility.com
DTSTAMP:20260426T035027Z
CREATED:20260426T035027Z
DTSTART:20210519T030000Z
DTEND:20210519T040000Z
LOCATION:Arena
CONTACT:
SUMMARY:Tequileros FC VS. Club soloma
DESCRIPTION:League Name: Men's Arena Soccer - Spring 2021\nGame Type: Regul
 ar\nGame Status: Complete\nHome Team: Tequileros FC\nAway Team: Club solom
 a\nHome Score: 7\nAway Score: 2
END:VEVENT
BEGIN:VEVENT
UID:13638535@ezleagues.ezfacility.com
DTSTAMP:20260426T035027Z
CREATED:20260426T035027Z
DTSTART:20210526T030000Z
DTEND:20210526T040000Z
LOCATION:Arena
CONTACT:
SUMMARY:Liverpool VS. Club soloma
DESCRIPTION:League Name: Men's Arena Soccer - Spring 2021\nGame Type: Regul
 ar\nGame Status: Complete\nHome Team: Liverpool\nAway Team: Club soloma\nH
 ome Score: 11\nAway Score: 1
END:VEVENT
BEGIN:VEVENT
UID:13736926@ezleagues.ezfacility.com
DTSTAMP:20260426T035027Z
CREATED:20260426T035027Z
DTSTART:20210602T010000Z
DTEND:20210602T020000Z
LOCATION:Arena
CONTACT:
SUMMARY:Club soloma VS. The Shield
DESCRIPTION:League Name: Men's Arena Soccer - Spring 2021\nGame Type: Posts
 eason\nGame Status: Complete\nHome Team: Club soloma\nAway Team: The Shiel
 d\nHome Score: 8\nAway Score: 4
END:VEVENT
BEGIN:VEVENT
UID:13736931@ezleagues.ezfacility.com
DTSTAMP:20260426T035027Z
CREATED:20260426T035027Z
DTSTART:20210603T020000Z
DTEND:20210603T030000Z
LOCATION:Arena
CONTACT:
SUMMARY:PSG VS. Club soloma
DESCRIPTION:League Name: Men's Arena Soccer - Spring 2021\nGame Type: Posts
 eason\nGame Status: Complete\nHome Team: PSG\nAway Team: Club soloma\nHome
  Score: 2\nAway Score: 5
END:VEVENT
BEGIN:VEVENT
UID:13736934@ezleagues.ezfacility.com
DTSTAMP:20260426T035027Z
CREATED:20260426T035027Z
DTSTART:20210609T020000Z
DTEND:20210609T030000Z
LOCATION:Arena
CONTACT:
SUMMARY:Chivas FC VS. Club soloma
DESCRIPTION:League Name: Men's Arena Soccer - Spring 2021\nGame Type: Posts
 eason\nGame Status: Complete\nHome Team: Chivas FC\nAway Team: Club soloma
 \nHome Score: 5\nAway Score: 3
END:VEVENT
END:VCALENDAR
