BEGIN:VCALENDAR
VERSION:2.0
PRODID:-//EZFacility.com, Inc.//EZL 2.5.5.28621
BEGIN:VEVENT
UID:13659008@ezleagues.ezfacility.com
DTSTAMP:20260426T034803Z
CREATED:20260426T034803Z
DTSTART:20210323T220000Z
DTEND:20210323T230000Z
LOCATION:Bridgeville RollerPlex
CONTACT:
SUMMARY:Vipers BURKE VS. Practice
DESCRIPTION:League Name: Archive Vipers 2021 WHEELING Division\nGame Type: 
 Practice\nGame Status: Complete\nHome Team: Vipers BURKE\nAway Team: Pract
 ice\nHome Score: 0\nAway Score: 0
END:VEVENT
BEGIN:VEVENT
UID:13659007@ezleagues.ezfacility.com
DTSTAMP:20260426T034803Z
CREATED:20260426T034803Z
DTSTART:20210330T220000Z
DTEND:20210330T230000Z
LOCATION:Bridgeville RollerPlex
CONTACT:
SUMMARY:Vipers BURKE VS. Practice
DESCRIPTION:League Name: Archive Vipers 2021 WHEELING Division\nGame Type: 
 Practice\nGame Status: Complete\nHome Team: Vipers BURKE\nAway Team: Pract
 ice\nHome Score: 0\nAway Score: 0
END:VEVENT
BEGIN:VEVENT
UID:13658781@ezleagues.ezfacility.com
DTSTAMP:20260426T034803Z
CREATED:20260426T034803Z
DTSTART:20210406T220000Z
DTEND:20210406T230000Z
LOCATION:Bridgeville RollerPlex
CONTACT:
SUMMARY:Vipers BURKE VS. Practice
DESCRIPTION:League Name: Archive Vipers 2021 WHEELING Division\nGame Type: 
 Practice\nGame Status: Complete\nHome Team: Vipers BURKE\nAway Team: Pract
 ice\nHome Score: 0\nAway Score: 0
END:VEVENT
BEGIN:VEVENT
UID:13658690@ezleagues.ezfacility.com
DTSTAMP:20260426T034803Z
CREATED:20260426T034803Z
DTSTART:20210410T160000Z
DTEND:20210410T170000Z
LOCATION:Bridgeville RollerPlex
CONTACT:
SUMMARY:Vipers LOKEY VS. Vipers BURKE
DESCRIPTION:League Name: Archive Vipers 2021 WHEELING Division\nGame Type: 
 Regular\nGame Status: Complete\nHome Team: Vipers LOKEY\nAway Team: Vipers
  BURKE\nHome Score: 3\nAway Score: 7
END:VEVENT
BEGIN:VEVENT
UID:13658783@ezleagues.ezfacility.com
DTSTAMP:20260426T034803Z
CREATED:20260426T034803Z
DTSTART:20210413T220000Z
DTEND:20210413T230000Z
LOCATION:Bridgeville RollerPlex
CONTACT:
SUMMARY:Vipers BURKE VS. Practice
DESCRIPTION:League Name: Archive Vipers 2021 WHEELING Division\nGame Type: 
 Practice\nGame Status: Complete\nHome Team: Vipers BURKE\nAway Team: Pract
 ice\nHome Score: 0\nAway Score: 0
END:VEVENT
BEGIN:VEVENT
UID:13658693@ezleagues.ezfacility.com
DTSTAMP:20260426T034803Z
CREATED:20260426T034803Z
DTSTART:20210417T160000Z
DTEND:20210417T170000Z
LOCATION:Bridgeville RollerPlex
CONTACT:
SUMMARY:Vipers BURKE VS. Vipers CARNAHAN
DESCRIPTION:League Name: Archive Vipers 2021 WHEELING Division\nGame Type: 
 Regular\nGame Status: Complete\nHome Team: Vipers BURKE\nAway Team: Vipers
  CARNAHAN\nHome Score: 4\nAway Score: 6
END:VEVENT
BEGIN:VEVENT
UID:13658784@ezleagues.ezfacility.com
DTSTAMP:20260426T034803Z
CREATED:20260426T034803Z
DTSTART:20210420T220000Z
DTEND:20210420T230000Z
LOCATION:Bridgeville RollerPlex
CONTACT:
SUMMARY:Vipers BURKE VS. Practice
DESCRIPTION:League Name: Archive Vipers 2021 WHEELING Division\nGame Type: 
 Practice\nGame Status: Complete\nHome Team: Vipers BURKE\nAway Team: Pract
 ice\nHome Score: 0\nAway Score: 0
END:VEVENT
BEGIN:VEVENT
UID:13658695@ezleagues.ezfacility.com
DTSTAMP:20260426T034803Z
CREATED:20260426T034803Z
DTSTART:20210424T150000Z
DTEND:20210424T160000Z
LOCATION:Bridgeville RollerPlex
CONTACT:
SUMMARY:Vipers BURKE VS. Vipers CARNAHAN
DESCRIPTION:League Name: Archive Vipers 2021 WHEELING Division\nGame Type: 
 Regular\nGame Status: Complete\nHome Team: Vipers BURKE\nAway Team: Vipers
  CARNAHAN\nHome Score: 3\nAway Score: 4
END:VEVENT
BEGIN:VEVENT
UID:13658697@ezleagues.ezfacility.com
DTSTAMP:20260426T034803Z
CREATED:20260426T034803Z
DTSTART:20210424T170000Z
DTEND:20210424T180000Z
LOCATION:Bridgeville RollerPlex
CONTACT:
SUMMARY:Vipers BURKE VS. Vipers LOKEY
DESCRIPTION:League Name: Archive Vipers 2021 WHEELING Division\nGame Type: 
 Regular\nGame Status: Complete\nHome Team: Vipers BURKE\nAway Team: Vipers
  LOKEY\nHome Score: 9\nAway Score: 3
END:VEVENT
BEGIN:VEVENT
UID:13658786@ezleagues.ezfacility.com
DTSTAMP:20260426T034803Z
CREATED:20260426T034803Z
DTSTART:20210427T220000Z
DTEND:20210427T230000Z
LOCATION:Bridgeville RollerPlex
CONTACT:
SUMMARY:Vipers BURKE VS. Practice
DESCRIPTION:League Name: Archive Vipers 2021 WHEELING Division\nGame Type: 
 Practice\nGame Status: Complete\nHome Team: Vipers BURKE\nAway Team: Pract
 ice\nHome Score: 0\nAway Score: 0
END:VEVENT
BEGIN:VEVENT
UID:13658700@ezleagues.ezfacility.com
DTSTAMP:20260426T034803Z
CREATED:20260426T034803Z
DTSTART:20210501T170000Z
DTEND:20210501T180000Z
LOCATION:Bridgeville RollerPlex
CONTACT:
SUMMARY:Vipers JONES VS. Vipers BURKE
DESCRIPTION:League Name: Archive Vipers 2021 WHEELING Division\nGame Type: 
 Regular\nGame Status: Complete\nHome Team: Vipers JONES\nAway Team: Vipers
  BURKE\nHome Score: 5\nAway Score: 8
END:VEVENT
BEGIN:VEVENT
UID:13658788@ezleagues.ezfacility.com
DTSTAMP:20260426T034803Z
CREATED:20260426T034803Z
DTSTART:20210504T220000Z
DTEND:20210504T230000Z
LOCATION:Bridgeville RollerPlex
CONTACT:
SUMMARY:Vipers BURKE VS. Practice
DESCRIPTION:League Name: Archive Vipers 2021 WHEELING Division\nGame Type: 
 Practice\nGame Status: Complete\nHome Team: Vipers BURKE\nAway Team: Pract
 ice\nHome Score: 0\nAway Score: 0
END:VEVENT
BEGIN:VEVENT
UID:13658704@ezleagues.ezfacility.com
DTSTAMP:20260426T034803Z
CREATED:20260426T034803Z
DTSTART:20210508T170000Z
DTEND:20210508T180000Z
LOCATION:Bridgeville RollerPlex
CONTACT:
SUMMARY:Vipers LENHART VS. Vipers BURKE
DESCRIPTION:League Name: Archive Vipers 2021 WHEELING Division\nGame Type: 
 Regular\nGame Status: Complete\nHome Team: Vipers LENHART\nAway Team: Vipe
 rs BURKE\nHome Score: 3\nAway Score: 5
END:VEVENT
BEGIN:VEVENT
UID:13658706@ezleagues.ezfacility.com
DTSTAMP:20260426T034803Z
CREATED:20260426T034803Z
DTSTART:20210510T230000Z
DTEND:20210511T000000Z
LOCATION:Bridgeville RollerPlex
CONTACT:
SUMMARY:Vipers LOKEY VS. Vipers BURKE
DESCRIPTION:League Name: Archive Vipers 2021 WHEELING Division\nGame Type: 
 Regular\nGame Status: Complete\nHome Team: Vipers LOKEY\nAway Team: Vipers
  BURKE\nHome Score: 10\nAway Score: 6
END:VEVENT
BEGIN:VEVENT
UID:13658707@ezleagues.ezfacility.com
DTSTAMP:20260426T034803Z
CREATED:20260426T034803Z
DTSTART:20210511T220000Z
DTEND:20210511T230000Z
LOCATION:Bridgeville RollerPlex
CONTACT:
SUMMARY:Vipers BURKE VS. Vipers LENHART
DESCRIPTION:League Name: Archive Vipers 2021 WHEELING Division\nGame Type: 
 Regular\nGame Status: Complete\nHome Team: Vipers BURKE\nAway Team: Vipers
  LENHART\nHome Score: 12\nAway Score: 0
END:VEVENT
BEGIN:VEVENT
UID:13658709@ezleagues.ezfacility.com
DTSTAMP:20260426T034803Z
CREATED:20260426T034803Z
DTSTART:20210515T160000Z
DTEND:20210515T170000Z
LOCATION:Bridgeville RollerPlex
CONTACT:
SUMMARY:Vipers LENHART VS. Vipers BURKE
DESCRIPTION:League Name: Archive Vipers 2021 WHEELING Division\nGame Type: 
 Regular\nGame Status: Complete\nHome Team: Vipers LENHART\nAway Team: Vipe
 rs BURKE\nHome Score: 6\nAway Score: 2
END:VEVENT
BEGIN:VEVENT
UID:13658713@ezleagues.ezfacility.com
DTSTAMP:20260426T034803Z
CREATED:20260426T034803Z
DTSTART:20210518T220000Z
DTEND:20210518T230000Z
LOCATION:Bridgeville RollerPlex
CONTACT:
SUMMARY:Vipers BURKE VS. Vipers LOKEY
DESCRIPTION:League Name: Archive Vipers 2021 WHEELING Division\nGame Type: 
 Regular\nGame Status: Complete\nHome Team: Vipers BURKE\nAway Team: Vipers
  LOKEY\nHome Score: 4\nAway Score: 6
END:VEVENT
BEGIN:VEVENT
UID:13658715@ezleagues.ezfacility.com
DTSTAMP:20260426T034803Z
CREATED:20260426T034803Z
DTSTART:20210522T160000Z
DTEND:20210522T170000Z
LOCATION:Bridgeville RollerPlex
CONTACT:
SUMMARY:Vipers LOKEY VS. Vipers BURKE
DESCRIPTION:League Name: Archive Vipers 2021 WHEELING Division\nGame Type: 
 Postseason\nGame Status: Complete\nHome Team: Vipers LOKEY\nAway Team: Vip
 ers BURKE\nHome Score: 9\nAway Score: 5
END:VEVENT
BEGIN:VEVENT
UID:13658793@ezleagues.ezfacility.com
DTSTAMP:20260426T034803Z
CREATED:20260426T034803Z
DTSTART:20210525T220000Z
DTEND:20210525T230000Z
LOCATION:Bridgeville RollerPlex
CONTACT:
SUMMARY:Vipers BURKE VS. Practice
DESCRIPTION:League Name: Archive Vipers 2021 WHEELING Division\nGame Type: 
 Practice\nGame Status: Complete\nHome Team: Vipers BURKE\nAway Team: Pract
 ice\nHome Score: 0\nAway Score: 0
END:VEVENT
BEGIN:VEVENT
UID:13658794@ezleagues.ezfacility.com
DTSTAMP:20260426T034803Z
CREATED:20260426T034803Z
DTSTART:20210601T220000Z
DTEND:20210601T230000Z
LOCATION:Bridgeville RollerPlex
CONTACT:
SUMMARY:Vipers BURKE VS. Practice
DESCRIPTION:League Name: Archive Vipers 2021 WHEELING Division\nGame Type: 
 Practice\nGame Status: Complete\nHome Team: Vipers BURKE\nAway Team: Pract
 ice\nHome Score: 0\nAway Score: 0
END:VEVENT
BEGIN:VEVENT
UID:13658718@ezleagues.ezfacility.com
DTSTAMP:20260426T034803Z
CREATED:20260426T034803Z
DTSTART:20210605T160000Z
DTEND:20210605T170000Z
LOCATION:Bridgeville RollerPlex
CONTACT:
SUMMARY:Vipers BURKE VS. Vipers JONES
DESCRIPTION:League Name: Archive Vipers 2021 WHEELING Division\nGame Type: 
 Friendly\nGame Status: Pending\nHome Team: Vipers BURKE\nAway Team: Vipers
  JONES\n
END:VEVENT
BEGIN:VEVENT
UID:13658796@ezleagues.ezfacility.com
DTSTAMP:20260426T034803Z
CREATED:20260426T034803Z
DTSTART:20210608T220000Z
DTEND:20210608T230000Z
LOCATION:Bridgeville RollerPlex
CONTACT:
SUMMARY:Vipers BURKE VS. Practice
DESCRIPTION:League Name: Archive Vipers 2021 WHEELING Division\nGame Type: 
 Practice\nGame Status: Complete\nHome Team: Vipers BURKE\nAway Team: Pract
 ice\nHome Score: 0\nAway Score: 0
END:VEVENT
END:VCALENDAR
