BEGIN:VCALENDAR
VERSION:2.0
PRODID:-//EZFacility.com, Inc.//EZL 2.5.5.28621
BEGIN:VEVENT
UID:13659113@ezleagues.ezfacility.com
DTSTAMP:20260424T232213Z
CREATED:20260424T232213Z
DTSTART:20210405T123000Z
DTEND:20210405T133000Z
LOCATION:Bridgeville RollerPlex
CONTACT:
SUMMARY:Vipers MARSHMAN VS. RMU Opponent
DESCRIPTION:League Name: Archive Vipers 2021 PGH Division\nGame Type: Regul
 ar\nGame Status: Complete\nHome Team: Vipers MARSHMAN\nAway Team: RMU Oppo
 nent\nHome Score: 11\nAway Score: 9
END:VEVENT
BEGIN:VEVENT
UID:13659143@ezleagues.ezfacility.com
DTSTAMP:20260424T232213Z
CREATED:20260424T232213Z
DTSTART:20210407T103000Z
DTEND:20210407T113000Z
LOCATION:Bridgeville RollerPlex
CONTACT:
SUMMARY:Vipers CALLENDER VS. RMU Opponent
DESCRIPTION:League Name: Archive Vipers 2021 PGH Division\nGame Type: Regul
 ar\nGame Status: Complete\nHome Team: Vipers CALLENDER\nAway Team: RMU Opp
 onent\nHome Score: 7\nAway Score: 9
END:VEVENT
BEGIN:VEVENT
UID:13659123@ezleagues.ezfacility.com
DTSTAMP:20260424T232213Z
CREATED:20260424T232213Z
DTSTART:20210413T123000Z
DTEND:20210413T133000Z
LOCATION:Bridgeville RollerPlex
CONTACT:
SUMMARY:Vipers HURST VS. RMU Opponent
DESCRIPTION:League Name: Archive Vipers 2021 PGH Division\nGame Type: Regul
 ar\nGame Status: Complete\nHome Team: Vipers HURST\nAway Team: RMU Opponen
 t\nHome Score: 7\nAway Score: 1
END:VEVENT
BEGIN:VEVENT
UID:13659133@ezleagues.ezfacility.com
DTSTAMP:20260424T232213Z
CREATED:20260424T232213Z
DTSTART:20210414T113000Z
DTEND:20210414T123000Z
LOCATION:Bridgeville RollerPlex
CONTACT:
SUMMARY:Vipers VOLLE VS. RMU Opponent
DESCRIPTION:League Name: Archive Vipers 2021 PGH Division\nGame Type: Regul
 ar\nGame Status: Complete\nHome Team: Vipers VOLLE\nAway Team: RMU Opponen
 t\nHome Score: 8\nAway Score: 3
END:VEVENT
BEGIN:VEVENT
UID:13659153@ezleagues.ezfacility.com
DTSTAMP:20260424T232213Z
CREATED:20260424T232213Z
DTSTART:20210414T113000Z
DTEND:20210414T123000Z
LOCATION:Bridgeville RollerPlex
CONTACT:
SUMMARY:Vipers RIZZARDO VS. RMU Opponent
DESCRIPTION:League Name: Archive Vipers 2021 PGH Division\nGame Type: Regul
 ar\nGame Status: Complete\nHome Team: Vipers RIZZARDO\nAway Team: RMU Oppo
 nent\nHome Score: 4\nAway Score: 9
END:VEVENT
BEGIN:VEVENT
UID:13659163@ezleagues.ezfacility.com
DTSTAMP:20260424T232213Z
CREATED:20260424T232213Z
DTSTART:20210414T113000Z
DTEND:20210414T123000Z
LOCATION:Bridgeville RollerPlex
CONTACT:
SUMMARY:Vipers SEVERIN VS. RMU Opponent
DESCRIPTION:League Name: Archive Vipers 2021 PGH Division\nGame Type: Regul
 ar\nGame Status: Complete\nHome Team: Vipers SEVERIN\nAway Team: RMU Oppon
 ent\nHome Score: 9\nAway Score: 4
END:VEVENT
BEGIN:VEVENT
UID:13659114@ezleagues.ezfacility.com
DTSTAMP:20260424T232213Z
CREATED:20260424T232213Z
DTSTART:20210419T103000Z
DTEND:20210419T113000Z
LOCATION:Bridgeville RollerPlex
CONTACT:
SUMMARY:Vipers MARSHMAN VS. RMU Opponent
DESCRIPTION:League Name: Archive Vipers 2021 PGH Division\nGame Type: Regul
 ar\nGame Status: Complete\nHome Team: Vipers MARSHMAN\nAway Team: RMU Oppo
 nent\nHome Score: 4\nAway Score: 2
END:VEVENT
BEGIN:VEVENT
UID:13659134@ezleagues.ezfacility.com
DTSTAMP:20260424T232213Z
CREATED:20260424T232213Z
DTSTART:20210420T123000Z
DTEND:20210420T133000Z
LOCATION:Bridgeville RollerPlex
CONTACT:
SUMMARY:Vipers VOLLE VS. RMU Opponent
DESCRIPTION:League Name: Archive Vipers 2021 PGH Division\nGame Type: Regul
 ar\nGame Status: Complete\nHome Team: Vipers VOLLE\nAway Team: RMU Opponen
 t\nHome Score: 10\nAway Score: 2
END:VEVENT
BEGIN:VEVENT
UID:13659124@ezleagues.ezfacility.com
DTSTAMP:20260424T232213Z
CREATED:20260424T232213Z
DTSTART:20210421T103000Z
DTEND:20210421T113000Z
LOCATION:Bridgeville RollerPlex
CONTACT:
SUMMARY:Vipers HURST VS. RMU Opponent
DESCRIPTION:League Name: Archive Vipers 2021 PGH Division\nGame Type: Regul
 ar\nGame Status: Complete\nHome Team: Vipers HURST\nAway Team: RMU Opponen
 t\nHome Score: 0\nAway Score: 3
END:VEVENT
BEGIN:VEVENT
UID:13659164@ezleagues.ezfacility.com
DTSTAMP:20260424T232213Z
CREATED:20260424T232213Z
DTSTART:20210421T123000Z
DTEND:20210421T133000Z
LOCATION:Bridgeville RollerPlex
CONTACT:
SUMMARY:Vipers SEVERIN VS. RMU Opponent
DESCRIPTION:League Name: Archive Vipers 2021 PGH Division\nGame Type: Regul
 ar\nGame Status: Complete\nHome Team: Vipers SEVERIN\nAway Team: RMU Oppon
 ent\nHome Score: 10\nAway Score: 5
END:VEVENT
BEGIN:VEVENT
UID:13659154@ezleagues.ezfacility.com
DTSTAMP:20260424T232213Z
CREATED:20260424T232213Z
DTSTART:20210422T103000Z
DTEND:20210422T113000Z
LOCATION:Bridgeville RollerPlex
CONTACT:
SUMMARY:Vipers RIZZARDO VS. RMU Opponent
DESCRIPTION:League Name: Archive Vipers 2021 PGH Division\nGame Type: Regul
 ar\nGame Status: Complete\nHome Team: Vipers RIZZARDO\nAway Team: RMU Oppo
 nent\nHome Score: 9\nAway Score: 5
END:VEVENT
BEGIN:VEVENT
UID:13659144@ezleagues.ezfacility.com
DTSTAMP:20260424T232213Z
CREATED:20260424T232213Z
DTSTART:20210422T113000Z
DTEND:20210422T123000Z
LOCATION:Bridgeville RollerPlex
CONTACT:
SUMMARY:Vipers CALLENDER VS. RMU Opponent
DESCRIPTION:League Name: Archive Vipers 2021 PGH Division\nGame Type: Regul
 ar\nGame Status: Complete\nHome Team: Vipers CALLENDER\nAway Team: RMU Opp
 onent\nHome Score: 3\nAway Score: 5
END:VEVENT
BEGIN:VEVENT
UID:13659115@ezleagues.ezfacility.com
DTSTAMP:20260424T232213Z
CREATED:20260424T232213Z
DTSTART:20210426T103000Z
DTEND:20210426T113000Z
LOCATION:Bridgeville RollerPlex
CONTACT:
SUMMARY:Vipers MARSHMAN VS. RMU Opponent
DESCRIPTION:League Name: Archive Vipers 2021 PGH Division\nGame Type: Regul
 ar\nGame Status: Complete\nHome Team: Vipers MARSHMAN\nAway Team: RMU Oppo
 nent\nHome Score: 2\nAway Score: 9
END:VEVENT
BEGIN:VEVENT
UID:13659135@ezleagues.ezfacility.com
DTSTAMP:20260424T232213Z
CREATED:20260424T232213Z
DTSTART:20210427T113000Z
DTEND:20210427T123000Z
LOCATION:Bridgeville RollerPlex
CONTACT:
SUMMARY:Vipers VOLLE VS. RMU Opponent
DESCRIPTION:League Name: Archive Vipers 2021 PGH Division\nGame Type: Regul
 ar\nGame Status: Complete\nHome Team: Vipers VOLLE\nAway Team: RMU Opponen
 t\nHome Score: 13\nAway Score: 5
END:VEVENT
BEGIN:VEVENT
UID:13659125@ezleagues.ezfacility.com
DTSTAMP:20260424T232213Z
CREATED:20260424T232213Z
DTSTART:20210428T113000Z
DTEND:20210428T123000Z
LOCATION:Bridgeville RollerPlex
CONTACT:
SUMMARY:Vipers HURST VS. RMU Opponent
DESCRIPTION:League Name: Archive Vipers 2021 PGH Division\nGame Type: Regul
 ar\nGame Status: Complete\nHome Team: Vipers HURST\nAway Team: RMU Opponen
 t\nHome Score: 6\nAway Score: 4
END:VEVENT
BEGIN:VEVENT
UID:13659155@ezleagues.ezfacility.com
DTSTAMP:20260424T232213Z
CREATED:20260424T232213Z
DTSTART:20210428T123000Z
DTEND:20210428T133000Z
LOCATION:Bridgeville RollerPlex
CONTACT:
SUMMARY:Vipers RIZZARDO VS. RMU Opponent
DESCRIPTION:League Name: Archive Vipers 2021 PGH Division\nGame Type: Regul
 ar\nGame Status: Postponed\nHome Team: Vipers RIZZARDO\nAway Team: RMU Opp
 onent\n
END:VEVENT
BEGIN:VEVENT
UID:13659165@ezleagues.ezfacility.com
DTSTAMP:20260424T232213Z
CREATED:20260424T232213Z
DTSTART:20210428T123000Z
DTEND:20210428T133000Z
LOCATION:Bridgeville RollerPlex
CONTACT:
SUMMARY:Vipers SEVERIN VS. RMU Opponent
DESCRIPTION:League Name: Archive Vipers 2021 PGH Division\nGame Type: Regul
 ar\nGame Status: Complete\nHome Team: Vipers SEVERIN\nAway Team: RMU Oppon
 ent\nHome Score: 9\nAway Score: 2
END:VEVENT
BEGIN:VEVENT
UID:13659145@ezleagues.ezfacility.com
DTSTAMP:20260424T232213Z
CREATED:20260424T232213Z
DTSTART:20210429T103000Z
DTEND:20210429T113000Z
LOCATION:Bridgeville RollerPlex
CONTACT:
SUMMARY:Vipers CALLENDER VS. RMU Opponent
DESCRIPTION:League Name: Archive Vipers 2021 PGH Division\nGame Type: Regul
 ar\nGame Status: Complete\nHome Team: Vipers CALLENDER\nAway Team: RMU Opp
 onent\nHome Score: 5\nAway Score: 9
END:VEVENT
BEGIN:VEVENT
UID:13659116@ezleagues.ezfacility.com
DTSTAMP:20260424T232213Z
CREATED:20260424T232213Z
DTSTART:20210503T103000Z
DTEND:20210503T113000Z
LOCATION:Bridgeville RollerPlex
CONTACT:
SUMMARY:Vipers MARSHMAN VS. RMU Opponent
DESCRIPTION:League Name: Archive Vipers 2021 PGH Division\nGame Type: Regul
 ar\nGame Status: Postponed\nHome Team: Vipers MARSHMAN\nAway Team: RMU Opp
 onent\n
END:VEVENT
BEGIN:VEVENT
UID:13659136@ezleagues.ezfacility.com
DTSTAMP:20260424T232213Z
CREATED:20260424T232213Z
DTSTART:20210504T113000Z
DTEND:20210504T123000Z
LOCATION:Bridgeville RollerPlex
CONTACT:
SUMMARY:Vipers VOLLE VS. RMU Opponent
DESCRIPTION:League Name: Archive Vipers 2021 PGH Division\nGame Type: Regul
 ar\nGame Status: Postponed\nHome Team: Vipers VOLLE\nAway Team: RMU Oppone
 nt\n
END:VEVENT
BEGIN:VEVENT
UID:13659126@ezleagues.ezfacility.com
DTSTAMP:20260424T232213Z
CREATED:20260424T232213Z
DTSTART:20210504T123000Z
DTEND:20210504T133000Z
LOCATION:Bridgeville RollerPlex
CONTACT:
SUMMARY:Vipers HURST VS. RMU Opponent
DESCRIPTION:League Name: Archive Vipers 2021 PGH Division\nGame Type: Regul
 ar\nGame Status: Rescheduled\nHome Team: Vipers HURST\nAway Team: RMU Oppo
 nent\n
END:VEVENT
BEGIN:VEVENT
UID:13659166@ezleagues.ezfacility.com
DTSTAMP:20260424T232213Z
CREATED:20260424T232213Z
DTSTART:20210505T123000Z
DTEND:20210505T133000Z
LOCATION:Bridgeville RollerPlex
CONTACT:
SUMMARY:Vipers SEVERIN VS. RMU Opponent
DESCRIPTION:League Name: Archive Vipers 2021 PGH Division\nGame Type: Regul
 ar\nGame Status: Complete\nHome Team: Vipers SEVERIN\nAway Team: RMU Oppon
 ent\nHome Score: 7\nAway Score: 1
END:VEVENT
BEGIN:VEVENT
UID:13659156@ezleagues.ezfacility.com
DTSTAMP:20260424T232213Z
CREATED:20260424T232213Z
DTSTART:20210505T123000Z
DTEND:20210505T133000Z
LOCATION:Bridgeville RollerPlex
CONTACT:
SUMMARY:Vipers RIZZARDO VS. RMU Opponent
DESCRIPTION:League Name: Archive Vipers 2021 PGH Division\nGame Type: Regul
 ar\nGame Status: Complete\nHome Team: Vipers RIZZARDO\nAway Team: RMU Oppo
 nent\nHome Score: 6\nAway Score: 2
END:VEVENT
BEGIN:VEVENT
UID:13659146@ezleagues.ezfacility.com
DTSTAMP:20260424T232213Z
CREATED:20260424T232213Z
DTSTART:20210506T123000Z
DTEND:20210506T133000Z
LOCATION:Bridgeville RollerPlex
CONTACT:
SUMMARY:Vipers CALLENDER VS. RMU Opponent
DESCRIPTION:League Name: Archive Vipers 2021 PGH Division\nGame Type: Regul
 ar\nGame Status: Complete\nHome Team: Vipers CALLENDER\nAway Team: RMU Opp
 onent\nHome Score: 3\nAway Score: 5
END:VEVENT
BEGIN:VEVENT
UID:13659117@ezleagues.ezfacility.com
DTSTAMP:20260424T232213Z
CREATED:20260424T232213Z
DTSTART:20210510T113000Z
DTEND:20210510T123000Z
LOCATION:Bridgeville RollerPlex
CONTACT:
SUMMARY:Vipers MARSHMAN VS. RMU Opponent
DESCRIPTION:League Name: Archive Vipers 2021 PGH Division\nGame Type: Regul
 ar\nGame Status: Complete\nHome Team: Vipers MARSHMAN\nAway Team: RMU Oppo
 nent\nHome Score: 6\nAway Score: 7
END:VEVENT
BEGIN:VEVENT
UID:13659127@ezleagues.ezfacility.com
DTSTAMP:20260424T232213Z
CREATED:20260424T232213Z
DTSTART:20210511T123000Z
DTEND:20210511T133000Z
LOCATION:Bridgeville RollerPlex
CONTACT:
SUMMARY:Vipers HURST VS. RMU Opponent
DESCRIPTION:League Name: Archive Vipers 2021 PGH Division\nGame Type: Regul
 ar\nGame Status: Complete\nHome Team: Vipers HURST\nAway Team: RMU Opponen
 t\nHome Score: 11\nAway Score: 3
END:VEVENT
BEGIN:VEVENT
UID:13659157@ezleagues.ezfacility.com
DTSTAMP:20260424T232213Z
CREATED:20260424T232213Z
DTSTART:20210512T113000Z
DTEND:20210512T123000Z
LOCATION:Bridgeville RollerPlex
CONTACT:
SUMMARY:Vipers RIZZARDO VS. RMU Opponent
DESCRIPTION:League Name: Archive Vipers 2021 PGH Division\nGame Type: Regul
 ar\nGame Status: Complete\nHome Team: Vipers RIZZARDO\nAway Team: RMU Oppo
 nent\nHome Score: 6\nAway Score: 6
END:VEVENT
BEGIN:VEVENT
UID:13659167@ezleagues.ezfacility.com
DTSTAMP:20260424T232213Z
CREATED:20260424T232213Z
DTSTART:20210512T113000Z
DTEND:20210512T123000Z
LOCATION:Bridgeville RollerPlex
CONTACT:
SUMMARY:Vipers SEVERIN VS. RMU Opponent
DESCRIPTION:League Name: Archive Vipers 2021 PGH Division\nGame Type: Regul
 ar\nGame Status: Complete\nHome Team: Vipers SEVERIN\nAway Team: RMU Oppon
 ent\nHome Score: 9\nAway Score: 3
END:VEVENT
BEGIN:VEVENT
UID:13659147@ezleagues.ezfacility.com
DTSTAMP:20260424T232213Z
CREATED:20260424T232213Z
DTSTART:20210512T123000Z
DTEND:20210512T133000Z
LOCATION:Bridgeville RollerPlex
CONTACT:
SUMMARY:Vipers CALLENDER VS. RMU Opponent
DESCRIPTION:League Name: Archive Vipers 2021 PGH Division\nGame Type: Regul
 ar\nGame Status: Complete\nHome Team: Vipers CALLENDER\nAway Team: RMU Opp
 onent\nHome Score: 2\nAway Score: 8
END:VEVENT
BEGIN:VEVENT
UID:13659137@ezleagues.ezfacility.com
DTSTAMP:20260424T232213Z
CREATED:20260424T232213Z
DTSTART:20210512T123000Z
DTEND:20210512T133000Z
LOCATION:Bridgeville RollerPlex
CONTACT:
SUMMARY:Vipers VOLLE VS. RMU Opponent
DESCRIPTION:League Name: Archive Vipers 2021 PGH Division\nGame Type: Regul
 ar\nGame Status: Complete\nHome Team: Vipers VOLLE\nAway Team: RMU Opponen
 t\nHome Score: 8\nAway Score: 2
END:VEVENT
BEGIN:VEVENT
UID:13659168@ezleagues.ezfacility.com
DTSTAMP:20260424T232213Z
CREATED:20260424T232213Z
DTSTART:20210519T103000Z
DTEND:20210519T113000Z
LOCATION:Bridgeville RollerPlex
CONTACT:
SUMMARY:Vipers SEVERIN VS. RMU Opponent
DESCRIPTION:League Name: Archive Vipers 2021 PGH Division\nGame Type: Regul
 ar\nGame Status: Pending\nHome Team: Vipers SEVERIN\nAway Team: RMU Oppone
 nt\n
END:VEVENT
BEGIN:VEVENT
UID:13659158@ezleagues.ezfacility.com
DTSTAMP:20260424T232213Z
CREATED:20260424T232213Z
DTSTART:20210519T103000Z
DTEND:20210519T113000Z
LOCATION:Bridgeville RollerPlex
CONTACT:
SUMMARY:Vipers RIZZARDO VS. RMU Opponent
DESCRIPTION:League Name: Archive Vipers 2021 PGH Division\nGame Type: Regul
 ar\nGame Status: Pending\nHome Team: Vipers RIZZARDO\nAway Team: RMU Oppon
 ent\n
END:VEVENT
BEGIN:VEVENT
UID:13659138@ezleagues.ezfacility.com
DTSTAMP:20260424T232213Z
CREATED:20260424T232213Z
DTSTART:20210519T123000Z
DTEND:20210519T133000Z
LOCATION:Bridgeville RollerPlex
CONTACT:
SUMMARY:Vipers VOLLE VS. RMU Opponent
DESCRIPTION:League Name: Archive Vipers 2021 PGH Division\nGame Type: Regul
 ar\nGame Status: Pending\nHome Team: Vipers VOLLE\nAway Team: RMU Opponent
 \n
END:VEVENT
BEGIN:VEVENT
UID:13659148@ezleagues.ezfacility.com
DTSTAMP:20260424T232213Z
CREATED:20260424T232213Z
DTSTART:20210520T113000Z
DTEND:20210520T123000Z
LOCATION:Bridgeville RollerPlex
CONTACT:
SUMMARY:Vipers CALLENDER VS. RMU Opponent
DESCRIPTION:League Name: Archive Vipers 2021 PGH Division\nGame Type: Regul
 ar\nGame Status: Pending\nHome Team: Vipers CALLENDER\nAway Team: RMU Oppo
 nent\n
END:VEVENT
BEGIN:VEVENT
UID:13659118@ezleagues.ezfacility.com
DTSTAMP:20260424T232213Z
CREATED:20260424T232213Z
DTSTART:20210524T103000Z
DTEND:20210524T113000Z
LOCATION:Bridgeville RollerPlex
CONTACT:
SUMMARY:Vipers MARSHMAN VS. RMU Opponent
DESCRIPTION:League Name: Archive Vipers 2021 PGH Division\nGame Type: Regul
 ar\nGame Status: Pending\nHome Team: Vipers MARSHMAN\nAway Team: RMU Oppon
 ent\n
END:VEVENT
BEGIN:VEVENT
UID:13659110@ezleagues.ezfacility.com
DTSTAMP:20260424T232213Z
CREATED:20260424T232213Z
DTSTART:20210524T123000Z
DTEND:20210524T133000Z
LOCATION:Bridgeville RollerPlex
CONTACT:
SUMMARY:Vipers SEVERIN VS. RMU Opponent
DESCRIPTION:League Name: Archive Vipers 2021 PGH Division\nGame Type: Pract
 ice\nGame Status: Pending\nHome Team: Vipers SEVERIN\nAway Team: RMU Oppon
 ent\n
END:VEVENT
BEGIN:VEVENT
UID:13659128@ezleagues.ezfacility.com
DTSTAMP:20260424T232213Z
CREATED:20260424T232213Z
DTSTART:20210525T123000Z
DTEND:20210525T133000Z
LOCATION:Bridgeville RollerPlex
CONTACT:
SUMMARY:Vipers HURST VS. RMU Opponent
DESCRIPTION:League Name: Archive Vipers 2021 PGH Division\nGame Type: Regul
 ar\nGame Status: Pending\nHome Team: Vipers HURST\nAway Team: RMU Opponent
 \n
END:VEVENT
BEGIN:VEVENT
UID:13659129@ezleagues.ezfacility.com
DTSTAMP:20260424T232213Z
CREATED:20260424T232213Z
DTSTART:20210526T103000Z
DTEND:20210526T113000Z
LOCATION:Bridgeville RollerPlex
CONTACT:
SUMMARY:Vipers HURST VS. RMU Opponent
DESCRIPTION:League Name: Archive Vipers 2021 PGH Division\nGame Type: Regul
 ar\nGame Status: Pending\nHome Team: Vipers HURST\nAway Team: RMU Opponent
 \n
END:VEVENT
BEGIN:VEVENT
UID:13659149@ezleagues.ezfacility.com
DTSTAMP:20260424T232213Z
CREATED:20260424T232213Z
DTSTART:20210526T123000Z
DTEND:20210526T133000Z
LOCATION:Bridgeville RollerPlex
CONTACT:
SUMMARY:Vipers CALLENDER VS. RMU Opponent
DESCRIPTION:League Name: Archive Vipers 2021 PGH Division\nGame Type: Regul
 ar\nGame Status: Pending\nHome Team: Vipers CALLENDER\nAway Team: RMU Oppo
 nent\n
END:VEVENT
BEGIN:VEVENT
UID:13659139@ezleagues.ezfacility.com
DTSTAMP:20260424T232213Z
CREATED:20260424T232213Z
DTSTART:20210526T123000Z
DTEND:20210526T133000Z
LOCATION:Bridgeville RollerPlex
CONTACT:
SUMMARY:Vipers VOLLE VS. RMU Opponent
DESCRIPTION:League Name: Archive Vipers 2021 PGH Division\nGame Type: Regul
 ar\nGame Status: Pending\nHome Team: Vipers VOLLE\nAway Team: RMU Opponent
 \n
END:VEVENT
BEGIN:VEVENT
UID:13659159@ezleagues.ezfacility.com
DTSTAMP:20260424T232213Z
CREATED:20260424T232213Z
DTSTART:20210527T113000Z
DTEND:20210527T123000Z
LOCATION:Bridgeville RollerPlex
CONTACT:
SUMMARY:Vipers RIZZARDO VS. RMU Opponent
DESCRIPTION:League Name: Archive Vipers 2021 PGH Division\nGame Type: Regul
 ar\nGame Status: Pending\nHome Team: Vipers RIZZARDO\nAway Team: RMU Oppon
 ent\n
END:VEVENT
BEGIN:VEVENT
UID:13659169@ezleagues.ezfacility.com
DTSTAMP:20260424T232213Z
CREATED:20260424T232213Z
DTSTART:20210527T123000Z
DTEND:20210527T133000Z
LOCATION:Bridgeville RollerPlex
CONTACT:
SUMMARY:Vipers SEVERIN VS. RMU Opponent
DESCRIPTION:League Name: Archive Vipers 2021 PGH Division\nGame Type: Regul
 ar\nGame Status: Pending\nHome Team: Vipers SEVERIN\nAway Team: RMU Oppone
 nt\n
END:VEVENT
BEGIN:VEVENT
UID:13659140@ezleagues.ezfacility.com
DTSTAMP:20260424T232213Z
CREATED:20260424T232213Z
DTSTART:20210601T123000Z
DTEND:20210601T133000Z
LOCATION:Bridgeville RollerPlex
CONTACT:
SUMMARY:Vipers VOLLE VS. RMU Opponent
DESCRIPTION:League Name: Archive Vipers 2021 PGH Division\nGame Type: Regul
 ar\nGame Status: Pending\nHome Team: Vipers VOLLE\nAway Team: RMU Opponent
 \n
END:VEVENT
BEGIN:VEVENT
UID:13659111@ezleagues.ezfacility.com
DTSTAMP:20260424T232213Z
CREATED:20260424T232213Z
DTSTART:20210601T233000Z
DTEND:20210602T003000Z
LOCATION:Bridgeville RollerPlex
CONTACT:
SUMMARY:Vipers SEVERIN VS. RMU Opponent
DESCRIPTION:League Name: Archive Vipers 2021 PGH Division\nGame Type: Pract
 ice\nGame Status: Pending\nHome Team: Vipers SEVERIN\nAway Team: RMU Oppon
 ent\n
END:VEVENT
BEGIN:VEVENT
UID:13659130@ezleagues.ezfacility.com
DTSTAMP:20260424T232213Z
CREATED:20260424T232213Z
DTSTART:20210602T113000Z
DTEND:20210602T123000Z
LOCATION:Bridgeville RollerPlex
CONTACT:
SUMMARY:Vipers HURST VS. RMU Opponent
DESCRIPTION:League Name: Archive Vipers 2021 PGH Division\nGame Type: Regul
 ar\nGame Status: Pending\nHome Team: Vipers HURST\nAway Team: RMU Opponent
 \n
END:VEVENT
BEGIN:VEVENT
UID:13659150@ezleagues.ezfacility.com
DTSTAMP:20260424T232213Z
CREATED:20260424T232213Z
DTSTART:20210603T103000Z
DTEND:20210603T113000Z
LOCATION:Bridgeville RollerPlex
CONTACT:
SUMMARY:Vipers CALLENDER VS. RMU Opponent
DESCRIPTION:League Name: Archive Vipers 2021 PGH Division\nGame Type: Regul
 ar\nGame Status: Pending\nHome Team: Vipers CALLENDER\nAway Team: RMU Oppo
 nent\n
END:VEVENT
BEGIN:VEVENT
UID:13659160@ezleagues.ezfacility.com
DTSTAMP:20260424T232213Z
CREATED:20260424T232213Z
DTSTART:20210603T123000Z
DTEND:20210603T133000Z
LOCATION:Bridgeville RollerPlex
CONTACT:
SUMMARY:Vipers RIZZARDO VS. RMU Opponent
DESCRIPTION:League Name: Archive Vipers 2021 PGH Division\nGame Type: Regul
 ar\nGame Status: Pending\nHome Team: Vipers RIZZARDO\nAway Team: RMU Oppon
 ent\n
END:VEVENT
BEGIN:VEVENT
UID:13659119@ezleagues.ezfacility.com
DTSTAMP:20260424T232213Z
CREATED:20260424T232213Z
DTSTART:20210607T103000Z
DTEND:20210607T113000Z
LOCATION:Bridgeville RollerPlex
CONTACT:
SUMMARY:Vipers MARSHMAN VS. RMU Opponent
DESCRIPTION:League Name: Archive Vipers 2021 PGH Division\nGame Type: Regul
 ar\nGame Status: Pending\nHome Team: Vipers MARSHMAN\nAway Team: RMU Oppon
 ent\n
END:VEVENT
BEGIN:VEVENT
UID:13659131@ezleagues.ezfacility.com
DTSTAMP:20260424T232213Z
CREATED:20260424T232213Z
DTSTART:20210607T123000Z
DTEND:20210607T133000Z
LOCATION:Bridgeville RollerPlex
CONTACT:
SUMMARY:Vipers HURST VS. RMU Opponent
DESCRIPTION:League Name: Archive Vipers 2021 PGH Division\nGame Type: Regul
 ar\nGame Status: Pending\nHome Team: Vipers HURST\nAway Team: RMU Opponent
 \n
END:VEVENT
BEGIN:VEVENT
UID:13659170@ezleagues.ezfacility.com
DTSTAMP:20260424T232213Z
CREATED:20260424T232213Z
DTSTART:20210608T103000Z
DTEND:20210608T113000Z
LOCATION:Bridgeville RollerPlex
CONTACT:
SUMMARY:Vipers SEVERIN VS. RMU Opponent
DESCRIPTION:League Name: Archive Vipers 2021 PGH Division\nGame Type: Regul
 ar\nGame Status: Cancelled\nHome Team: Vipers SEVERIN\nAway Team: RMU Oppo
 nent\n
END:VEVENT
BEGIN:VEVENT
UID:13659171@ezleagues.ezfacility.com
DTSTAMP:20260424T232213Z
CREATED:20260424T232213Z
DTSTART:20210609T103000Z
DTEND:20210609T113000Z
LOCATION:Bridgeville RollerPlex
CONTACT:
SUMMARY:Vipers SEVERIN VS. RMU Opponent
DESCRIPTION:League Name: Archive Vipers 2021 PGH Division\nGame Type: Regul
 ar\nGame Status: Pending\nHome Team: Vipers SEVERIN\nAway Team: RMU Oppone
 nt\n
END:VEVENT
BEGIN:VEVENT
UID:13659161@ezleagues.ezfacility.com
DTSTAMP:20260424T232213Z
CREATED:20260424T232213Z
DTSTART:20210609T113000Z
DTEND:20210609T123000Z
LOCATION:Bridgeville RollerPlex
CONTACT:
SUMMARY:Vipers RIZZARDO VS. RMU Opponent
DESCRIPTION:League Name: Archive Vipers 2021 PGH Division\nGame Type: Regul
 ar\nGame Status: Pending\nHome Team: Vipers RIZZARDO\nAway Team: RMU Oppon
 ent\n
END:VEVENT
BEGIN:VEVENT
UID:13659151@ezleagues.ezfacility.com
DTSTAMP:20260424T232213Z
CREATED:20260424T232213Z
DTSTART:20210610T113000Z
DTEND:20210610T123000Z
LOCATION:Bridgeville RollerPlex
CONTACT:
SUMMARY:Vipers CALLENDER VS. RMU Opponent
DESCRIPTION:League Name: Archive Vipers 2021 PGH Division\nGame Type: Regul
 ar\nGame Status: Pending\nHome Team: Vipers CALLENDER\nAway Team: RMU Oppo
 nent\n
END:VEVENT
BEGIN:VEVENT
UID:13659120@ezleagues.ezfacility.com
DTSTAMP:20260424T232213Z
CREATED:20260424T232213Z
DTSTART:20210614T113000Z
DTEND:20210614T123000Z
LOCATION:Bridgeville RollerPlex
CONTACT:
SUMMARY:Vipers MARSHMAN VS. RMU Opponent
DESCRIPTION:League Name: Archive Vipers 2021 PGH Division\nGame Type: Regul
 ar\nGame Status: Pending\nHome Team: Vipers MARSHMAN\nAway Team: RMU Oppon
 ent\n
END:VEVENT
BEGIN:VEVENT
UID:13659141@ezleagues.ezfacility.com
DTSTAMP:20260424T232213Z
CREATED:20260424T232213Z
DTSTART:20210615T113000Z
DTEND:20210615T123000Z
LOCATION:Bridgeville RollerPlex
CONTACT:
SUMMARY:Vipers VOLLE VS. RMU Opponent
DESCRIPTION:League Name: Archive Vipers 2021 PGH Division\nGame Type: Regul
 ar\nGame Status: Pending\nHome Team: Vipers VOLLE\nAway Team: RMU Opponent
 \n
END:VEVENT
BEGIN:VEVENT
UID:13659132@ezleagues.ezfacility.com
DTSTAMP:20260424T232213Z
CREATED:20260424T232213Z
DTSTART:20210616T113000Z
DTEND:20210616T123000Z
LOCATION:Bridgeville RollerPlex
CONTACT:
SUMMARY:Vipers HURST VS. RMU Opponent
DESCRIPTION:League Name: Archive Vipers 2021 PGH Division\nGame Type: Regul
 ar\nGame Status: Pending\nHome Team: Vipers HURST\nAway Team: RMU Opponent
 \n
END:VEVENT
BEGIN:VEVENT
UID:13659142@ezleagues.ezfacility.com
DTSTAMP:20260424T232213Z
CREATED:20260424T232213Z
DTSTART:20210616T123000Z
DTEND:20210616T133000Z
LOCATION:Bridgeville RollerPlex
CONTACT:
SUMMARY:Vipers VOLLE VS. RMU Opponent
DESCRIPTION:League Name: Archive Vipers 2021 PGH Division\nGame Type: Regul
 ar\nGame Status: Pending\nHome Team: Vipers VOLLE\nAway Team: RMU Opponent
 \n
END:VEVENT
BEGIN:VEVENT
UID:13659152@ezleagues.ezfacility.com
DTSTAMP:20260424T232213Z
CREATED:20260424T232213Z
DTSTART:20210616T123000Z
DTEND:20210616T133000Z
LOCATION:Bridgeville RollerPlex
CONTACT:
SUMMARY:Vipers CALLENDER VS. RMU Opponent
DESCRIPTION:League Name: Archive Vipers 2021 PGH Division\nGame Type: Regul
 ar\nGame Status: Pending\nHome Team: Vipers CALLENDER\nAway Team: RMU Oppo
 nent\n
END:VEVENT
BEGIN:VEVENT
UID:13659172@ezleagues.ezfacility.com
DTSTAMP:20260424T232213Z
CREATED:20260424T232213Z
DTSTART:20210617T103000Z
DTEND:20210617T113000Z
LOCATION:Bridgeville RollerPlex
CONTACT:
SUMMARY:Vipers SEVERIN VS. RMU Opponent
DESCRIPTION:League Name: Archive Vipers 2021 PGH Division\nGame Type: Regul
 ar\nGame Status: Pending\nHome Team: Vipers SEVERIN\nAway Team: RMU Oppone
 nt\n
END:VEVENT
BEGIN:VEVENT
UID:13659162@ezleagues.ezfacility.com
DTSTAMP:20260424T232213Z
CREATED:20260424T232213Z
DTSTART:20210617T113000Z
DTEND:20210617T123000Z
LOCATION:Bridgeville RollerPlex
CONTACT:
SUMMARY:Vipers RIZZARDO VS. RMU Opponent
DESCRIPTION:League Name: Archive Vipers 2021 PGH Division\nGame Type: Regul
 ar\nGame Status: Pending\nHome Team: Vipers RIZZARDO\nAway Team: RMU Oppon
 ent\n
END:VEVENT
BEGIN:VEVENT
UID:13735877@ezleagues.ezfacility.com
DTSTAMP:20260424T232213Z
CREATED:20260424T232213Z
DTSTART:20210617T123000Z
DTEND:20210617T133000Z
LOCATION:Bridgeville RollerPlex
CONTACT:
SUMMARY:Vipers HURST VS. RMU Opponent
DESCRIPTION:League Name: Archive Vipers 2021 PGH Division\nGame Type: Regul
 ar\nGame Status: Pending\nHome Team: Vipers HURST\nAway Team: RMU Opponent
 \n
END:VEVENT
BEGIN:VEVENT
UID:13659121@ezleagues.ezfacility.com
DTSTAMP:20260424T232213Z
CREATED:20260424T232213Z
DTSTART:20210621T103000Z
DTEND:20210621T113000Z
LOCATION:Bridgeville RollerPlex
CONTACT:
SUMMARY:Vipers MARSHMAN VS. RMU Opponent
DESCRIPTION:League Name: Archive Vipers 2021 PGH Division\nGame Type: Regul
 ar\nGame Status: Pending\nHome Team: Vipers MARSHMAN\nAway Team: RMU Oppon
 ent\n
END:VEVENT
BEGIN:VEVENT
UID:13659122@ezleagues.ezfacility.com
DTSTAMP:20260424T232213Z
CREATED:20260424T232213Z
DTSTART:20210622T113000Z
DTEND:20210622T123000Z
LOCATION:Bridgeville RollerPlex
CONTACT:
SUMMARY:Vipers MARSHMAN VS. RMU Opponent
DESCRIPTION:League Name: Archive Vipers 2021 PGH Division\nGame Type: Regul
 ar\nGame Status: Pending\nHome Team: Vipers MARSHMAN\nAway Team: RMU Oppon
 ent\n
END:VEVENT
BEGIN:VEVENT
UID:13786392@ezleagues.ezfacility.com
DTSTAMP:20260424T232213Z
CREATED:20260424T232213Z
DTSTART:20210624T230000Z
DTEND:20210625T000000Z
LOCATION:Bridgeville RollerPlex
CONTACT:
SUMMARY:Vipers HURST VS. RMU Opponent
DESCRIPTION:League Name: Archive Vipers 2021 PGH Division\nGame Type: Pract
 ice\nGame Status: Pending\nHome Team: Vipers HURST\nAway Team: RMU Opponen
 t\n
END:VEVENT
BEGIN:VEVENT
UID:13786397@ezleagues.ezfacility.com
DTSTAMP:20260424T232213Z
CREATED:20260424T232213Z
DTSTART:20210624T230000Z
DTEND:20210625T000000Z
LOCATION:Bridgeville RollerPlex
CONTACT:
SUMMARY:Vipers VOLLE VS. RMU Opponent
DESCRIPTION:League Name: Archive Vipers 2021 PGH Division\nGame Type: Pract
 ice\nGame Status: Pending\nHome Team: Vipers VOLLE\nAway Team: RMU Opponen
 t\n
END:VEVENT
BEGIN:VEVENT
UID:13786388@ezleagues.ezfacility.com
DTSTAMP:20260424T232213Z
CREATED:20260424T232213Z
DTSTART:20210626T140000Z
DTEND:20210626T150000Z
LOCATION:Bridgeville RollerPlex
CONTACT:
SUMMARY:Vipers RIZZARDO VS. RMU Opponent
DESCRIPTION:League Name: Archive Vipers 2021 PGH Division\nGame Type: Pract
 ice\nGame Status: Pending\nHome Team: Vipers RIZZARDO\nAway Team: RMU Oppo
 nent\n
END:VEVENT
BEGIN:VEVENT
UID:13786389@ezleagues.ezfacility.com
DTSTAMP:20260424T232213Z
CREATED:20260424T232213Z
DTSTART:20210626T140000Z
DTEND:20210626T150000Z
LOCATION:Bridgeville RollerPlex
CONTACT:
SUMMARY:Vipers CALLENDER VS. RMU Opponent
DESCRIPTION:League Name: Archive Vipers 2021 PGH Division\nGame Type: Pract
 ice\nGame Status: Pending\nHome Team: Vipers CALLENDER\nAway Team: RMU Opp
 onent\n
END:VEVENT
BEGIN:VEVENT
UID:13786390@ezleagues.ezfacility.com
DTSTAMP:20260424T232213Z
CREATED:20260424T232213Z
DTSTART:20210626T140000Z
DTEND:20210626T150000Z
LOCATION:Bridgeville RollerPlex
CONTACT:
SUMMARY:Vipers VOLLE VS. RMU Opponent
DESCRIPTION:League Name: Archive Vipers 2021 PGH Division\nGame Type: Pract
 ice\nGame Status: Pending\nHome Team: Vipers VOLLE\nAway Team: RMU Opponen
 t\n
END:VEVENT
BEGIN:VEVENT
UID:13786391@ezleagues.ezfacility.com
DTSTAMP:20260424T232213Z
CREATED:20260424T232213Z
DTSTART:20210626T140000Z
DTEND:20210626T150000Z
LOCATION:Bridgeville RollerPlex
CONTACT:
SUMMARY:Vipers SEVERIN VS. RMU Opponent
DESCRIPTION:League Name: Archive Vipers 2021 PGH Division\nGame Type: Pract
 ice\nGame Status: Pending\nHome Team: Vipers SEVERIN\nAway Team: RMU Oppon
 ent\n
END:VEVENT
END:VCALENDAR
