BEGIN:VCALENDAR
VERSION:2.0
PRODID:-//EZFacility.com, Inc.//EZL 2.5.5.28621
BEGIN:VEVENT
UID:13693378@ezleagues.ezfacility.com
DTSTAMP:20260424T044341Z
CREATED:20260424T044341Z
DTSTART:20210503T000000Z
DTEND:20210503T010000Z
LOCATION:Basketball\, Court 1
CONTACT:
SUMMARY:Lingo (B) VS. Hollywood Ballers (B)
DESCRIPTION:League Name: Sunday Mens Basketball. Spring 2021\nGame Type: Re
 gular\nGame Status: Complete\nHome Team: Lingo (B)\nAway Team: Hollywood B
 allers (B)\nHome Score: 0\nAway Score: 50
END:VEVENT
BEGIN:VEVENT
UID:13715039@ezleagues.ezfacility.com
DTSTAMP:20260424T044341Z
CREATED:20260424T044341Z
DTSTART:20210516T220000Z
DTEND:20210516T230000Z
LOCATION:Basketball\, Court 1
CONTACT:
SUMMARY:The Mob (B)  VS. Lingo (B)
DESCRIPTION:League Name: Sunday Mens Basketball. Spring 2021\nGame Type: Re
 gular\nGame Status: Complete\nHome Team: The Mob (B) \nAway Team: Lingo (B
 )\nHome Score: 0\nAway Score: 50
END:VEVENT
BEGIN:VEVENT
UID:13713425@ezleagues.ezfacility.com
DTSTAMP:20260424T044341Z
CREATED:20260424T044341Z
DTSTART:20210523T220000Z
DTEND:20210523T230000Z
LOCATION:Basketball\, Court 1
CONTACT:
SUMMARY:Lingo (B) VS. Same Hustle New Money (B)
DESCRIPTION:League Name: Sunday Mens Basketball. Spring 2021\nGame Type: Re
 gular\nGame Status: Complete\nHome Team: Lingo (B)\nAway Team: Same Hustle
  New Money (B)\nHome Score: 49\nAway Score: 47
END:VEVENT
BEGIN:VEVENT
UID:13715061@ezleagues.ezfacility.com
DTSTAMP:20260424T044341Z
CREATED:20260424T044341Z
DTSTART:20210607T000000Z
DTEND:20210607T010000Z
LOCATION:Basketball\, Court 1
CONTACT:
SUMMARY:Lingo (B) VS. The Boyz (B)
DESCRIPTION:League Name: Sunday Mens Basketball. Spring 2021\nGame Type: Re
 gular\nGame Status: Complete\nHome Team: Lingo (B)\nAway Team: The Boyz (B
 )\nHome Score: 50\nAway Score: 44
END:VEVENT
BEGIN:VEVENT
UID:13715066@ezleagues.ezfacility.com
DTSTAMP:20260424T044341Z
CREATED:20260424T044341Z
DTSTART:20210613T230000Z
DTEND:20210614T000000Z
LOCATION:Basketball\, Court 3
CONTACT:
SUMMARY:Lingo (B) VS. Beloved (G)
DESCRIPTION:League Name: Sunday Mens Basketball. Spring 2021\nGame Type: Re
 gular\nGame Status: Complete\nHome Team: Lingo (B)\nAway Team: Beloved (G)
 \nHome Score: 57\nAway Score: 65
END:VEVENT
BEGIN:VEVENT
UID:13715077@ezleagues.ezfacility.com
DTSTAMP:20260424T044341Z
CREATED:20260424T044341Z
DTSTART:20210627T230000Z
DTEND:20210628T000000Z
LOCATION:Basketball\, Court 1
CONTACT:
SUMMARY:Lingo (B) VS. By Chance (G)
DESCRIPTION:League Name: Sunday Mens Basketball. Spring 2021\nGame Type: Re
 gular\nGame Status: Complete\nHome Team: Lingo (B)\nAway Team: By Chance (
 G)\nHome Score: 65\nAway Score: 63
END:VEVENT
BEGIN:VEVENT
UID:13773382@ezleagues.ezfacility.com
DTSTAMP:20260424T044341Z
CREATED:20260424T044341Z
DTSTART:20210712T000000Z
DTEND:20210712T010000Z
LOCATION:Basketball\, Court 1
CONTACT:
SUMMARY:Fastnal Blue Sports Team (G)  VS. Lingo (B)
DESCRIPTION:League Name: Sunday Mens Basketball. Spring 2021\nGame Type: Re
 gular\nGame Status: Complete\nHome Team: Fastnal Blue Sports Team (G) \nAw
 ay Team: Lingo (B)\nHome Score: 53\nAway Score: 51
END:VEVENT
BEGIN:VEVENT
UID:13715074@ezleagues.ezfacility.com
DTSTAMP:20260424T044341Z
CREATED:20260424T044341Z
DTSTART:20210718T220000Z
DTEND:20210718T230000Z
LOCATION:Basketball\, Court 3
CONTACT:
SUMMARY:4PF (G)  VS. Lingo (B)
DESCRIPTION:League Name: Sunday Mens Basketball. Spring 2021\nGame Type: Re
 gular\nGame Status: Complete\nHome Team: 4PF (G) \nAway Team: Lingo (B)\nH
 ome Score: 59\nAway Score: 51
END:VEVENT
BEGIN:VEVENT
UID:13826869@ezleagues.ezfacility.com
DTSTAMP:20260424T044341Z
CREATED:20260424T044341Z
DTSTART:20210725T220000Z
DTEND:20210725T230000Z
LOCATION:Basketball\, Court 3
CONTACT:
SUMMARY:Lingo (B) VS. Same Hustle New Money (B)
DESCRIPTION:League Name: Sunday Mens Basketball. Spring 2021\nGame Type: Re
 gular\nGame Status: Complete\nHome Team: Lingo (B)\nAway Team: Same Hustle
  New Money (B)\nHome Score: 49\nAway Score: 51
END:VEVENT
END:VCALENDAR
