BEGIN:VCALENDAR
VERSION:2.0
PRODID:-//EZFacility.com, Inc.//EZL 2.5.5.28621
BEGIN:VEVENT
UID:13713695@ezleagues.ezfacility.com
DTSTAMP:20260424T101322Z
CREATED:20260424T101322Z
DTSTART:20210512T000500Z
DTEND:20210512T010500Z
LOCATION:VA Army National Guard Field 2
CONTACT:Martin
SUMMARY:JLRG VS. Monkeys 7.24
DESCRIPTION:League Name: May 4, 2021 Tuesday Men's Open\nGame Type: Regular
 \nGame Status: Complete\nHome Team: JLRG\nAway Team: Monkeys 7.24\nHome Sc
 ore: 10\nAway Score: 9
END:VEVENT
BEGIN:VEVENT
UID:13718409@ezleagues.ezfacility.com
DTSTAMP:20260424T101322Z
CREATED:20260424T101322Z
DTSTART:20210526T011000Z
DTEND:20210526T021000Z
LOCATION:VA Army National Guard Field 2
CONTACT:Martinez
SUMMARY:Monkeys 7.24 VS. Los Cuervos
DESCRIPTION:League Name: May 4, 2021 Tuesday Men's Open\nGame Type: Regular
 \nGame Status: Complete\nHome Team: Monkeys 7.24\nAway Team: Los Cuervos\n
 Home Score: 7\nAway Score: 10
END:VEVENT
BEGIN:VEVENT
UID:13718410@ezleagues.ezfacility.com
DTSTAMP:20260424T101322Z
CREATED:20260424T101322Z
DTSTART:20210526T021500Z
DTEND:20210526T031500Z
LOCATION:VA Army National Guard Field 2
CONTACT:Martinez
SUMMARY:Thundercats VS. Monkeys 7.24
DESCRIPTION:League Name: May 4, 2021 Tuesday Men's Open\nGame Type: Regular
 \nGame Status: Complete\nHome Team: Thundercats\nAway Team: Monkeys 7.24\n
 Home Score: 12\nAway Score: 11
END:VEVENT
BEGIN:VEVENT
UID:13718414@ezleagues.ezfacility.com
DTSTAMP:20260424T101322Z
CREATED:20260424T101322Z
DTSTART:20210602T011000Z
DTEND:20210602T021000Z
LOCATION:VA Army National Guard Field 2
CONTACT:Elinan
SUMMARY:Inter VS. Monkeys 7.24
DESCRIPTION:League Name: May 4, 2021 Tuesday Men's Open\nGame Type: Regular
 \nGame Status: Complete\nHome Team: Inter\nAway Team: Monkeys 7.24\nHome S
 core: 7\nAway Score: 5
END:VEVENT
BEGIN:VEVENT
UID:13718526@ezleagues.ezfacility.com
DTSTAMP:20260424T101322Z
CREATED:20260424T101322Z
DTSTART:20210609T011000Z
DTEND:20210609T021000Z
LOCATION:VA Army National Guard Field 2
CONTACT:
SUMMARY:Monkeys 7.24 VS. The Futbol Team
DESCRIPTION:League Name: May 4, 2021 Tuesday Men's Open\nGame Type: Regular
 \nGame Status: Complete\nHome Team: Monkeys 7.24\nAway Team: The Futbol Te
 am\nHome Score: 0\nAway Score: 3
END:VEVENT
BEGIN:VEVENT
UID:13718405@ezleagues.ezfacility.com
DTSTAMP:20260424T101322Z
CREATED:20260424T101322Z
DTSTART:20210611T010000Z
DTEND:20210611T020000Z
LOCATION:VA Army National Guard Field 2
CONTACT:Orellana
SUMMARY:Corona VS. Monkeys 7.24
DESCRIPTION:League Name: May 4, 2021 Tuesday Men's Open\nGame Type: Regular
 \nGame Status: Complete\nHome Team: Corona\nAway Team: Monkeys 7.24\nHome 
 Score: 7\nAway Score: 0
END:VEVENT
BEGIN:VEVENT
UID:13718528@ezleagues.ezfacility.com
DTSTAMP:20260424T101322Z
CREATED:20260424T101322Z
DTSTART:20210616T011000Z
DTEND:20210616T021000Z
LOCATION:VA Army National Guard Field 2
CONTACT:Esquerre
SUMMARY:Thundercats VS. Monkeys 7.24
DESCRIPTION:League Name: May 4, 2021 Tuesday Men's Open\nGame Type: Postsea
 son\nGame Status: Complete\nHome Team: Thundercats\nAway Team: Monkeys 7.2
 4\nHome Score: 8\nAway Score: 4
END:VEVENT
END:VCALENDAR
