BEGIN:VCALENDAR
VERSION:2.0
PRODID:-//EZFacility.com, Inc.//EZL 2.5.5.28621
BEGIN:VEVENT
UID:13735227@ezleagues.ezfacility.com
DTSTAMP:20260424T044222Z
CREATED:20260424T044222Z
DTSTART:20210527T220700Z
DTEND:20210528T000700Z
LOCATION:#1-9 (Front 9)
CONTACT:Glissmann
SUMMARY:Stroke of Luck VS. Natural Hazards
DESCRIPTION:League Name: Golf (2021)\nGame Type: Regular\nGame Status: Comp
 lete\nHome Team: Stroke of Luck\nAway Team: Natural Hazards\nHome Score: 6
 5\nAway Score: 35
END:VEVENT
BEGIN:VEVENT
UID:13743518@ezleagues.ezfacility.com
DTSTAMP:20260424T044222Z
CREATED:20260424T044222Z
DTSTART:20210603T220700Z
DTEND:20210604T000700Z
LOCATION:#10-18 (Back 9)
CONTACT:Glissmann
SUMMARY:Stroke of Luck VS. Grip It  Sip It
DESCRIPTION:League Name: Golf (2021)\nGame Type: Regular\nGame Status: Comp
 lete\nHome Team: Stroke of Luck\nAway Team: Grip It  Sip It\nHome Score: 6
 0\nAway Score: 40
END:VEVENT
BEGIN:VEVENT
UID:13743615@ezleagues.ezfacility.com
DTSTAMP:20260424T044222Z
CREATED:20260424T044222Z
DTSTART:20210610T222200Z
DTEND:20210611T002200Z
LOCATION:#10-18 (Back 9)
CONTACT:Glissmann
SUMMARY:Birdies\, Bogeys  Beer VS. Stroke of Luck
DESCRIPTION:League Name: Golf (2021)\nGame Type: Regular\nGame Status: Resc
 heduled\nHome Team: Birdies, Bogeys  Beer\nAway Team: Stroke of Luck\n
END:VEVENT
BEGIN:VEVENT
UID:13743523@ezleagues.ezfacility.com
DTSTAMP:20260424T044222Z
CREATED:20260424T044222Z
DTSTART:20210617T050000Z
DTEND:20210617T050000Z
LOCATION:BYE
CONTACT:
SUMMARY:Stroke of Luck VS. N/A (BYE WEEK)
DESCRIPTION:League Name: Golf (2021)\nGame Type: Practice\nGame Status: Res
 cheduled\nHome Team: Stroke of Luck\nAway Team: N/A (BYE WEEK)\n
END:VEVENT
BEGIN:VEVENT
UID:13743623@ezleagues.ezfacility.com
DTSTAMP:20260424T044222Z
CREATED:20260424T044222Z
DTSTART:20210624T223700Z
DTEND:20210625T003700Z
LOCATION:#10-18 (Back 9)
CONTACT:Glissmann
SUMMARY:Foreplay VS. Stroke of Luck
DESCRIPTION:League Name: Golf (2021)\nGame Type: Regular\nGame Status: Resc
 heduled\nHome Team: Foreplay\nAway Team: Stroke of Luck\n
END:VEVENT
BEGIN:VEVENT
UID:13743625@ezleagues.ezfacility.com
DTSTAMP:20260424T044222Z
CREATED:20260424T044222Z
DTSTART:20210701T220700Z
DTEND:20210702T000700Z
LOCATION:#1-9 (Front 9)
CONTACT:Glissmann
SUMMARY:Teed Off VS. Stroke of Luck
DESCRIPTION:League Name: Golf (2021)\nGame Type: Regular\nGame Status: Comp
 lete\nHome Team: Teed Off\nAway Team: Stroke of Luck\nHome Score: 100\nAwa
 y Score: 0
END:VEVENT
BEGIN:VEVENT
UID:13743632@ezleagues.ezfacility.com
DTSTAMP:20260424T044222Z
CREATED:20260424T044222Z
DTSTART:20210708T222200Z
DTEND:20210709T002200Z
LOCATION:#10-18 (Back 9)
CONTACT:Glissmann
SUMMARY:Stroke of Luck VS. Mr. Philly
DESCRIPTION:League Name: Golf (2021)\nGame Type: Regular\nGame Status: Comp
 lete\nHome Team: Stroke of Luck\nAway Team: Mr. Philly\nHome Score: 20\nAw
 ay Score: 80
END:VEVENT
BEGIN:VEVENT
UID:13747996@ezleagues.ezfacility.com
DTSTAMP:20260424T044222Z
CREATED:20260424T044222Z
DTSTART:20210715T222200Z
DTEND:20210716T002200Z
LOCATION:#1-9 (Front 9)
CONTACT:Glissmann
SUMMARY:Shankopotomus VS. Stroke of Luck
DESCRIPTION:League Name: Golf (2021)\nGame Type: Regular\nGame Status: Comp
 lete\nHome Team: Shankopotomus\nAway Team: Stroke of Luck\nHome Score: 80\
 nAway Score: 20
END:VEVENT
BEGIN:VEVENT
UID:13748002@ezleagues.ezfacility.com
DTSTAMP:20260424T044222Z
CREATED:20260424T044222Z
DTSTART:20210722T222200Z
DTEND:20210723T002200Z
LOCATION:#1-9 (Front 9)
CONTACT:Glissmann
SUMMARY:Stroke of Luck VS. Weapons of Grass Destruction
DESCRIPTION:League Name: Golf (2021)\nGame Type: Regular\nGame Status: Comp
 lete\nHome Team: Stroke of Luck\nAway Team: Weapons of Grass Destruction\n
 Home Score: 50\nAway Score: 50
END:VEVENT
BEGIN:VEVENT
UID:13816660@ezleagues.ezfacility.com
DTSTAMP:20260424T044222Z
CREATED:20260424T044222Z
DTSTART:20210729T222200Z
DTEND:20210730T002200Z
LOCATION:#10-18 (Back 9)
CONTACT:Glissmann
SUMMARY:Birdies\, Bogeys  Beer VS. Stroke of Luck
DESCRIPTION:League Name: Golf (2021)\nGame Type: Regular\nGame Status: Comp
 lete\nHome Team: Birdies, Bogeys  Beer\nAway Team: Stroke of Luck\nHome Sc
 ore: 50\nAway Score: 50
END:VEVENT
BEGIN:VEVENT
UID:13816662@ezleagues.ezfacility.com
DTSTAMP:20260424T044222Z
CREATED:20260424T044222Z
DTSTART:20210805T050000Z
DTEND:20210805T050000Z
LOCATION:BYE
CONTACT:
SUMMARY:Stroke of Luck VS. N/A (BYE WEEK)
DESCRIPTION:League Name: Golf (2021)\nGame Type: Practice\nGame Status: Pen
 ding\nHome Team: Stroke of Luck\nAway Team: N/A (BYE WEEK)\n
END:VEVENT
BEGIN:VEVENT
UID:13823655@ezleagues.ezfacility.com
DTSTAMP:20260424T044222Z
CREATED:20260424T044222Z
DTSTART:20210812T223700Z
DTEND:20210813T003700Z
LOCATION:#10-18 (Back 9)
CONTACT:Glissmann
SUMMARY:Foreplay VS. Stroke of Luck
DESCRIPTION:League Name: Golf (2021)\nGame Type: Regular\nGame Status: Comp
 lete\nHome Team: Foreplay\nAway Team: Stroke of Luck\nHome Score: 0\nAway 
 Score: 100
END:VEVENT
BEGIN:VEVENT
UID:13743596@ezleagues.ezfacility.com
DTSTAMP:20260424T044222Z
CREATED:20260424T044222Z
DTSTART:20210819T220700Z
DTEND:20210820T000700Z
LOCATION:#1-9 (Front 9)
CONTACT:Glissmann
SUMMARY:Stroke of Luck VS. _
DESCRIPTION:League Name: Golf (2021)\nGame Type: Postseason\nGame Status: P
 ending\nHome Team: Stroke of Luck\nAway Team: _\n
END:VEVENT
BEGIN:VEVENT
UID:13743611@ezleagues.ezfacility.com
DTSTAMP:20260424T044222Z
CREATED:20260424T044222Z
DTSTART:20210826T223000Z
DTEND:20210827T003000Z
LOCATION:#10-18 (Back 9)
CONTACT:Glissmann
SUMMARY:Stroke of Luck VS. _
DESCRIPTION:League Name: Golf (2021)\nGame Type: Postseason\nGame Status: R
 escheduled\nHome Team: Stroke of Luck\nAway Team: _\n
END:VEVENT
BEGIN:VEVENT
UID:13860713@ezleagues.ezfacility.com
DTSTAMP:20260424T044222Z
CREATED:20260424T044222Z
DTSTART:20210902T223000Z
DTEND:20210903T003000Z
LOCATION:#10-18 (Back 9)
CONTACT:Glissmann
SUMMARY:Stroke of Luck VS. _
DESCRIPTION:League Name: Golf (2021)\nGame Type: Postseason\nGame Status: R
 escheduled\nHome Team: Stroke of Luck\nAway Team: _\n
END:VEVENT
BEGIN:VEVENT
UID:13870398@ezleagues.ezfacility.com
DTSTAMP:20260424T044222Z
CREATED:20260424T044222Z
DTSTART:20210909T223000Z
DTEND:20210910T003000Z
LOCATION:#10-18 (Back 9)
CONTACT:Glissmann
SUMMARY:Stroke of Luck VS. _
DESCRIPTION:League Name: Golf (2021)\nGame Type: Postseason\nGame Status: P
 ending\nHome Team: Stroke of Luck\nAway Team: _\n
END:VEVENT
END:VCALENDAR
