BEGIN:VCALENDAR
VERSION:2.0
PRODID:-//EZFacility.com, Inc.//EZL 2.5.5.28621
BEGIN:VEVENT
UID:13741131@ezleagues.ezfacility.com
DTSTAMP:20260424T062938Z
CREATED:20260424T062938Z
DTSTART:20210601T230500Z
DTEND:20210601T234000Z
LOCATION:SPW Beach 3
CONTACT:
SUMMARY:Perry/Miller VS. Thede/McConville
DESCRIPTION:League Name: 2021 Jr Beach League - 16U\nGame Type: Regular\nGa
 me Status: Pending\nHome Team: Perry/Miller\nAway Team: Thede/McConville\n
END:VEVENT
BEGIN:VEVENT
UID:13741125@ezleagues.ezfacility.com
DTSTAMP:20260424T062938Z
CREATED:20260424T062938Z
DTSTART:20210601T234000Z
DTEND:20210602T001500Z
LOCATION:SPW Beach 1
CONTACT:
SUMMARY:Perry/Miller VS. Hinderaker/Mitchell
DESCRIPTION:League Name: 2021 Jr Beach League - 16U\nGame Type: Regular\nGa
 me Status: Pending\nHome Team: Perry/Miller\nAway Team: Hinderaker/Mitchel
 l\n
END:VEVENT
BEGIN:VEVENT
UID:13741172@ezleagues.ezfacility.com
DTSTAMP:20260424T062938Z
CREATED:20260424T062938Z
DTSTART:20210630T001500Z
DTEND:20210630T005000Z
LOCATION:SPW Beach 1
CONTACT:
SUMMARY:Thole/Cords VS. Perry/Miller
DESCRIPTION:League Name: 2021 Jr Beach League - 16U\nGame Type: Regular\nGa
 me Status: Pending\nHome Team: Thole/Cords\nAway Team: Perry/Miller\n
END:VEVENT
BEGIN:VEVENT
UID:13741181@ezleagues.ezfacility.com
DTSTAMP:20260424T062938Z
CREATED:20260424T062938Z
DTSTART:20210706T234000Z
DTEND:20210707T001500Z
LOCATION:SPW Beach 3
CONTACT:
SUMMARY:Leinbach/Wenell VS. Perry/Miller
DESCRIPTION:League Name: 2021 Jr Beach League - 16U\nGame Type: Regular\nGa
 me Status: Pending\nHome Team: Leinbach/Wenell\nAway Team: Perry/Miller\n
END:VEVENT
BEGIN:VEVENT
UID:13741190@ezleagues.ezfacility.com
DTSTAMP:20260424T062938Z
CREATED:20260424T062938Z
DTSTART:20210713T230500Z
DTEND:20210713T234000Z
LOCATION:SPW Beach 2
CONTACT:
SUMMARY:Perry/Miller VS. Backen/Simpson
DESCRIPTION:League Name: 2021 Jr Beach League - 16U\nGame Type: Regular\nGa
 me Status: Pending\nHome Team: Perry/Miller\nAway Team: Backen/Simpson\n
END:VEVENT
BEGIN:VEVENT
UID:13741199@ezleagues.ezfacility.com
DTSTAMP:20260424T062938Z
CREATED:20260424T062938Z
DTSTART:20210714T005000Z
DTEND:20210714T012500Z
LOCATION:SPW Beach 2
CONTACT:
SUMMARY:Helming/Janssen VS. Perry/Miller
DESCRIPTION:League Name: 2021 Jr Beach League - 16U\nGame Type: Regular\nGa
 me Status: Pending\nHome Team: Helming/Janssen\nAway Team: Perry/Miller\n
END:VEVENT
BEGIN:VEVENT
UID:13741163@ezleagues.ezfacility.com
DTSTAMP:20260424T062938Z
CREATED:20260424T062938Z
DTSTART:20210721T005000Z
DTEND:20210721T012500Z
LOCATION:SPW Beach 1
CONTACT:
SUMMARY:Cantrell/Heston VS. Perry/Miller
DESCRIPTION:League Name: 2021 Jr Beach League - 16U\nGame Type: Regular\nGa
 me Status: Pending\nHome Team: Cantrell/Heston\nAway Team: Perry/Miller\n
END:VEVENT
END:VCALENDAR
