BEGIN:VCALENDAR
VERSION:2.0
PRODID:-//EZFacility.com, Inc.//EZL 2.5.5.28621
BEGIN:VEVENT
UID:13784042@ezleagues.ezfacility.com
DTSTAMP:20260424T184922Z
CREATED:20260424T184922Z
DTSTART:20210704T021000Z
DTEND:20210704T030000Z
LOCATION:SANDHILLS (Field #2) 
CONTACT:
SUMMARY:Sevilla VS. Real Chapin
DESCRIPTION:League Name: Liga Hispana \nGame Type: Regular\nGame Status: Co
 mplete\nHome Team: Sevilla\nAway Team: Real Chapin\nHome Score: 7\nAway Sc
 ore: 7
END:VEVENT
BEGIN:VEVENT
UID:13803283@ezleagues.ezfacility.com
DTSTAMP:20260424T184922Z
CREATED:20260424T184922Z
DTSTART:20210711T030000Z
DTEND:20210711T035000Z
LOCATION:SANDHILLS (Field #2) 
CONTACT:
SUMMARY:Sevilla VS. Dep. Marquense
DESCRIPTION:League Name: Liga Hispana \nGame Type: Regular\nGame Status: Co
 mplete\nHome Team: Sevilla\nAway Team: Dep. Marquense\nHome Score: 8\nAway
  Score: 2
END:VEVENT
BEGIN:VEVENT
UID:13813782@ezleagues.ezfacility.com
DTSTAMP:20260424T184922Z
CREATED:20260424T184922Z
DTSTART:20210718T030000Z
DTEND:20210718T035000Z
LOCATION:SANDHILLS (Field #2) 
CONTACT:
SUMMARY:Los Patrones FC VS. Sevilla
DESCRIPTION:League Name: Liga Hispana \nGame Type: Regular\nGame Status: Co
 mplete\nHome Team: Los Patrones FC\nAway Team: Sevilla\nHome Score: 3\nAwa
 y Score: 6
END:VEVENT
BEGIN:VEVENT
UID:13822370@ezleagues.ezfacility.com
DTSTAMP:20260424T184922Z
CREATED:20260424T184922Z
DTSTART:20210725T030000Z
DTEND:20210725T035000Z
LOCATION:SANDHILLS (Field #2) 
CONTACT:
SUMMARY:Pollos Locos VS. Sevilla
DESCRIPTION:League Name: Liga Hispana \nGame Type: Regular\nGame Status: Co
 mplete\nHome Team: Pollos Locos\nAway Team: Sevilla\nHome Score: 4\nAway S
 core: 9
END:VEVENT
END:VCALENDAR
