BEGIN:VCALENDAR
VERSION:2.0
PRODID:-//EZFacility.com, Inc.//EZL 2.5.5.28621
BEGIN:VEVENT
UID:14038241@ezleagues.ezfacility.com
DTSTAMP:20260426T034936Z
CREATED:20260426T034936Z
DTSTART:20211116T020000Z
DTEND:20211116T030000Z
LOCATION:Jessup Premier Field #2
CONTACT:
SUMMARY:Striker FC VS. Shottis Point
DESCRIPTION:League Name: Mon Mens Over 35s 1st div \nGame Type: Regular\nGa
 me Status: Complete\nHome Team: Striker FC\nAway Team: Shottis Point\nHome
  Score: 9\nAway Score: 7
END:VEVENT
BEGIN:VEVENT
UID:14038252@ezleagues.ezfacility.com
DTSTAMP:20260426T034936Z
CREATED:20260426T034936Z
DTSTART:20211123T040000Z
DTEND:20211123T050000Z
LOCATION:Jessup Premier Field #1
CONTACT:
SUMMARY:Striker FC VS. La Prensa
DESCRIPTION:League Name: Mon Mens Over 35s 1st div \nGame Type: Regular\nGa
 me Status: Complete\nHome Team: Striker FC\nAway Team: La Prensa\nHome Sco
 re: 3\nAway Score: 0
END:VEVENT
BEGIN:VEVENT
UID:14038273@ezleagues.ezfacility.com
DTSTAMP:20260426T034936Z
CREATED:20260426T034936Z
DTSTART:20211207T040000Z
DTEND:20211207T050000Z
LOCATION:Jessup Premier Field #1
CONTACT:
SUMMARY:FEF-Yellow VS. Striker FC
DESCRIPTION:League Name: Mon Mens Over 35s 1st div \nGame Type: Regular\nGa
 me Status: Complete\nHome Team: FEF-Yellow\nAway Team: Striker FC\nHome Sc
 ore: 2\nAway Score: 3
END:VEVENT
BEGIN:VEVENT
UID:14038282@ezleagues.ezfacility.com
DTSTAMP:20260426T034936Z
CREATED:20260426T034936Z
DTSTART:20211214T030000Z
DTEND:20211214T040000Z
LOCATION:Jessup Premier Field #2
CONTACT:
SUMMARY:G-Force White VS. Striker FC
DESCRIPTION:League Name: Mon Mens Over 35s 1st div \nGame Type: Regular\nGa
 me Status: Complete\nHome Team: G-Force White\nAway Team: Striker FC\nHome
  Score: 8\nAway Score: 3
END:VEVENT
BEGIN:VEVENT
UID:14038291@ezleagues.ezfacility.com
DTSTAMP:20260426T034936Z
CREATED:20260426T034936Z
DTSTART:20211221T040000Z
DTEND:20211221T050000Z
LOCATION:Jessup Premier Field #1
CONTACT:
SUMMARY:Pirachas VS. Striker FC
DESCRIPTION:League Name: Mon Mens Over 35s 1st div \nGame Type: Regular\nGa
 me Status: Complete\nHome Team: Pirachas\nAway Team: Striker FC\nHome Scor
 e: 6\nAway Score: 4
END:VEVENT
BEGIN:VEVENT
UID:14038263@ezleagues.ezfacility.com
DTSTAMP:20260426T034936Z
CREATED:20260426T034936Z
DTSTART:20220111T010000Z
DTEND:20220111T020000Z
LOCATION:Jessup Premier Field #1
CONTACT:
SUMMARY:Striker FC VS. La H
DESCRIPTION:League Name: Mon Mens Over 35s 1st div \nGame Type: Regular\nGa
 me Status: Complete\nHome Team: Striker FC\nAway Team: La H\nHome Score: 3
 \nAway Score: 6
END:VEVENT
BEGIN:VEVENT
UID:14038300@ezleagues.ezfacility.com
DTSTAMP:20260426T034936Z
CREATED:20260426T034936Z
DTSTART:20220118T010000Z
DTEND:20220118T020000Z
LOCATION:Jessup Premier Field #2
CONTACT:
SUMMARY:Mannucci Maryland FC - BLUE VS. Striker FC
DESCRIPTION:League Name: Mon Mens Over 35s 1st div \nGame Type: Regular\nGa
 me Status: Complete\nHome Team: Mannucci Maryland FC - BLUE\nAway Team: St
 riker FC\nHome Score: 10\nAway Score: 4
END:VEVENT
BEGIN:VEVENT
UID:14208734@ezleagues.ezfacility.com
DTSTAMP:20260426T034936Z
CREATED:20260426T034936Z
DTSTART:20220125T040000Z
DTEND:20220125T044800Z
LOCATION:Jessup Premier Field #1
CONTACT:
SUMMARY:Striker FC VS. La Prensa
DESCRIPTION:League Name: Mon Mens Over 35s 1st div \nGame Type: Regular\nGa
 me Status: Complete\nHome Team: Striker FC\nAway Team: La Prensa\nHome Sco
 re: 0\nAway Score: 3
END:VEVENT
BEGIN:VEVENT
UID:14224774@ezleagues.ezfacility.com
DTSTAMP:20260426T034936Z
CREATED:20260426T034936Z
DTSTART:20220201T040000Z
DTEND:20220201T044800Z
LOCATION:Jessup Premier Field #1
CONTACT:
SUMMARY:Montgomery United-Blue VS. Striker FC
DESCRIPTION:League Name: Mon Mens Over 35s 1st div \nGame Type: Regular\nGa
 me Status: Complete\nHome Team: Montgomery United-Blue\nAway Team: Striker
  FC\nHome Score: 0\nAway Score: 3
END:VEVENT
END:VCALENDAR
