BEGIN:VCALENDAR
VERSION:2.0
PRODID:-//EZFacility.com, Inc.//EZL 2.5.5.28621
BEGIN:VEVENT
UID:14241102@ezleagues.ezfacility.com
DTSTAMP:20260421T210520Z
CREATED:20260421T210520Z
DTSTART:20220209T041000Z
DTEND:20220209T050000Z
LOCATION:Jessup Premier Field #2
CONTACT:
SUMMARY:FC Chelsea VS. Son of Pitches
DESCRIPTION:League Name: Tues Mens Open 2nd div \nGame Type: Regular\nGame 
 Status: Complete\nHome Team: FC Chelsea\nAway Team: Son of Pitches\nHome S
 core: 8\nAway Score: 3
END:VEVENT
BEGIN:VEVENT
UID:14241115@ezleagues.ezfacility.com
DTSTAMP:20260421T210520Z
CREATED:20260421T210520Z
DTSTART:20220216T014000Z
DTEND:20220216T023000Z
LOCATION:Jessup Premier Field #2
CONTACT:
SUMMARY:FC Chelsea VS. Bayer
DESCRIPTION:League Name: Tues Mens Open 2nd div \nGame Type: Regular\nGame 
 Status: Complete\nHome Team: FC Chelsea\nAway Team: Bayer\nHome Score: 3\n
 Away Score: 6
END:VEVENT
BEGIN:VEVENT
UID:14241127@ezleagues.ezfacility.com
DTSTAMP:20260421T210520Z
CREATED:20260421T210520Z
DTSTART:20220223T023000Z
DTEND:20220223T032000Z
LOCATION:Jessup Premier Field #2
CONTACT:
SUMMARY:MD Warriors VS. FC Chelsea
DESCRIPTION:League Name: Tues Mens Open 2nd div \nGame Type: Regular\nGame 
 Status: Complete\nHome Team: MD Warriors\nAway Team: FC Chelsea\nHome Scor
 e: 9\nAway Score: 5
END:VEVENT
BEGIN:VEVENT
UID:14241138@ezleagues.ezfacility.com
DTSTAMP:20260421T210520Z
CREATED:20260421T210520Z
DTSTART:20220302T041000Z
DTEND:20220302T050000Z
LOCATION:Jessup Premier Field #1
CONTACT:
SUMMARY:Las Aguilas VS. FC Chelsea
DESCRIPTION:League Name: Tues Mens Open 2nd div \nGame Type: Regular\nGame 
 Status: Complete\nHome Team: Las Aguilas\nAway Team: FC Chelsea\nHome Scor
 e: 2\nAway Score: 5
END:VEVENT
BEGIN:VEVENT
UID:14241149@ezleagues.ezfacility.com
DTSTAMP:20260421T210520Z
CREATED:20260421T210520Z
DTSTART:20220309T023000Z
DTEND:20220309T032000Z
LOCATION:Jessup Premier Field #1
CONTACT:
SUMMARY:Achuapa FC VS. FC Chelsea
DESCRIPTION:League Name: Tues Mens Open 2nd div \nGame Type: Regular\nGame 
 Status: Complete\nHome Team: Achuapa FC\nAway Team: FC Chelsea\nHome Score
 : 8\nAway Score: 2
END:VEVENT
BEGIN:VEVENT
UID:14241160@ezleagues.ezfacility.com
DTSTAMP:20260421T210520Z
CREATED:20260421T210520Z
DTSTART:20220316T013000Z
DTEND:20220316T022000Z
LOCATION:Jessup Premier Field #1
CONTACT:
SUMMARY:Real Annapolis VS. FC Chelsea
DESCRIPTION:League Name: Tues Mens Open 2nd div \nGame Type: Regular\nGame 
 Status: Complete\nHome Team: Real Annapolis\nAway Team: FC Chelsea\nHome S
 core: 6\nAway Score: 2
END:VEVENT
BEGIN:VEVENT
UID:14241173@ezleagues.ezfacility.com
DTSTAMP:20260421T210520Z
CREATED:20260421T210520Z
DTSTART:20220323T031000Z
DTEND:20220323T040000Z
LOCATION:Jessup Premier Field #2
CONTACT:
SUMMARY:FC Chelsea VS. ASAP FC
DESCRIPTION:League Name: Tues Mens Open 2nd div \nGame Type: Regular\nGame 
 Status: Complete\nHome Team: FC Chelsea\nAway Team: ASAP FC\nHome Score: 0
 \nAway Score: 0
END:VEVENT
BEGIN:VEVENT
UID:14320452@ezleagues.ezfacility.com
DTSTAMP:20260421T210520Z
CREATED:20260421T210520Z
DTSTART:20220330T031000Z
DTEND:20220330T035800Z
LOCATION:Jessup Premier Field #1
CONTACT:
SUMMARY:Las Aguilas VS. FC Chelsea
DESCRIPTION:League Name: Tues Mens Open 2nd div \nGame Type: Regular\nGame 
 Status: Complete\nHome Team: Las Aguilas\nAway Team: FC Chelsea\nHome Scor
 e: 3\nAway Score: 0
END:VEVENT
BEGIN:VEVENT
UID:14331986@ezleagues.ezfacility.com
DTSTAMP:20260421T210520Z
CREATED:20260421T210520Z
DTSTART:20220406T004000Z
DTEND:20220406T012800Z
LOCATION:Jessup Premier Field #2
CONTACT:
SUMMARY:Son of Pitches VS. FC Chelsea
DESCRIPTION:League Name: Tues Mens Open 2nd div \nGame Type: Regular\nGame 
 Status: Complete\nHome Team: Son of Pitches\nAway Team: FC Chelsea\nHome S
 core: 3\nAway Score: 0
END:VEVENT
END:VCALENDAR
