BEGIN:VCALENDAR
VERSION:2.0
PRODID:-//EZFacility.com, Inc.//EZL 2.5.5.28621
BEGIN:VEVENT
UID:14241198@ezleagues.ezfacility.com
DTSTAMP:20260421T233725Z
CREATED:20260421T233725Z
DTSTART:20220210T041000Z
DTEND:20220210T050000Z
LOCATION:Jessup Premier Field #2
CONTACT:
SUMMARY:Peten FC VS. Deportivo Columbia
DESCRIPTION:League Name: Wed Mens Open 1st div \nGame Type: Regular\nGame S
 tatus: Complete\nHome Team: Peten FC\nAway Team: Deportivo Columbia\nHome 
 Score: 3\nAway Score: 9
END:VEVENT
BEGIN:VEVENT
UID:14241211@ezleagues.ezfacility.com
DTSTAMP:20260421T233725Z
CREATED:20260421T233725Z
DTSTART:20220217T005000Z
DTEND:20220217T014000Z
LOCATION:Jessup Premier Field #1
CONTACT:
SUMMARY:Peten FC VS. Paris FC
DESCRIPTION:League Name: Wed Mens Open 1st div \nGame Type: Regular\nGame S
 tatus: Complete\nHome Team: Peten FC\nAway Team: Paris FC\nHome Score: 8\n
 Away Score: 3
END:VEVENT
BEGIN:VEVENT
UID:14241223@ezleagues.ezfacility.com
DTSTAMP:20260421T233725Z
CREATED:20260421T233725Z
DTSTART:20220224T023000Z
DTEND:20220224T032000Z
LOCATION:Jessup Premier Field #1
CONTACT:
SUMMARY:Juvenil FC VS. Peten FC
DESCRIPTION:League Name: Wed Mens Open 1st div \nGame Type: Regular\nGame S
 tatus: Complete\nHome Team: Juvenil FC\nAway Team: Peten FC\nHome Score: 7
 \nAway Score: 7
END:VEVENT
BEGIN:VEVENT
UID:14241234@ezleagues.ezfacility.com
DTSTAMP:20260421T233725Z
CREATED:20260421T233725Z
DTSTART:20220303T014000Z
DTEND:20220303T023000Z
LOCATION:Jessup Premier Field #2
CONTACT:
SUMMARY:Ajax FC VS. Peten FC
DESCRIPTION:League Name: Wed Mens Open 1st div \nGame Type: Regular\nGame S
 tatus: Complete\nHome Team: Ajax FC\nAway Team: Peten FC\nHome Score: 7\nA
 way Score: 6
END:VEVENT
BEGIN:VEVENT
UID:14241245@ezleagues.ezfacility.com
DTSTAMP:20260421T233725Z
CREATED:20260421T233725Z
DTSTART:20220310T014000Z
DTEND:20220310T023000Z
LOCATION:Jessup Premier Field #1
CONTACT:
SUMMARY:Los Heavy Duty VS. Peten FC
DESCRIPTION:League Name: Wed Mens Open 1st div \nGame Type: Regular\nGame S
 tatus: Complete\nHome Team: Los Heavy Duty\nAway Team: Peten FC\nHome Scor
 e: 4\nAway Score: 3
END:VEVENT
BEGIN:VEVENT
UID:14241256@ezleagues.ezfacility.com
DTSTAMP:20260421T233725Z
CREATED:20260421T233725Z
DTSTART:20220317T013000Z
DTEND:20220317T022000Z
LOCATION:Jessup Premier Field #2
CONTACT:
SUMMARY:Inter EC VS. Peten FC
DESCRIPTION:League Name: Wed Mens Open 1st div \nGame Type: Regular\nGame S
 tatus: Complete\nHome Team: Inter EC\nAway Team: Peten FC\nHome Score: 7\n
 Away Score: 6
END:VEVENT
BEGIN:VEVENT
UID:14241269@ezleagues.ezfacility.com
DTSTAMP:20260421T233725Z
CREATED:20260421T233725Z
DTSTART:20220324T022000Z
DTEND:20220324T031000Z
LOCATION:Jessup Premier Field #1
CONTACT:
SUMMARY:Peten FC VS. Five Star Club
DESCRIPTION:League Name: Wed Mens Open 1st div \nGame Type: Regular\nGame S
 tatus: Complete\nHome Team: Peten FC\nAway Team: Five Star Club\nHome Scor
 e: 0\nAway Score: 3
END:VEVENT
BEGIN:VEVENT
UID:14320464@ezleagues.ezfacility.com
DTSTAMP:20260421T233725Z
CREATED:20260421T233725Z
DTSTART:20220330T230000Z
DTEND:20220330T234800Z
LOCATION:Jessup Premier Field #1
CONTACT:
SUMMARY:Inter EC VS. Peten FC
DESCRIPTION:League Name: Wed Mens Open 1st div \nGame Type: Regular\nGame S
 tatus: Complete\nHome Team: Inter EC\nAway Team: Peten FC\nHome Score: 0\n
 Away Score: 3
END:VEVENT
BEGIN:VEVENT
UID:14332001@ezleagues.ezfacility.com
DTSTAMP:20260421T233725Z
CREATED:20260421T233725Z
DTSTART:20220407T004000Z
DTEND:20220407T012800Z
LOCATION:Jessup Premier Field #2
CONTACT:
SUMMARY:Peten FC VS. Five Star Club
DESCRIPTION:League Name: Wed Mens Open 1st div \nGame Type: Regular\nGame S
 tatus: Complete\nHome Team: Peten FC\nAway Team: Five Star Club\nHome Scor
 e: 0\nAway Score: 3
END:VEVENT
END:VCALENDAR
