BEGIN:VCALENDAR
VERSION:2.0
PRODID:-//EZFacility.com, Inc.//EZL 2.5.5.28621
BEGIN:VEVENT
UID:13784036@ezleagues.ezfacility.com
DTSTAMP:20260424T044407Z
CREATED:20260424T044407Z
DTSTART:20210703T220000Z
DTEND:20210703T225000Z
LOCATION:SANDHILLS (Field #2) 
CONTACT:
SUMMARY:Liverpool VS. Newberry FC
DESCRIPTION:League Name: Liga Hispana \nGame Type: Regular\nGame Status: Co
 mplete\nHome Team: Liverpool\nAway Team: Newberry FC\nHome Score: 0\nAway 
 Score: 8
END:VEVENT
BEGIN:VEVENT
UID:13803365@ezleagues.ezfacility.com
DTSTAMP:20260424T044407Z
CREATED:20260424T044407Z
DTSTART:20210711T021000Z
DTEND:20210711T030000Z
LOCATION:SANDHILLS (Field #2) 
CONTACT:
SUMMARY:Juventus Jrs. VS. Liverpool
DESCRIPTION:League Name: Liga Hispana \nGame Type: Regular\nGame Status: Co
 mplete\nHome Team: Juventus Jrs.\nAway Team: Liverpool\nHome Score: 4\nAwa
 y Score: 3
END:VEVENT
BEGIN:VEVENT
UID:13813767@ezleagues.ezfacility.com
DTSTAMP:20260424T044407Z
CREATED:20260424T044407Z
DTSTART:20210717T002000Z
DTEND:20210717T011000Z
LOCATION:SANDHILLS (Field #2) 
CONTACT:
SUMMARY:Barcelona Jrs. VS. Liverpool
DESCRIPTION:League Name: Liga Hispana \nGame Type: Regular\nGame Status: Co
 mplete\nHome Team: Barcelona Jrs.\nAway Team: Liverpool\nHome Score: 4\nAw
 ay Score: 4
END:VEVENT
BEGIN:VEVENT
UID:13822367@ezleagues.ezfacility.com
DTSTAMP:20260424T044407Z
CREATED:20260424T044407Z
DTSTART:20210724T234000Z
DTEND:20210725T003000Z
LOCATION:SANDHILLS (Field #2) 
CONTACT:
SUMMARY:Liverpool VS. Los Morros
DESCRIPTION:League Name: Liga Hispana \nGame Type: Regular\nGame Status: Co
 mplete\nHome Team: Liverpool\nAway Team: Los Morros\nHome Score: 7\nAway S
 core: 4
END:VEVENT
END:VCALENDAR
