BEGIN:VCALENDAR
VERSION:2.0
PRODID:-//EZFacility.com, Inc.//EZL 2.5.5.28621
BEGIN:VEVENT
UID:14252930@ezleagues.ezfacility.com
DTSTAMP:20260424T043307Z
CREATED:20260424T043307Z
DTSTART:20220220T230000Z
DTEND:20220221T000000Z
LOCATION:Jessup Premier Field #1
CONTACT:
SUMMARY:Union Azteca VS. About to Get Messi
DESCRIPTION:League Name: Sun Coed Open 3rd div \nGame Type: Regular\nGame S
 tatus: Complete\nHome Team: Union Azteca\nAway Team: About to Get Messi\nH
 ome Score: 3\nAway Score: 2
END:VEVENT
BEGIN:VEVENT
UID:14252943@ezleagues.ezfacility.com
DTSTAMP:20260424T043307Z
CREATED:20260424T043307Z
DTSTART:20220228T040000Z
DTEND:20220228T050000Z
LOCATION:Jessup Premier Field #2
CONTACT:
SUMMARY:Warriors FC VS. About to Get Messi
DESCRIPTION:League Name: Sun Coed Open 3rd div \nGame Type: Regular\nGame S
 tatus: Complete\nHome Team: Warriors FC\nAway Team: About to Get Messi\nHo
 me Score: 6\nAway Score: 3
END:VEVENT
BEGIN:VEVENT
UID:14252956@ezleagues.ezfacility.com
DTSTAMP:20260424T043307Z
CREATED:20260424T043307Z
DTSTART:20220306T220000Z
DTEND:20220306T230000Z
LOCATION:Jessup Premier Field #1
CONTACT:
SUMMARY:About to Get Messi VS. Java Jaguars
DESCRIPTION:League Name: Sun Coed Open 3rd div \nGame Type: Regular\nGame S
 tatus: Complete\nHome Team: About to Get Messi\nAway Team: Java Jaguars\nH
 ome Score: 2\nAway Score: 3
END:VEVENT
BEGIN:VEVENT
UID:14252971@ezleagues.ezfacility.com
DTSTAMP:20260424T043307Z
CREATED:20260424T043307Z
DTSTART:20220313T210000Z
DTEND:20220313T230000Z
LOCATION:Jessup Premier Field #2
CONTACT:
SUMMARY:About to Get Messi VS. No Ankles Are Safe
DESCRIPTION:League Name: Sun Coed Open 3rd div \nGame Type: Regular\nGame S
 tatus: Complete\nHome Team: About to Get Messi\nAway Team: No Ankles Are S
 afe\nHome Score: 0\nAway Score: 4
END:VEVENT
BEGIN:VEVENT
UID:14252986@ezleagues.ezfacility.com
DTSTAMP:20260424T043307Z
CREATED:20260424T043307Z
DTSTART:20220320T230000Z
DTEND:20220321T000000Z
LOCATION:Jessup Premier Field #2
CONTACT:
SUMMARY:About to Get Messi VS. Wasted Talent
DESCRIPTION:League Name: Sun Coed Open 3rd div \nGame Type: Regular\nGame S
 tatus: Complete\nHome Team: About to Get Messi\nAway Team: Wasted Talent\n
 Home Score: 5\nAway Score: 12
END:VEVENT
BEGIN:VEVENT
UID:14253001@ezleagues.ezfacility.com
DTSTAMP:20260424T043307Z
CREATED:20260424T043307Z
DTSTART:20220328T010000Z
DTEND:20220328T020000Z
LOCATION:Jessup Premier Field #2
CONTACT:
SUMMARY:About to Get Messi VS. Guarani
DESCRIPTION:League Name: Sun Coed Open 3rd div \nGame Type: Regular\nGame S
 tatus: Complete\nHome Team: About to Get Messi\nAway Team: Guarani\nHome S
 core: 4\nAway Score: 5
END:VEVENT
BEGIN:VEVENT
UID:14252917@ezleagues.ezfacility.com
DTSTAMP:20260424T043307Z
CREATED:20260424T043307Z
DTSTART:20220404T020000Z
DTEND:20220404T030000Z
LOCATION:Jessup Premier Field #2
CONTACT:
SUMMARY:Thundercats VS. About to Get Messi
DESCRIPTION:League Name: Sun Coed Open 3rd div \nGame Type: Regular\nGame S
 tatus: Complete\nHome Team: Thundercats\nAway Team: About to Get Messi\nHo
 me Score: 7\nAway Score: 2
END:VEVENT
BEGIN:VEVENT
UID:14344190@ezleagues.ezfacility.com
DTSTAMP:20260424T043307Z
CREATED:20260424T043307Z
DTSTART:20220411T010000Z
DTEND:20220411T020000Z
LOCATION:Jessup Premier Field #2
CONTACT:
SUMMARY:Warriors FC VS. About to Get Messi
DESCRIPTION:League Name: Sun Coed Open 3rd div \nGame Type: Regular\nGame S
 tatus: Complete\nHome Team: Warriors FC\nAway Team: About to Get Messi\nHo
 me Score: 4\nAway Score: 3
END:VEVENT
BEGIN:VEVENT
UID:14360547@ezleagues.ezfacility.com
DTSTAMP:20260424T043307Z
CREATED:20260424T043307Z
DTSTART:20220424T210000Z
DTEND:20220424T220000Z
LOCATION:Jessup Premier Field #2
CONTACT:
SUMMARY:Thundercats VS. About to Get Messi
DESCRIPTION:League Name: Sun Coed Open 3rd div \nGame Type: Regular\nGame S
 tatus: Complete\nHome Team: Thundercats\nAway Team: About to Get Messi\nHo
 me Score: 1\nAway Score: 8
END:VEVENT
END:VCALENDAR
