BEGIN:VCALENDAR
VERSION:2.0
PRODID:-//EZFacility.com, Inc.//EZL 2.5.5.28621
BEGIN:VEVENT
UID:14252939@ezleagues.ezfacility.com
DTSTAMP:20260426T033734Z
CREATED:20260426T033734Z
DTSTART:20220221T000000Z
DTEND:20220221T010000Z
LOCATION:Jessup Premier Field #1
CONTACT:
SUMMARY:Pink Panthers VS. Bury FC
DESCRIPTION:League Name: Sun Coed Open 4th div \nGame Type: Regular\nGame S
 tatus: Complete\nHome Team: Pink Panthers\nAway Team: Bury FC\nHome Score:
  3\nAway Score: 0
END:VEVENT
BEGIN:VEVENT
UID:14252954@ezleagues.ezfacility.com
DTSTAMP:20260426T033734Z
CREATED:20260426T033734Z
DTSTART:20220228T030000Z
DTEND:20220228T040000Z
LOCATION:Jessup Premier Field #2
CONTACT:
SUMMARY:Pink Panthers VS. Riptide
DESCRIPTION:League Name: Sun Coed Open 4th div \nGame Type: Regular\nGame S
 tatus: Complete\nHome Team: Pink Panthers\nAway Team: Riptide\nHome Score:
  2\nAway Score: 3
END:VEVENT
BEGIN:VEVENT
UID:14252969@ezleagues.ezfacility.com
DTSTAMP:20260426T033734Z
CREATED:20260426T033734Z
DTSTART:20220307T040000Z
DTEND:20220307T050000Z
LOCATION:Jessup Premier Field #2
CONTACT:
SUMMARY:Pink Panthers VS. Net Six and Chill
DESCRIPTION:League Name: Sun Coed Open 4th div \nGame Type: Regular\nGame S
 tatus: Complete\nHome Team: Pink Panthers\nAway Team: Net Six and Chill\nH
 ome Score: 3\nAway Score: 0
END:VEVENT
BEGIN:VEVENT
UID:14252983@ezleagues.ezfacility.com
DTSTAMP:20260426T033734Z
CREATED:20260426T033734Z
DTSTART:20220313T220000Z
DTEND:20220314T000000Z
LOCATION:Jessup Premier Field #2
CONTACT:
SUMMARY:Aerials VS. Pink Panthers
DESCRIPTION:League Name: Sun Coed Open 4th div \nGame Type: Regular\nGame S
 tatus: Complete\nHome Team: Aerials\nAway Team: Pink Panthers\nHome Score:
  2\nAway Score: 4
END:VEVENT
BEGIN:VEVENT
UID:14252996@ezleagues.ezfacility.com
DTSTAMP:20260426T033734Z
CREATED:20260426T033734Z
DTSTART:20220320T220000Z
DTEND:20220320T230000Z
LOCATION:Jessup Premier Field #2
CONTACT:
SUMMARY:Pushing Penalties VS. Pink Panthers
DESCRIPTION:League Name: Sun Coed Open 4th div \nGame Type: Regular\nGame S
 tatus: Complete\nHome Team: Pushing Penalties\nAway Team: Pink Panthers\nH
 ome Score: 6\nAway Score: 1
END:VEVENT
BEGIN:VEVENT
UID:14253009@ezleagues.ezfacility.com
DTSTAMP:20260426T033734Z
CREATED:20260426T033734Z
DTSTART:20220328T010000Z
DTEND:20220328T020000Z
LOCATION:Jessup Premier Field #1
CONTACT:
SUMMARY:Mi Leche Es Grande VS. Pink Panthers
DESCRIPTION:League Name: Sun Coed Open 4th div \nGame Type: Regular\nGame S
 tatus: Complete\nHome Team: Mi Leche Es Grande\nAway Team: Pink Panthers\n
 Home Score: 2\nAway Score: 3
END:VEVENT
BEGIN:VEVENT
UID:14252924@ezleagues.ezfacility.com
DTSTAMP:20260426T033734Z
CREATED:20260426T033734Z
DTSTART:20220403T210000Z
DTEND:20220403T220000Z
LOCATION:Jessup Premier Field #1
CONTACT:
SUMMARY:JMJ FC VS. Pink Panthers
DESCRIPTION:League Name: Sun Coed Open 4th div \nGame Type: Regular\nGame S
 tatus: Complete\nHome Team: JMJ FC\nAway Team: Pink Panthers\nHome Score: 
 0\nAway Score: 2
END:VEVENT
BEGIN:VEVENT
UID:14344192@ezleagues.ezfacility.com
DTSTAMP:20260426T033734Z
CREATED:20260426T033734Z
DTSTART:20220410T210000Z
DTEND:20220410T220000Z
LOCATION:Jessup Premier Field #2
CONTACT:
SUMMARY:Pushing Penalties VS. Pink Panthers
DESCRIPTION:League Name: Sun Coed Open 4th div \nGame Type: Regular\nGame S
 tatus: Complete\nHome Team: Pushing Penalties\nAway Team: Pink Panthers\nH
 ome Score: 3\nAway Score: 0
END:VEVENT
BEGIN:VEVENT
UID:14360549@ezleagues.ezfacility.com
DTSTAMP:20260426T033734Z
CREATED:20260426T033734Z
DTSTART:20220424T200000Z
DTEND:20220424T210000Z
LOCATION:Jessup Premier Field #2
CONTACT:
SUMMARY:Pink Panthers VS. Aerials
DESCRIPTION:League Name: Sun Coed Open 4th div \nGame Type: Regular\nGame S
 tatus: Complete\nHome Team: Pink Panthers\nAway Team: Aerials\nHome Score:
  6\nAway Score: 2
END:VEVENT
END:VCALENDAR
