BEGIN:VCALENDAR
VERSION:2.0
PRODID:-//EZFacility.com, Inc.//EZL 2.5.5.28621
BEGIN:VEVENT
UID:14309079@ezleagues.ezfacility.com
DTSTAMP:20260419T171652Z
CREATED:20260419T171652Z
DTSTART:20220321T010000Z
DTEND:20220321T020000Z
LOCATION:Harmans Premier Field #4
CONTACT:
SUMMARY:Arsenal VS. Vinny's Cousins
DESCRIPTION:League Name: Sun Coed Open 4th I div \nGame Type: Regular\nGame
  Status: Complete\nHome Team: Arsenal\nAway Team: Vinny's Cousins\nHome Sc
 ore: 1\nAway Score: 2
END:VEVENT
BEGIN:VEVENT
UID:14309086@ezleagues.ezfacility.com
DTSTAMP:20260419T171652Z
CREATED:20260419T171652Z
DTSTART:20220328T000000Z
DTEND:20220328T010000Z
LOCATION:Harmans Premier Field #5
CONTACT:
SUMMARY:Sum Milk VS. Vinny's Cousins
DESCRIPTION:League Name: Sun Coed Open 4th I div \nGame Type: Regular\nGame
  Status: Complete\nHome Team: Sum Milk\nAway Team: Vinny's Cousins\nHome S
 core: 7\nAway Score: 2
END:VEVENT
BEGIN:VEVENT
UID:14309093@ezleagues.ezfacility.com
DTSTAMP:20260419T171652Z
CREATED:20260419T171652Z
DTSTART:20220403T220000Z
DTEND:20220403T230000Z
LOCATION:Harmans Premier Field #4
CONTACT:
SUMMARY:New School VS. Vinny's Cousins
DESCRIPTION:League Name: Sun Coed Open 4th I div \nGame Type: Regular\nGame
  Status: Complete\nHome Team: New School\nAway Team: Vinny's Cousins\nHome
  Score: 3\nAway Score: 0
END:VEVENT
BEGIN:VEVENT
UID:14309100@ezleagues.ezfacility.com
DTSTAMP:20260419T171652Z
CREATED:20260419T171652Z
DTSTART:20220410T230000Z
DTEND:20220411T000000Z
LOCATION:Harmans Premier Field #5
CONTACT:
SUMMARY:Vinny's Cousins VS. Los Galacticos FC 
DESCRIPTION:League Name: Sun Coed Open 4th I div \nGame Type: Regular\nGame
  Status: Complete\nHome Team: Vinny's Cousins\nAway Team: Los Galacticos F
 C \nHome Score: 2\nAway Score: 7
END:VEVENT
BEGIN:VEVENT
UID:14309118@ezleagues.ezfacility.com
DTSTAMP:20260419T171652Z
CREATED:20260419T171652Z
DTSTART:20220425T010000Z
DTEND:20220425T020000Z
LOCATION:Harmans Premier Field #5
CONTACT:
SUMMARY:Vinny's Cousins VS. Baltimore United
DESCRIPTION:League Name: Sun Coed Open 4th I div \nGame Type: Regular\nGame
  Status: Complete\nHome Team: Vinny's Cousins\nAway Team: Baltimore United
 \nHome Score: 4\nAway Score: 5
END:VEVENT
BEGIN:VEVENT
UID:14309127@ezleagues.ezfacility.com
DTSTAMP:20260419T171652Z
CREATED:20260419T171652Z
DTSTART:20220502T000000Z
DTEND:20220502T010000Z
LOCATION:Harmans Premier Field #4
CONTACT:
SUMMARY:Vinny's Cousins VS. El Ame
DESCRIPTION:League Name: Sun Coed Open 4th I div \nGame Type: Regular\nGame
  Status: Complete\nHome Team: Vinny's Cousins\nAway Team: El Ame\nHome Sco
 re: 5\nAway Score: 8
END:VEVENT
BEGIN:VEVENT
UID:14309109@ezleagues.ezfacility.com
DTSTAMP:20260419T171652Z
CREATED:20260419T171652Z
DTSTART:20220509T000000Z
DTEND:20220509T010000Z
LOCATION:Harmans Premier Field #4
CONTACT:
SUMMARY:Vinny's Cousins VS. The Bud Knights
DESCRIPTION:League Name: Sun Coed Open 4th I div \nGame Type: Regular\nGame
  Status: Complete\nHome Team: Vinny's Cousins\nAway Team: The Bud Knights\
 nHome Score: 3\nAway Score: 7
END:VEVENT
BEGIN:VEVENT
UID:14392967@ezleagues.ezfacility.com
DTSTAMP:20260419T171652Z
CREATED:20260419T171652Z
DTSTART:20220515T220000Z
DTEND:20220515T230000Z
LOCATION:Harmans Premier Field #4
CONTACT:
SUMMARY:Arsenal VS. Vinny's Cousins
DESCRIPTION:League Name: Sun Coed Open 4th I div \nGame Type: Regular\nGame
  Status: Complete\nHome Team: Arsenal\nAway Team: Vinny's Cousins\nHome Sc
 ore: 8\nAway Score: 6
END:VEVENT
BEGIN:VEVENT
UID:14402655@ezleagues.ezfacility.com
DTSTAMP:20260419T171652Z
CREATED:20260419T171652Z
DTSTART:20220522T220000Z
DTEND:20220522T230000Z
LOCATION:Harmans Premier Field #4
CONTACT:
SUMMARY:Vinny's Cousins VS. Sum Milk
DESCRIPTION:League Name: Sun Coed Open 4th I div \nGame Type: Regular\nGame
  Status: Complete\nHome Team: Vinny's Cousins\nAway Team: Sum Milk\nHome S
 core: 6\nAway Score: 10
END:VEVENT
END:VCALENDAR
