BEGIN:VCALENDAR
VERSION:2.0
PRODID:-//EZFacility.com, Inc.//EZL 2.5.5.28621
BEGIN:VEVENT
UID:13816382@ezleagues.ezfacility.com
DTSTAMP:20260421T145704Z
CREATED:20260421T145704Z
DTSTART:20210722T000000Z
DTEND:20210722T010000Z
LOCATION:Turf 1
CONTACT:
SUMMARY:Bad Boys VS. Chargers
DESCRIPTION:League Name: 5 vs 5 Wednesday Flag July\nGame Type: Regular\nGa
 me Status: Complete\nHome Team: Bad Boys\nAway Team: Chargers\nHome Score:
  36\nAway Score: 26
END:VEVENT
BEGIN:VEVENT
UID:13816386@ezleagues.ezfacility.com
DTSTAMP:20260421T145704Z
CREATED:20260421T145704Z
DTSTART:20210728T230000Z
DTEND:20210729T000000Z
LOCATION:Turf 1
CONTACT:
SUMMARY:Bad Boys VS. Mass Swarm
DESCRIPTION:League Name: 5 vs 5 Wednesday Flag July\nGame Type: Regular\nGa
 me Status: Complete\nHome Team: Bad Boys\nAway Team: Mass Swarm\nHome Scor
 e: 28\nAway Score: 22
END:VEVENT
BEGIN:VEVENT
UID:13816390@ezleagues.ezfacility.com
DTSTAMP:20260421T145704Z
CREATED:20260421T145704Z
DTSTART:20210804T230000Z
DTEND:20210805T000000Z
LOCATION:Turf 1
CONTACT:
SUMMARY:Ravens VS. Bad Boys
DESCRIPTION:League Name: 5 vs 5 Wednesday Flag July\nGame Type: Regular\nGa
 me Status: Complete\nHome Team: Ravens\nAway Team: Bad Boys\nHome Score: 2
 0\nAway Score: 50
END:VEVENT
BEGIN:VEVENT
UID:13816398@ezleagues.ezfacility.com
DTSTAMP:20260421T145704Z
CREATED:20260421T145704Z
DTSTART:20210812T020000Z
DTEND:20210812T030000Z
LOCATION:Turf 1
CONTACT:
SUMMARY:Saints VS. Bad Boys
DESCRIPTION:League Name: 5 vs 5 Wednesday Flag July\nGame Type: Regular\nGa
 me Status: Complete\nHome Team: Saints\nAway Team: Bad Boys\nHome Score: 8
 \nAway Score: 54
END:VEVENT
BEGIN:VEVENT
UID:13816399@ezleagues.ezfacility.com
DTSTAMP:20260421T145704Z
CREATED:20260421T145704Z
DTSTART:20210818T230000Z
DTEND:20210819T000000Z
LOCATION:Turf 1
CONTACT:
SUMMARY:Mass Swarm VS. Bad Boys
DESCRIPTION:League Name: 5 vs 5 Wednesday Flag July\nGame Type: Regular\nGa
 me Status: Complete\nHome Team: Mass Swarm\nAway Team: Bad Boys\nHome Scor
 e: 21\nAway Score: 35
END:VEVENT
BEGIN:VEVENT
UID:13816404@ezleagues.ezfacility.com
DTSTAMP:20260421T145704Z
CREATED:20260421T145704Z
DTSTART:20210826T000000Z
DTEND:20210826T010000Z
LOCATION:Turf 1
CONTACT:
SUMMARY:Panthers  VS. Bad Boys
DESCRIPTION:League Name: 5 vs 5 Wednesday Flag July\nGame Type: Regular\nGa
 me Status: Complete\nHome Team: Panthers \nAway Team: Bad Boys\nHome Score
 : 30\nAway Score: 36
END:VEVENT
BEGIN:VEVENT
UID:13816448@ezleagues.ezfacility.com
DTSTAMP:20260421T145704Z
CREATED:20260421T145704Z
DTSTART:20210902T010000Z
DTEND:20210902T020000Z
LOCATION:Turf 1
CONTACT:
SUMMARY:Cowboys VS. Bad Boys
DESCRIPTION:League Name: 5 vs 5 Wednesday Flag July\nGame Type: Regular\nGa
 me Status: Complete\nHome Team: Cowboys\nAway Team: Bad Boys\nHome Score: 
 26\nAway Score: 34
END:VEVENT
BEGIN:VEVENT
UID:13816450@ezleagues.ezfacility.com
DTSTAMP:20260421T145704Z
CREATED:20260421T145704Z
DTSTART:20210902T030000Z
DTEND:20210902T040000Z
LOCATION:Turf 1
CONTACT:
SUMMARY:Jaguars VS. Bad Boys
DESCRIPTION:League Name: 5 vs 5 Wednesday Flag July\nGame Type: Regular\nGa
 me Status: Complete\nHome Team: Jaguars\nAway Team: Bad Boys\nHome Score: 
 0\nAway Score: 1
END:VEVENT
BEGIN:VEVENT
UID:13857014@ezleagues.ezfacility.com
DTSTAMP:20260421T145704Z
CREATED:20260421T145704Z
DTSTART:20210909T020000Z
DTEND:20210909T030000Z
LOCATION:Turf 1
CONTACT:
SUMMARY:Bad Boys VS. First Round Bye
DESCRIPTION:League Name: 5 vs 5 Wednesday Flag July\nGame Type: Postseason\
 nGame Status: Pending\nHome Team: Bad Boys\nAway Team: First Round Bye\n
END:VEVENT
BEGIN:VEVENT
UID:13869104@ezleagues.ezfacility.com
DTSTAMP:20260421T145704Z
CREATED:20260421T145704Z
DTSTART:20210915T230000Z
DTEND:20210916T000000Z
LOCATION:Turf 1
CONTACT:
SUMMARY:Bad Boys VS. Saints
DESCRIPTION:League Name: 5 vs 5 Wednesday Flag July\nGame Type: Postseason\
 nGame Status: Pending\nHome Team: Bad Boys\nAway Team: Saints\n
END:VEVENT
BEGIN:VEVENT
UID:13869138@ezleagues.ezfacility.com
DTSTAMP:20260421T145704Z
CREATED:20260421T145704Z
DTSTART:20210916T010000Z
DTEND:20210916T020000Z
LOCATION:Turf 1
CONTACT:
SUMMARY:Bad Boys VS. Bad Boys
DESCRIPTION:League Name: 5 vs 5 Wednesday Flag July\nGame Type: Postseason\
 nGame Status: Pending\nHome Team: Bad Boys\nAway Team: Bad Boys\n
END:VEVENT
BEGIN:VEVENT
UID:13869138@ezleagues.ezfacility.com
DTSTAMP:20260421T145704Z
CREATED:20260421T145704Z
DTSTART:20210916T010000Z
DTEND:20210916T020000Z
LOCATION:Turf 1
CONTACT:
SUMMARY:Bad Boys VS. Bad Boys
DESCRIPTION:League Name: 5 vs 5 Wednesday Flag July\nGame Type: Postseason\
 nGame Status: Pending\nHome Team: Bad Boys\nAway Team: Bad Boys\n
END:VEVENT
END:VCALENDAR
