BEGIN:VCALENDAR
VERSION:2.0
PRODID:-//EZFacility.com, Inc.//EZL 2.5.5.28621
BEGIN:VEVENT
UID:13806096@ezleagues.ezfacility.com
DTSTAMP:20260422T124603Z
CREATED:20260422T124603Z
DTSTART:20210715T010000Z
DTEND:20210715T020000Z
LOCATION:Turf 1
CONTACT:
SUMMARY:Saints VS. Jaguars
DESCRIPTION:League Name: 5 vs 5 Wednesday Flag July\nGame Type: Regular\nGa
 me Status: Complete\nHome Team: Saints\nAway Team: Jaguars\nHome Score: 38
 \nAway Score: 34
END:VEVENT
BEGIN:VEVENT
UID:13816384@ezleagues.ezfacility.com
DTSTAMP:20260422T124603Z
CREATED:20260422T124603Z
DTSTART:20210722T020000Z
DTEND:20210722T030000Z
LOCATION:Turf 1
CONTACT:
SUMMARY:Ravens VS. Saints
DESCRIPTION:League Name: 5 vs 5 Wednesday Flag July\nGame Type: Regular\nGa
 me Status: Complete\nHome Team: Ravens\nAway Team: Saints\nHome Score: 48\
 nAway Score: 48
END:VEVENT
BEGIN:VEVENT
UID:13816388@ezleagues.ezfacility.com
DTSTAMP:20260422T124603Z
CREATED:20260422T124603Z
DTSTART:20210729T010000Z
DTEND:20210729T020000Z
LOCATION:Turf 1
CONTACT:
SUMMARY:Chargers VS. Saints
DESCRIPTION:League Name: 5 vs 5 Wednesday Flag July\nGame Type: Regular\nGa
 me Status: Complete\nHome Team: Chargers\nAway Team: Saints\nHome Score: 5
 0\nAway Score: 18
END:VEVENT
BEGIN:VEVENT
UID:13816392@ezleagues.ezfacility.com
DTSTAMP:20260422T124603Z
CREATED:20260422T124603Z
DTSTART:20210805T010000Z
DTEND:20210805T020000Z
LOCATION:Turf 1
CONTACT:
SUMMARY:Cowboys VS. Saints
DESCRIPTION:League Name: 5 vs 5 Wednesday Flag July\nGame Type: Regular\nGa
 me Status: Complete\nHome Team: Cowboys\nAway Team: Saints\nHome Score: 28
 \nAway Score: 24
END:VEVENT
BEGIN:VEVENT
UID:13816398@ezleagues.ezfacility.com
DTSTAMP:20260422T124603Z
CREATED:20260422T124603Z
DTSTART:20210812T020000Z
DTEND:20210812T030000Z
LOCATION:Turf 1
CONTACT:
SUMMARY:Saints VS. Bad Boys
DESCRIPTION:League Name: 5 vs 5 Wednesday Flag July\nGame Type: Regular\nGa
 me Status: Complete\nHome Team: Saints\nAway Team: Bad Boys\nHome Score: 8
 \nAway Score: 54
END:VEVENT
BEGIN:VEVENT
UID:13816401@ezleagues.ezfacility.com
DTSTAMP:20260422T124603Z
CREATED:20260422T124603Z
DTSTART:20210819T010000Z
DTEND:20210819T020000Z
LOCATION:Turf 1
CONTACT:
SUMMARY:Saints VS. Panthers 
DESCRIPTION:League Name: 5 vs 5 Wednesday Flag July\nGame Type: Regular\nGa
 me Status: Complete\nHome Team: Saints\nAway Team: Panthers \nHome Score: 
 26\nAway Score: 27
END:VEVENT
BEGIN:VEVENT
UID:13816405@ezleagues.ezfacility.com
DTSTAMP:20260422T124603Z
CREATED:20260422T124603Z
DTSTART:20210826T010000Z
DTEND:20210826T020000Z
LOCATION:Turf 1
CONTACT:
SUMMARY:Jaguars VS. Saints
DESCRIPTION:League Name: 5 vs 5 Wednesday Flag July\nGame Type: Regular\nGa
 me Status: Complete\nHome Team: Jaguars\nAway Team: Saints\nHome Score: 0\
 nAway Score: 1
END:VEVENT
BEGIN:VEVENT
UID:13816449@ezleagues.ezfacility.com
DTSTAMP:20260422T124603Z
CREATED:20260422T124603Z
DTSTART:20210901T230000Z
DTEND:20210902T000000Z
LOCATION:Turf 1
CONTACT:
SUMMARY:Saints VS. Mass Swarm
DESCRIPTION:League Name: 5 vs 5 Wednesday Flag July\nGame Type: Regular\nGa
 me Status: Complete\nHome Team: Saints\nAway Team: Mass Swarm\nHome Score:
  28\nAway Score: 52
END:VEVENT
BEGIN:VEVENT
UID:13857016@ezleagues.ezfacility.com
DTSTAMP:20260422T124603Z
CREATED:20260422T124603Z
DTSTART:20210908T230000Z
DTEND:20210909T000000Z
LOCATION:Turf 1
CONTACT:
SUMMARY:Chargers VS. Saints
DESCRIPTION:League Name: 5 vs 5 Wednesday Flag July\nGame Type: Postseason\
 nGame Status: Complete\nHome Team: Chargers\nAway Team: Saints\nHome Score
 : 18\nAway Score: 26
END:VEVENT
BEGIN:VEVENT
UID:13869104@ezleagues.ezfacility.com
DTSTAMP:20260422T124603Z
CREATED:20260422T124603Z
DTSTART:20210915T230000Z
DTEND:20210916T000000Z
LOCATION:Turf 1
CONTACT:
SUMMARY:Bad Boys VS. Saints
DESCRIPTION:League Name: 5 vs 5 Wednesday Flag July\nGame Type: Postseason\
 nGame Status: Pending\nHome Team: Bad Boys\nAway Team: Saints\n
END:VEVENT
END:VCALENDAR
