BEGIN:VCALENDAR
VERSION:2.0
PRODID:-//EZFacility.com, Inc.//EZL 2.5.5.28621
BEGIN:VEVENT
UID:13806533@ezleagues.ezfacility.com
DTSTAMP:20260420T101718Z
CREATED:20260420T101718Z
DTSTART:20210707T020000Z
DTEND:20210707T030000Z
LOCATION:Field 1
CONTACT:
SUMMARY:All Blacks VS. Selecao Fc
DESCRIPTION:League Name: Mon/Tues/ Wed Men's Soccer League Summer 2021 (Jun
 e 28th 2021 - August 30th 2021)-Division 3-NORTH\nGame Type: Regular\nGame
  Status: Complete\nHome Team: All Blacks\nAway Team: Selecao Fc\nHome Scor
 e: 6\nAway Score: 3
END:VEVENT
BEGIN:VEVENT
UID:13806536@ezleagues.ezfacility.com
DTSTAMP:20260420T101718Z
CREATED:20260420T101718Z
DTSTART:20210714T020000Z
DTEND:20210714T030000Z
LOCATION:Field 1
CONTACT:
SUMMARY:All Blacks VS. CFA
DESCRIPTION:League Name: Mon/Tues/ Wed Men's Soccer League Summer 2021 (Jun
 e 28th 2021 - August 30th 2021)-Division 3-NORTH\nGame Type: Regular\nGame
  Status: Complete\nHome Team: All Blacks\nAway Team: CFA\nHome Score: 6\nA
 way Score: 5
END:VEVENT
BEGIN:VEVENT
UID:13806540@ezleagues.ezfacility.com
DTSTAMP:20260420T101718Z
CREATED:20260420T101718Z
DTSTART:20210722T020000Z
DTEND:20210722T030000Z
LOCATION:Field 2
CONTACT:Kalafatis
SUMMARY:All Blacks VS. CCTAX
DESCRIPTION:League Name: Mon/Tues/ Wed Men's Soccer League Summer 2021 (Jun
 e 28th 2021 - August 30th 2021)-Division 3-NORTH\nGame Type: Regular\nGame
  Status: Complete\nHome Team: All Blacks\nAway Team: CCTAX\nHome Score: 6\
 nAway Score: 7
END:VEVENT
BEGIN:VEVENT
UID:13806542@ezleagues.ezfacility.com
DTSTAMP:20260420T101718Z
CREATED:20260420T101718Z
DTSTART:20210728T020000Z
DTEND:20210728T030000Z
LOCATION:Field 2
CONTACT:
SUMMARY:Los Jotos VS. All Blacks
DESCRIPTION:League Name: Mon/Tues/ Wed Men's Soccer League Summer 2021 (Jun
 e 28th 2021 - August 30th 2021)-Division 3-NORTH\nGame Type: Regular\nGame
  Status: Complete\nHome Team: Los Jotos\nAway Team: All Blacks\nHome Score
 : 3\nAway Score: 6
END:VEVENT
BEGIN:VEVENT
UID:13806545@ezleagues.ezfacility.com
DTSTAMP:20260420T101718Z
CREATED:20260420T101718Z
DTSTART:20210803T010000Z
DTEND:20210803T020000Z
LOCATION:Field 1
CONTACT:
SUMMARY:Benfica VS. All Blacks
DESCRIPTION:League Name: Mon/Tues/ Wed Men's Soccer League Summer 2021 (Jun
 e 28th 2021 - August 30th 2021)-Division 3-NORTH\nGame Type: Regular\nGame
  Status: Complete\nHome Team: Benfica\nAway Team: All Blacks\nHome Score: 
 1\nAway Score: 5
END:VEVENT
BEGIN:VEVENT
UID:13825414@ezleagues.ezfacility.com
DTSTAMP:20260420T101718Z
CREATED:20260420T101718Z
DTSTART:20210810T000000Z
DTEND:20210810T010000Z
LOCATION:Field 2
CONTACT:Stojanovski
SUMMARY:All Blacks VS. CFA
DESCRIPTION:League Name: Mon/Tues/ Wed Men's Soccer League Summer 2021 (Jun
 e 28th 2021 - August 30th 2021)-Division 3-NORTH\nGame Type: Regular\nGame
  Status: Complete\nHome Team: All Blacks\nAway Team: CFA\nHome Score: 3\nA
 way Score: 8
END:VEVENT
BEGIN:VEVENT
UID:13847692@ezleagues.ezfacility.com
DTSTAMP:20260420T101718Z
CREATED:20260420T101718Z
DTSTART:20210819T010000Z
DTEND:20210819T020000Z
LOCATION:Field 2
CONTACT:Kalafatis
SUMMARY:All Blacks VS. CCTAX
DESCRIPTION:League Name: Mon/Tues/ Wed Men's Soccer League Summer 2021 (Jun
 e 28th 2021 - August 30th 2021)-Division 3-NORTH\nGame Type: Postseason\nG
 ame Status: Complete\nHome Team: All Blacks\nAway Team: CCTAX\nHome Score:
  6\nAway Score: 5
END:VEVENT
BEGIN:VEVENT
UID:13850955@ezleagues.ezfacility.com
DTSTAMP:20260420T101718Z
CREATED:20260420T101718Z
DTSTART:20210824T010000Z
DTEND:20210824T020000Z
LOCATION:Field 1
CONTACT:
SUMMARY:CFA VS. All Blacks
DESCRIPTION:League Name: Mon/Tues/ Wed Men's Soccer League Summer 2021 (Jun
 e 28th 2021 - August 30th 2021)-Division 3-NORTH\nGame Type: Postseason\nG
 ame Status: Complete\nHome Team: CFA\nAway Team: All Blacks\nHome Score: 2
 \nAway Score: 1
END:VEVENT
END:VCALENDAR
