BEGIN:VCALENDAR
VERSION:2.0
PRODID:-//EZFacility.com, Inc.//EZL 2.5.5.28621
BEGIN:VEVENT
UID:13873035@ezleagues.ezfacility.com
DTSTAMP:20260420T222528Z
CREATED:20260420T222528Z
DTSTART:20210914T212000Z
DTEND:20210914T221000Z
LOCATION:Elite--South Court
CONTACT:
SUMMARY:Elite "Green" VS. Williamstown
DESCRIPTION:League Name: 2021 Fall Basketball League (3/4/5 Boys)\nGame Typ
 e: Regular\nGame Status: Complete\nHome Team: Elite "Green"\nAway Team: Wi
 lliamstown\nHome Score: 27\nAway Score: 24
END:VEVENT
BEGIN:VEVENT
UID:13901516@ezleagues.ezfacility.com
DTSTAMP:20260420T222528Z
CREATED:20260420T222528Z
DTSTART:20210921T203000Z
DTEND:20210921T212000Z
LOCATION:Elite--North Court
CONTACT:
SUMMARY:Ripley VS. Williamstown
DESCRIPTION:League Name: 2021 Fall Basketball League (3/4/5 Boys)\nGame Typ
 e: Regular\nGame Status: Complete\nHome Team: Ripley\nAway Team: Williamst
 own\nHome Score: 34\nAway Score: 17
END:VEVENT
BEGIN:VEVENT
UID:13873048@ezleagues.ezfacility.com
DTSTAMP:20260420T222528Z
CREATED:20260420T222528Z
DTSTART:20210928T230000Z
DTEND:20210928T235000Z
LOCATION:Elite--South Court
CONTACT:
SUMMARY:Williamstown VS. Tyler Consolidated
DESCRIPTION:League Name: 2021 Fall Basketball League (3/4/5 Boys)\nGame Typ
 e: Regular\nGame Status: Complete\nHome Team: Williamstown\nAway Team: Tyl
 er Consolidated\nHome Score: 35\nAway Score: 11
END:VEVENT
BEGIN:VEVENT
UID:13873054@ezleagues.ezfacility.com
DTSTAMP:20260420T222528Z
CREATED:20260420T222528Z
DTSTART:20211005T221000Z
DTEND:20211005T230000Z
LOCATION:Elite--South Court
CONTACT:
SUMMARY:Williamstown VS. Ripley
DESCRIPTION:League Name: 2021 Fall Basketball League (3/4/5 Boys)\nGame Typ
 e: Regular\nGame Status: Complete\nHome Team: Williamstown\nAway Team: Rip
 ley\nHome Score: 11\nAway Score: 30
END:VEVENT
BEGIN:VEVENT
UID:13873059@ezleagues.ezfacility.com
DTSTAMP:20260420T222528Z
CREATED:20260420T222528Z
DTSTART:20211012T212000Z
DTEND:20211012T221000Z
LOCATION:Elite--South Court
CONTACT:
SUMMARY:Wirt County VS. Williamstown
DESCRIPTION:League Name: 2021 Fall Basketball League (3/4/5 Boys)\nGame Typ
 e: Regular\nGame Status: Complete\nHome Team: Wirt County\nAway Team: Will
 iamstown\nHome Score: 8\nAway Score: 15
END:VEVENT
BEGIN:VEVENT
UID:13873056@ezleagues.ezfacility.com
DTSTAMP:20260420T222528Z
CREATED:20260420T222528Z
DTSTART:20211012T230000Z
DTEND:20211012T235000Z
LOCATION:Elite--South Court
CONTACT:
SUMMARY:Williamstown VS. Mineral Wells
DESCRIPTION:League Name: 2021 Fall Basketball League (3/4/5 Boys)\nGame Typ
 e: Regular\nGame Status: Complete\nHome Team: Williamstown\nAway Team: Min
 eral Wells\nHome Score: 17\nAway Score: 16
END:VEVENT
BEGIN:VEVENT
UID:13873065@ezleagues.ezfacility.com
DTSTAMP:20260420T222528Z
CREATED:20260420T222528Z
DTSTART:20211019T221000Z
DTEND:20211019T230000Z
LOCATION:Elite--South Court
CONTACT:
SUMMARY:Williamstown VS. Lubeck
DESCRIPTION:League Name: 2021 Fall Basketball League (3/4/5 Boys)\nGame Typ
 e: Regular\nGame Status: Complete\nHome Team: Williamstown\nAway Team: Lub
 eck\nHome Score: 27\nAway Score: 12
END:VEVENT
BEGIN:VEVENT
UID:13928553@ezleagues.ezfacility.com
DTSTAMP:20260420T222528Z
CREATED:20260420T222528Z
DTSTART:20211026T203000Z
DTEND:20211026T212000Z
LOCATION:Elite--South Court
CONTACT:
SUMMARY:Madison VS. Williamstown
DESCRIPTION:League Name: 2021 Fall Basketball League (3/4/5 Boys)\nGame Typ
 e: Regular\nGame Status: Complete\nHome Team: Madison\nAway Team: Williams
 town\nHome Score: 13\nAway Score: 28
END:VEVENT
BEGIN:VEVENT
UID:13968634@ezleagues.ezfacility.com
DTSTAMP:20260420T222528Z
CREATED:20260420T222528Z
DTSTART:20211030T181000Z
DTEND:20211030T190000Z
LOCATION:Elite--South Court
CONTACT:
SUMMARY:Williamstown VS. Mineral Wells
DESCRIPTION:League Name: 2021 Fall Basketball League (3/4/5 Boys)\nGame Typ
 e: Postseason\nGame Status: Complete\nHome Team: Williamstown\nAway Team: 
 Mineral Wells\nHome Score: 27\nAway Score: 28
END:VEVENT
END:VCALENDAR
