BEGIN:VCALENDAR
VERSION:2.0
PRODID:-//EZFacility.com, Inc.//EZL 2.5.5.28621
BEGIN:VEVENT
UID:13883009@ezleagues.ezfacility.com
DTSTAMP:20260426T034058Z
CREATED:20260426T034058Z
DTSTART:20210919T140500Z
DTEND:20210919T150500Z
LOCATION:Premier Sports Court 2
CONTACT:
SUMMARY:Northport VS. Brentwood 
DESCRIPTION:League Name: 2021 Premier Basketball Girls Varsity Fall League\
 nGame Type: Regular\nGame Status: Complete\nHome Team: Northport\nAway Tea
 m: Brentwood \nHome Score: 56\nAway Score: 41
END:VEVENT
BEGIN:VEVENT
UID:13883632@ezleagues.ezfacility.com
DTSTAMP:20260426T034058Z
CREATED:20260426T034058Z
DTSTART:20210926T235000Z
DTEND:20210927T005000Z
LOCATION:Premier Sports Court 1
CONTACT:
SUMMARY:Smithtown West VS. Northport
DESCRIPTION:League Name: 2021 Premier Basketball Girls Varsity Fall League\
 nGame Type: Regular\nGame Status: Complete\nHome Team: Smithtown West\nAwa
 y Team: Northport\nHome Score: 45\nAway Score: 49
END:VEVENT
BEGIN:VEVENT
UID:13891403@ezleagues.ezfacility.com
DTSTAMP:20260426T034058Z
CREATED:20260426T034058Z
DTSTART:20211003T204000Z
DTEND:20211003T214000Z
LOCATION:Premier Sports Court 1
CONTACT:
SUMMARY:Bruins Gold VS. Northport
DESCRIPTION:League Name: 2021 Premier Basketball Girls Varsity Fall League\
 nGame Type: Regular\nGame Status: Complete\nHome Team: Bruins Gold\nAway T
 eam: Northport\nHome Score: 62\nAway Score: 60
END:VEVENT
BEGIN:VEVENT
UID:13893806@ezleagues.ezfacility.com
DTSTAMP:20260426T034058Z
CREATED:20260426T034058Z
DTSTART:20211010T151000Z
DTEND:20211010T161000Z
LOCATION:Premier Sports Court 1
CONTACT:
SUMMARY:Northport VS. SJB
DESCRIPTION:League Name: 2021 Premier Basketball Girls Varsity Fall League\
 nGame Type: Regular\nGame Status: Complete\nHome Team: Northport\nAway Tea
 m: SJB\nHome Score: 56\nAway Score: 48
END:VEVENT
BEGIN:VEVENT
UID:13893854@ezleagues.ezfacility.com
DTSTAMP:20260426T034058Z
CREATED:20260426T034058Z
DTSTART:20211013T002500Z
DTEND:20211013T012500Z
LOCATION:Premier Sports Court 1
CONTACT:
SUMMARY:Division VS. Northport
DESCRIPTION:League Name: 2021 Premier Basketball Girls Varsity Fall League\
 nGame Type: Regular\nGame Status: Complete\nHome Team: Division\nAway Team
 : Northport\nHome Score: 46\nAway Score: 56
END:VEVENT
BEGIN:VEVENT
UID:13905166@ezleagues.ezfacility.com
DTSTAMP:20260426T034058Z
CREATED:20260426T034058Z
DTSTART:20211017T161500Z
DTEND:20211017T171500Z
LOCATION:Premier Sports Court 2
CONTACT:
SUMMARY:Premier Riley VS. Northport
DESCRIPTION:League Name: 2021 Premier Basketball Girls Varsity Fall League\
 nGame Type: Regular\nGame Status: Complete\nHome Team: Premier Riley\nAway
  Team: Northport\nHome Score: 69\nAway Score: 66
END:VEVENT
BEGIN:VEVENT
UID:13921811@ezleagues.ezfacility.com
DTSTAMP:20260426T034058Z
CREATED:20260426T034058Z
DTSTART:20211029T002500Z
DTEND:20211029T012500Z
LOCATION:Premier Sports Court 2
CONTACT:
SUMMARY:Nassau Pride Becker  VS. Northport
DESCRIPTION:League Name: 2021 Premier Basketball Girls Varsity Fall League\
 nGame Type: Regular\nGame Status: Complete\nHome Team: Nassau Pride Becker
  \nAway Team: Northport\nHome Score: 34\nAway Score: 56
END:VEVENT
BEGIN:VEVENT
UID:13921813@ezleagues.ezfacility.com
DTSTAMP:20260426T034058Z
CREATED:20260426T034058Z
DTSTART:20211031T140500Z
DTEND:20211031T150500Z
LOCATION:Premier Sports Court 1
CONTACT:
SUMMARY:Port Washington VS. Northport
DESCRIPTION:League Name: 2021 Premier Basketball Girls Varsity Fall League\
 nGame Type: Regular\nGame Status: Complete\nHome Team: Port Washington\nAw
 ay Team: Northport\nHome Score: 21\nAway Score: 55
END:VEVENT
BEGIN:VEVENT
UID:14004601@ezleagues.ezfacility.com
DTSTAMP:20260426T034058Z
CREATED:20260426T034058Z
DTSTART:20211107T234500Z
DTEND:20211108T004500Z
LOCATION:Premier Sports Court 1
CONTACT:
SUMMARY:Northport VS. Hills East
DESCRIPTION:League Name: 2021 Premier Basketball Girls Varsity Fall League\
 nGame Type: Postseason\nGame Status: Complete\nHome Team: Northport\nAway 
 Team: Hills East\nHome Score: 41\nAway Score: 27
END:VEVENT
BEGIN:VEVENT
UID:14005819@ezleagues.ezfacility.com
DTSTAMP:20260426T034058Z
CREATED:20260426T034058Z
DTSTART:20211108T231500Z
DTEND:20211109T001500Z
LOCATION:Premier Sports Court 1
CONTACT:
SUMMARY:Diamonds VS. Northport
DESCRIPTION:League Name: 2021 Premier Basketball Girls Varsity Fall League\
 nGame Type: Postseason\nGame Status: Complete\nHome Team: Diamonds\nAway T
 eam: Northport\nHome Score: 55\nAway Score: 38
END:VEVENT
END:VCALENDAR
