BEGIN:VCALENDAR
VERSION:2.0
PRODID:-//EZFacility.com, Inc.//EZL 2.5.5.28621
BEGIN:VEVENT
UID:13873789@ezleagues.ezfacility.com
DTSTAMP:20260426T034956Z
CREATED:20260426T034956Z
DTSTART:20210919T224500Z
DTEND:20210919T234500Z
LOCATION:Premier Sports Court 2
CONTACT:
SUMMARY:Smithtown West VS. Wantagh
DESCRIPTION:League Name: 2021 Premier Basketball Girls Varsity Fall League\
 nGame Type: Regular\nGame Status: Complete\nHome Team: Smithtown West\nAwa
 y Team: Wantagh\nHome Score: 49\nAway Score: 23
END:VEVENT
BEGIN:VEVENT
UID:13883632@ezleagues.ezfacility.com
DTSTAMP:20260426T034956Z
CREATED:20260426T034956Z
DTSTART:20210926T235000Z
DTEND:20210927T005000Z
LOCATION:Premier Sports Court 1
CONTACT:
SUMMARY:Smithtown West VS. Northport
DESCRIPTION:League Name: 2021 Premier Basketball Girls Varsity Fall League\
 nGame Type: Regular\nGame Status: Complete\nHome Team: Smithtown West\nAwa
 y Team: Northport\nHome Score: 45\nAway Score: 49
END:VEVENT
BEGIN:VEVENT
UID:13893814@ezleagues.ezfacility.com
DTSTAMP:20260426T034956Z
CREATED:20260426T034956Z
DTSTART:20211010T224500Z
DTEND:20211010T234500Z
LOCATION:Premier Sports Court 1
CONTACT:
SUMMARY:Smithtown West VS. Just Shoot It Basketball 
DESCRIPTION:League Name: 2021 Premier Basketball Girls Varsity Fall League\
 nGame Type: Regular\nGame Status: Complete\nHome Team: Smithtown West\nAwa
 y Team: Just Shoot It Basketball \nHome Score: 34\nAway Score: 23
END:VEVENT
BEGIN:VEVENT
UID:13905173@ezleagues.ezfacility.com
DTSTAMP:20260426T034956Z
CREATED:20260426T034956Z
DTSTART:20211017T214000Z
DTEND:20211017T224000Z
LOCATION:Premier Sports Court 1
CONTACT:
SUMMARY:Hills East VS. Smithtown West
DESCRIPTION:League Name: 2021 Premier Basketball Girls Varsity Fall League\
 nGame Type: Regular\nGame Status: Complete\nHome Team: Hills East\nAway Te
 am: Smithtown West\nHome Score: 41\nAway Score: 36
END:VEVENT
END:VCALENDAR
