BEGIN:VCALENDAR
VERSION:2.0
PRODID:-//EZFacility.com, Inc.//EZL 2.5.5.28621
BEGIN:VEVENT
UID:13873743@ezleagues.ezfacility.com
DTSTAMP:20260426T034944Z
CREATED:20260426T034944Z
DTSTART:20210919T182500Z
DTEND:20210919T192500Z
LOCATION:Premier Sports Court 2
CONTACT:
SUMMARY:Central Islip VS. Calhoun
DESCRIPTION:League Name: 2021 Premier Basketball Girls Varsity Fall League\
 nGame Type: Regular\nGame Status: Complete\nHome Team: Central Islip\nAway
  Team: Calhoun\nHome Score: 44\nAway Score: 37
END:VEVENT
BEGIN:VEVENT
UID:13883631@ezleagues.ezfacility.com
DTSTAMP:20260426T034944Z
CREATED:20260426T034944Z
DTSTART:20210926T224500Z
DTEND:20210926T234500Z
LOCATION:Premier Sports Court 1
CONTACT:
SUMMARY:Wantagh VS. Central Islip
DESCRIPTION:League Name: 2021 Premier Basketball Girls Varsity Fall League\
 nGame Type: Regular\nGame Status: Complete\nHome Team: Wantagh\nAway Team:
  Central Islip\nHome Score: 23\nAway Score: 37
END:VEVENT
BEGIN:VEVENT
UID:13879055@ezleagues.ezfacility.com
DTSTAMP:20260426T034944Z
CREATED:20260426T034944Z
DTSTART:20211001T002500Z
DTEND:20211001T012500Z
LOCATION:Premier Sports Court 1
CONTACT:
SUMMARY:Central Islip VS. Division
DESCRIPTION:League Name: 2021 Premier Basketball Girls Varsity Fall League\
 nGame Type: Regular\nGame Status: Complete\nHome Team: Central Islip\nAway
  Team: Division\nHome Score: 34\nAway Score: 48
END:VEVENT
BEGIN:VEVENT
UID:13893789@ezleagues.ezfacility.com
DTSTAMP:20260426T034944Z
CREATED:20260426T034944Z
DTSTART:20211006T002500Z
DTEND:20211006T012500Z
LOCATION:Premier Sports Court 1
CONTACT:
SUMMARY:Brentwood  VS. Central Islip
DESCRIPTION:League Name: 2021 Premier Basketball Girls Varsity Fall League\
 nGame Type: Regular\nGame Status: Complete\nHome Team: Brentwood \nAway Te
 am: Central Islip\nHome Score: 41\nAway Score: 43
END:VEVENT
BEGIN:VEVENT
UID:13893811@ezleagues.ezfacility.com
DTSTAMP:20260426T034944Z
CREATED:20260426T034944Z
DTSTART:20211010T193000Z
DTEND:20211010T203000Z
LOCATION:Premier Sports Court 1
CONTACT:
SUMMARY:Bruins Blue VS. Central Islip
DESCRIPTION:League Name: 2021 Premier Basketball Girls Varsity Fall League\
 nGame Type: Regular\nGame Status: Complete\nHome Team: Bruins Blue\nAway T
 eam: Central Islip\nHome Score: 43\nAway Score: 38
END:VEVENT
BEGIN:VEVENT
UID:13905170@ezleagues.ezfacility.com
DTSTAMP:20260426T034944Z
CREATED:20260426T034944Z
DTSTART:20211017T182500Z
DTEND:20211017T192500Z
LOCATION:Premier Sports Court 2
CONTACT:
SUMMARY:Southampton VS. Central Islip
DESCRIPTION:League Name: 2021 Premier Basketball Girls Varsity Fall League\
 nGame Type: Regular\nGame Status: Complete\nHome Team: Southampton\nAway T
 eam: Central Islip\nHome Score: 25\nAway Score: 46
END:VEVENT
END:VCALENDAR
