BEGIN:VCALENDAR
VERSION:2.0
PRODID:-//EZFacility.com, Inc.//EZL 2.5.5.28621
BEGIN:VEVENT
UID:14073584@ezleagues.ezfacility.com
DTSTAMP:20260423T074459Z
CREATED:20260423T074459Z
DTSTART:20211204T211000Z
DTEND:20211204T220500Z
LOCATION:Harmans Premier Field #5
CONTACT:
SUMMARY:2012 Pasadena SC Storm VS. 2012 Girl Power Premier
DESCRIPTION:League Name: Youth (WINTER 1) 2021 SD2 SAT/SUN 2012 Girls (U10)
 \nGame Type: Regular\nGame Status: Complete\nHome Team: 2012 Pasadena SC S
 torm\nAway Team: 2012 Girl Power Premier\nHome Score: 5\nAway Score: 0
END:VEVENT
BEGIN:VEVENT
UID:14073621@ezleagues.ezfacility.com
DTSTAMP:20260423T074459Z
CREATED:20260423T074459Z
DTSTART:20211212T180000Z
DTEND:20211212T185500Z
LOCATION:Harmans Premier Field #5
CONTACT:
SUMMARY:2012 Pasadena SC Storm VS. 2012 SAC Premier White
DESCRIPTION:League Name: Youth (WINTER 1) 2021 SD2 SAT/SUN 2012 Girls (U10)
 \nGame Type: Regular\nGame Status: Complete\nHome Team: 2012 Pasadena SC S
 torm\nAway Team: 2012 SAC Premier White\nHome Score: 7\nAway Score: 3
END:VEVENT
BEGIN:VEVENT
UID:14073658@ezleagues.ezfacility.com
DTSTAMP:20260423T074459Z
CREATED:20260423T074459Z
DTSTART:20211218T173000Z
DTEND:20211218T182500Z
LOCATION:Harmans Premier Field #4
CONTACT:
SUMMARY:2012 Pasadena SC Storm VS. 2012 ASA Girls
DESCRIPTION:League Name: Youth (WINTER 1) 2021 SD2 SAT/SUN 2012 Girls (U10)
 \nGame Type: Regular\nGame Status: Complete\nHome Team: 2012 Pasadena SC S
 torm\nAway Team: 2012 ASA Girls\nHome Score: 2\nAway Score: 0
END:VEVENT
BEGIN:VEVENT
UID:14073769@ezleagues.ezfacility.com
DTSTAMP:20260423T074459Z
CREATED:20260423T074459Z
DTSTART:20220108T125500Z
DTEND:20220108T135000Z
LOCATION:Harmans Premier Field #5
CONTACT:
SUMMARY:2012 Girl Power Premier VS. 2012 Pasadena SC Storm
DESCRIPTION:League Name: Youth (WINTER 1) 2021 SD2 SAT/SUN 2012 Girls (U10)
 \nGame Type: Regular\nGame Status: Complete\nHome Team: 2012 Girl Power Pr
 emier\nAway Team: 2012 Pasadena SC Storm\nHome Score: 2\nAway Score: 8
END:VEVENT
BEGIN:VEVENT
UID:14073806@ezleagues.ezfacility.com
DTSTAMP:20260423T074459Z
CREATED:20260423T074459Z
DTSTART:20220115T220500Z
DTEND:20220115T230000Z
LOCATION:Harmans Premier Field #5
CONTACT:
SUMMARY:2012 SAC Premier White VS. 2012 Pasadena SC Storm
DESCRIPTION:League Name: Youth (WINTER 1) 2021 SD2 SAT/SUN 2012 Girls (U10)
 \nGame Type: Regular\nGame Status: Complete\nHome Team: 2012 SAC Premier W
 hite\nAway Team: 2012 Pasadena SC Storm\nHome Score: 2\nAway Score: 3
END:VEVENT
BEGIN:VEVENT
UID:14073843@ezleagues.ezfacility.com
DTSTAMP:20260423T074459Z
CREATED:20260423T074459Z
DTSTART:20220123T220000Z
DTEND:20220123T225500Z
LOCATION:Harmans Premier Field #4
CONTACT:
SUMMARY:2013G PSC Power VS. 2012 Pasadena SC Storm
DESCRIPTION:League Name: Youth (WINTER 1) 2021 SD2 SAT/SUN 2012 Girls (U10)
 \nGame Type: Regular\nGame Status: Complete\nHome Team: 2013G PSC Power\nA
 way Team: 2012 Pasadena SC Storm\nHome Score: 3\nAway Score: 2
END:VEVENT
BEGIN:VEVENT
UID:14073695@ezleagues.ezfacility.com
DTSTAMP:20260423T074459Z
CREATED:20260423T074459Z
DTSTART:20220130T200000Z
DTEND:20220130T205500Z
LOCATION:Harmans Premier Field #4
CONTACT:
SUMMARY:2012 Pasadena SC Storm VS. 2012 Phoenix Strikers
DESCRIPTION:League Name: Youth (WINTER 1) 2021 SD2 SAT/SUN 2012 Girls (U10)
 \nGame Type: Regular\nGame Status: Complete\nHome Team: 2012 Pasadena SC S
 torm\nAway Team: 2012 Phoenix Strikers\nHome Score: 5\nAway Score: 2
END:VEVENT
BEGIN:VEVENT
UID:14073732@ezleagues.ezfacility.com
DTSTAMP:20260423T074459Z
CREATED:20260423T074459Z
DTSTART:20220205T201500Z
DTEND:20220205T211000Z
LOCATION:Harmans Premier Field #4
CONTACT:
SUMMARY:2012 Catonsville Cobras VS. 2012 Pasadena SC Storm
DESCRIPTION:League Name: Youth (WINTER 1) 2021 SD2 SAT/SUN 2012 Girls (U10)
 \nGame Type: Regular\nGame Status: Complete\nHome Team: 2012 Catonsville C
 obras\nAway Team: 2012 Pasadena SC Storm\nHome Score: 3\nAway Score: 1
END:VEVENT
END:VCALENDAR
