BEGIN:VCALENDAR
VERSION:2.0
PRODID:-//EZFacility.com, Inc.//EZL 2.5.5.28621
BEGIN:VEVENT
UID:14073592@ezleagues.ezfacility.com
DTSTAMP:20260425T223903Z
CREATED:20260425T223903Z
DTSTART:20211205T180000Z
DTEND:20211205T185500Z
LOCATION:Harmans Premier Field #4
CONTACT:
SUMMARY:2013 GH Green VS. 2013 Pipeline Black
DESCRIPTION:League Name: Youth (WINTER 1) 2021 SD2 SAT/SUN 2013 Boys Silver
 \nGame Type: Regular\nGame Status: Complete\nHome Team: 2013 GH Green\nAwa
 y Team: 2013 Pipeline Black\nHome Score: 3\nAway Score: 4
END:VEVENT
BEGIN:VEVENT
UID:14073629@ezleagues.ezfacility.com
DTSTAMP:20260425T223903Z
CREATED:20260425T223903Z
DTSTART:20211212T220000Z
DTEND:20211212T225500Z
LOCATION:Harmans Premier Field #4
CONTACT:
SUMMARY:2013 GH Green VS. 2013 Brasil FC
DESCRIPTION:League Name: Youth (WINTER 1) 2021 SD2 SAT/SUN 2013 Boys Silver
 \nGame Type: Regular\nGame Status: Complete\nHome Team: 2013 GH Green\nAwa
 y Team: 2013 Brasil FC\nHome Score: 7\nAway Score: 1
END:VEVENT
BEGIN:VEVENT
UID:14073666@ezleagues.ezfacility.com
DTSTAMP:20260425T223903Z
CREATED:20260425T223903Z
DTSTART:20211219T210000Z
DTEND:20211219T215500Z
LOCATION:Harmans Premier Field #4
CONTACT:
SUMMARY:2013 GH Green VS. 2013 Academia de Glen Burnie Tigers
DESCRIPTION:League Name: Youth (WINTER 1) 2021 SD2 SAT/SUN 2013 Boys Silver
 \nGame Type: Regular\nGame Status: Complete\nHome Team: 2013 GH Green\nAwa
 y Team: 2013 Academia de Glen Burnie Tigers\nHome Score: 1\nAway Score: 5
END:VEVENT
BEGIN:VEVENT
UID:14073740@ezleagues.ezfacility.com
DTSTAMP:20260425T223903Z
CREATED:20260425T223903Z
DTSTART:20220102T160000Z
DTEND:20220102T165500Z
LOCATION:Harmans Premier Field #4
CONTACT:
SUMMARY:2013 A3 Stockport Ultra Eagles VS. 2013 GH Green
DESCRIPTION:League Name: Youth (WINTER 1) 2021 SD2 SAT/SUN 2013 Boys Silver
 \nGame Type: Regular\nGame Status: Complete\nHome Team: 2013 A3 Stockport 
 Ultra Eagles\nAway Team: 2013 GH Green\nHome Score: 2\nAway Score: 2
END:VEVENT
BEGIN:VEVENT
UID:14073777@ezleagues.ezfacility.com
DTSTAMP:20260425T223903Z
CREATED:20260425T223903Z
DTSTART:20220109T160000Z
DTEND:20220109T165500Z
LOCATION:Harmans Premier Field #5
CONTACT:
SUMMARY:2013 Pipeline Black VS. 2013 GH Green
DESCRIPTION:League Name: Youth (WINTER 1) 2021 SD2 SAT/SUN 2013 Boys Silver
 \nGame Type: Regular\nGame Status: Complete\nHome Team: 2013 Pipeline Blac
 k\nAway Team: 2013 GH Green\nHome Score: 6\nAway Score: 2
END:VEVENT
BEGIN:VEVENT
UID:14073814@ezleagues.ezfacility.com
DTSTAMP:20260425T223903Z
CREATED:20260425T223903Z
DTSTART:20220116T190000Z
DTEND:20220116T195500Z
LOCATION:Harmans Premier Field #5
CONTACT:
SUMMARY:2013 Brasil FC VS. 2013 GH Green
DESCRIPTION:League Name: Youth (WINTER 1) 2021 SD2 SAT/SUN 2013 Boys Silver
 \nGame Type: Regular\nGame Status: Complete\nHome Team: 2013 Brasil FC\nAw
 ay Team: 2013 GH Green\nHome Score: 0\nAway Score: 3
END:VEVENT
BEGIN:VEVENT
UID:14073851@ezleagues.ezfacility.com
DTSTAMP:20260425T223903Z
CREATED:20260425T223903Z
DTSTART:20220123T200000Z
DTEND:20220123T205500Z
LOCATION:Harmans Premier Field #4
CONTACT:
SUMMARY:2013 Academia de Glen Burnie Tigers VS. 2013 GH Green
DESCRIPTION:League Name: Youth (WINTER 1) 2021 SD2 SAT/SUN 2013 Boys Silver
 \nGame Type: Regular\nGame Status: Complete\nHome Team: 2013 Academia de G
 len Burnie Tigers\nAway Team: 2013 GH Green\nHome Score: 5\nAway Score: 6
END:VEVENT
BEGIN:VEVENT
UID:14073703@ezleagues.ezfacility.com
DTSTAMP:20260425T223903Z
CREATED:20260425T223903Z
DTSTART:20220130T180000Z
DTEND:20220130T185500Z
LOCATION:Harmans Premier Field #5
CONTACT:
SUMMARY:2013 GH Green VS. 2013 Broadneck Sting
DESCRIPTION:League Name: Youth (WINTER 1) 2021 SD2 SAT/SUN 2013 Boys Silver
 \nGame Type: Regular\nGame Status: Complete\nHome Team: 2013 GH Green\nAwa
 y Team: 2013 Broadneck Sting\nHome Score: 5\nAway Score: 3
END:VEVENT
END:VCALENDAR
