BEGIN:VCALENDAR
VERSION:2.0
PRODID:-//EZFacility.com, Inc.//EZL 2.5.5.28621
BEGIN:VEVENT
UID:14228888@ezleagues.ezfacility.com
DTSTAMP:20260426T035046Z
CREATED:20260426T035046Z
DTSTART:20220207T230000Z
DTEND:20220208T000000Z
LOCATION:Jessup Premier Field #2
CONTACT:
SUMMARY:2006 Dreamers FC VS. 2005 Rodway United Blue
DESCRIPTION:League Name: Youth (WINTER 2) 2022 SD1 M-F HS Boys (D2)\nGame T
 ype: Regular\nGame Status: Complete\nHome Team: 2006 Dreamers FC\nAway Tea
 m: 2005 Rodway United Blue\nHome Score: 8\nAway Score: 1
END:VEVENT
BEGIN:VEVENT
UID:14228901@ezleagues.ezfacility.com
DTSTAMP:20260426T035046Z
CREATED:20260426T035046Z
DTSTART:20220214T230000Z
DTEND:20220215T000000Z
LOCATION:Jessup Premier Field #1
CONTACT:
SUMMARY:2006 Dreamers FC VS. 2005-07 PSC United
DESCRIPTION:League Name: Youth (WINTER 2) 2022 SD1 M-F HS Boys (D2)\nGame T
 ype: Regular\nGame Status: Complete\nHome Team: 2006 Dreamers FC\nAway Tea
 m: 2005-07 PSC United\nHome Score: 10\nAway Score: 2
END:VEVENT
BEGIN:VEVENT
UID:14228914@ezleagues.ezfacility.com
DTSTAMP:20260426T035046Z
CREATED:20260426T035046Z
DTSTART:20220225T220000Z
DTEND:20220225T230000Z
LOCATION:Jessup Premier Field #2
CONTACT:
SUMMARY:2006 Dreamers FC VS. 2004/05 Siempre United
DESCRIPTION:League Name: Youth (WINTER 2) 2022 SD1 M-F HS Boys (D2)\nGame T
 ype: Regular\nGame Status: Complete\nHome Team: 2006 Dreamers FC\nAway Tea
 m: 2004/05 Siempre United\nHome Score: 11\nAway Score: 3
END:VEVENT
BEGIN:VEVENT
UID:14228927@ezleagues.ezfacility.com
DTSTAMP:20260426T035046Z
CREATED:20260426T035046Z
DTSTART:20220304T230000Z
DTEND:20220305T000000Z
LOCATION:Jessup Premier Field #1
CONTACT:
SUMMARY:2006 Dreamers FC VS. Berwyn Heights Wolfpack 
DESCRIPTION:League Name: Youth (WINTER 2) 2022 SD1 M-F HS Boys (D2)\nGame T
 ype: Regular\nGame Status: Complete\nHome Team: 2006 Dreamers FC\nAway Tea
 m: Berwyn Heights Wolfpack \nHome Score: 4\nAway Score: 2
END:VEVENT
BEGIN:VEVENT
UID:14228940@ezleagues.ezfacility.com
DTSTAMP:20260426T035046Z
CREATED:20260426T035046Z
DTSTART:20220307T220000Z
DTEND:20220307T230000Z
LOCATION:Jessup Premier Field #2
CONTACT:
SUMMARY:2005 ASA Rampage White VS. 2006 Dreamers FC
DESCRIPTION:League Name: Youth (WINTER 2) 2022 SD1 M-F HS Boys (D2)\nGame T
 ype: Regular\nGame Status: Complete\nHome Team: 2005 ASA Rampage White\nAw
 ay Team: 2006 Dreamers FC\nHome Score: 4\nAway Score: 9
END:VEVENT
BEGIN:VEVENT
UID:14228953@ezleagues.ezfacility.com
DTSTAMP:20260426T035046Z
CREATED:20260426T035046Z
DTSTART:20220314T220000Z
DTEND:20220314T230000Z
LOCATION:Jessup Premier Field #2
CONTACT:
SUMMARY:2005 ASA Rampage Blue VS. 2006 Dreamers FC
DESCRIPTION:League Name: Youth (WINTER 2) 2022 SD1 M-F HS Boys (D2)\nGame T
 ype: Regular\nGame Status: Complete\nHome Team: 2005 ASA Rampage Blue\nAwa
 y Team: 2006 Dreamers FC\nHome Score: 2\nAway Score: 8
END:VEVENT
BEGIN:VEVENT
UID:14228966@ezleagues.ezfacility.com
DTSTAMP:20260426T035046Z
CREATED:20260426T035046Z
DTSTART:20220325T210000Z
DTEND:20220325T220000Z
LOCATION:Jessup Premier Field #2
CONTACT:
SUMMARY:LF United VS. 2006 Dreamers FC
DESCRIPTION:League Name: Youth (WINTER 2) 2022 SD1 M-F HS Boys (D2)\nGame T
 ype: Regular\nGame Status: Complete\nHome Team: LF United\nAway Team: 2006
  Dreamers FC\nHome Score: 2\nAway Score: 4
END:VEVENT
BEGIN:VEVENT
UID:14228979@ezleagues.ezfacility.com
DTSTAMP:20260426T035046Z
CREATED:20260426T035046Z
DTSTART:20220330T220000Z
DTEND:20220330T230000Z
LOCATION:Jessup Premier Field #1
CONTACT:
SUMMARY:2005 Rodway United Blue VS. 2006 Dreamers FC
DESCRIPTION:League Name: Youth (WINTER 2) 2022 SD1 M-F HS Boys (D2)\nGame T
 ype: Regular\nGame Status: Complete\nHome Team: 2005 Rodway United Blue\nA
 way Team: 2006 Dreamers FC\nHome Score: 2\nAway Score: 10
END:VEVENT
END:VCALENDAR
