BEGIN:VCALENDAR
VERSION:2.0
PRODID:-//EZFacility.com, Inc.//EZL 2.5.5.28621
BEGIN:VEVENT
UID:14228890@ezleagues.ezfacility.com
DTSTAMP:20260422T092048Z
CREATED:20260422T092048Z
DTSTART:20220211T220000Z
DTEND:20220211T230000Z
LOCATION:Jessup Premier Field #2
CONTACT:
SUMMARY:2004/05 Siempre United VS. 2005 ASA Rampage Blue
DESCRIPTION:League Name: Youth (WINTER 2) 2022 SD1 M-F HS Boys (D2)\nGame T
 ype: Regular\nGame Status: Complete\nHome Team: 2004/05 Siempre United\nAw
 ay Team: 2005 ASA Rampage Blue\nHome Score: 2\nAway Score: 3
END:VEVENT
BEGIN:VEVENT
UID:14228902@ezleagues.ezfacility.com
DTSTAMP:20260422T092048Z
CREATED:20260422T092048Z
DTSTART:20220218T230000Z
DTEND:20220219T000000Z
LOCATION:Jessup Premier Field #1
CONTACT:
SUMMARY:2005 Rodway United Blue VS. 2004/05 Siempre United
DESCRIPTION:League Name: Youth (WINTER 2) 2022 SD1 M-F HS Boys (D2)\nGame T
 ype: Regular\nGame Status: Complete\nHome Team: 2005 Rodway United Blue\nA
 way Team: 2004/05 Siempre United\nHome Score: 3\nAway Score: 4
END:VEVENT
BEGIN:VEVENT
UID:14228914@ezleagues.ezfacility.com
DTSTAMP:20260422T092048Z
CREATED:20260422T092048Z
DTSTART:20220225T220000Z
DTEND:20220225T230000Z
LOCATION:Jessup Premier Field #2
CONTACT:
SUMMARY:2006 Dreamers FC VS. 2004/05 Siempre United
DESCRIPTION:League Name: Youth (WINTER 2) 2022 SD1 M-F HS Boys (D2)\nGame T
 ype: Regular\nGame Status: Complete\nHome Team: 2006 Dreamers FC\nAway Tea
 m: 2004/05 Siempre United\nHome Score: 11\nAway Score: 3
END:VEVENT
BEGIN:VEVENT
UID:14228928@ezleagues.ezfacility.com
DTSTAMP:20260422T092048Z
CREATED:20260422T092048Z
DTSTART:20220301T230000Z
DTEND:20220302T000000Z
LOCATION:Jessup Premier Field #1
CONTACT:
SUMMARY:2004/05 Siempre United VS. 2005 ASA Rampage White
DESCRIPTION:League Name: Youth (WINTER 2) 2022 SD1 M-F HS Boys (D2)\nGame T
 ype: Regular\nGame Status: Complete\nHome Team: 2004/05 Siempre United\nAw
 ay Team: 2005 ASA Rampage White\nHome Score: 4\nAway Score: 2
END:VEVENT
BEGIN:VEVENT
UID:14228942@ezleagues.ezfacility.com
DTSTAMP:20260422T092048Z
CREATED:20260422T092048Z
DTSTART:20220307T220000Z
DTEND:20220307T230000Z
LOCATION:Jessup Premier Field #1
CONTACT:
SUMMARY:2004/05 Siempre United VS. LF United
DESCRIPTION:League Name: Youth (WINTER 2) 2022 SD1 M-F HS Boys (D2)\nGame T
 ype: Regular\nGame Status: Complete\nHome Team: 2004/05 Siempre United\nAw
 ay Team: LF United\nHome Score: 3\nAway Score: 5
END:VEVENT
BEGIN:VEVENT
UID:14228956@ezleagues.ezfacility.com
DTSTAMP:20260422T092048Z
CREATED:20260422T092048Z
DTSTART:20220317T210000Z
DTEND:20220317T220000Z
LOCATION:Jessup Premier Field #2
CONTACT:
SUMMARY:2004/05 Siempre United VS. 2005-07 PSC United
DESCRIPTION:League Name: Youth (WINTER 2) 2022 SD1 M-F HS Boys (D2)\nGame T
 ype: Regular\nGame Status: Complete\nHome Team: 2004/05 Siempre United\nAw
 ay Team: 2005-07 PSC United\nHome Score: 7\nAway Score: 2
END:VEVENT
BEGIN:VEVENT
UID:14228969@ezleagues.ezfacility.com
DTSTAMP:20260422T092048Z
CREATED:20260422T092048Z
DTSTART:20220322T220000Z
DTEND:20220322T230000Z
LOCATION:Jessup Premier Field #1
CONTACT:
SUMMARY:Berwyn Heights Wolfpack  VS. 2004/05 Siempre United
DESCRIPTION:League Name: Youth (WINTER 2) 2022 SD1 M-F HS Boys (D2)\nGame T
 ype: Regular\nGame Status: Complete\nHome Team: Berwyn Heights Wolfpack \n
 Away Team: 2004/05 Siempre United\nHome Score: 8\nAway Score: 0
END:VEVENT
BEGIN:VEVENT
UID:14228981@ezleagues.ezfacility.com
DTSTAMP:20260422T092048Z
CREATED:20260422T092048Z
DTSTART:20220329T220000Z
DTEND:20220329T230000Z
LOCATION:Jessup Premier Field #1
CONTACT:
SUMMARY:2005 ASA Rampage Blue VS. 2004/05 Siempre United
DESCRIPTION:League Name: Youth (WINTER 2) 2022 SD1 M-F HS Boys (D2)\nGame T
 ype: Regular\nGame Status: Complete\nHome Team: 2005 ASA Rampage Blue\nAwa
 y Team: 2004/05 Siempre United\nHome Score: 8\nAway Score: 2
END:VEVENT
END:VCALENDAR
