BEGIN:VCALENDAR
VERSION:2.0
PRODID:-//EZFacility.com, Inc.//EZL 2.5.5.28621
BEGIN:VEVENT
UID:14232577@ezleagues.ezfacility.com
DTSTAMP:20260426T035149Z
CREATED:20260426T035149Z
DTSTART:20220206T160000Z
DTEND:20220206T165500Z
LOCATION:Jessup Premier Field #2
CONTACT:
SUMMARY:2008 Dreamers FC VS. 2008 SAC United Blue
DESCRIPTION:League Name: Youth (WINTER 2) 2022 SD1 SAT/SUN 2008 Boys (U14)\
 nGame Type: Regular\nGame Status: Complete\nHome Team: 2008 Dreamers FC\nA
 way Team: 2008 SAC United Blue\nHome Score: 7\nAway Score: 2
END:VEVENT
BEGIN:VEVENT
UID:14232415@ezleagues.ezfacility.com
DTSTAMP:20260426T035149Z
CREATED:20260426T035149Z
DTSTART:20220212T210000Z
DTEND:20220212T215500Z
LOCATION:Jessup Premier Field #1
CONTACT:
SUMMARY:2008 Dreamers FC VS. 2008 Broadneck Premier White
DESCRIPTION:League Name: Youth (WINTER 2) 2022 SD1 SAT/SUN 2008 Boys (U14)\
 nGame Type: Regular\nGame Status: Complete\nHome Team: 2008 Dreamers FC\nA
 way Team: 2008 Broadneck Premier White\nHome Score: 4\nAway Score: 4
END:VEVENT
BEGIN:VEVENT
UID:14232442@ezleagues.ezfacility.com
DTSTAMP:20260426T035149Z
CREATED:20260426T035149Z
DTSTART:20220219T172000Z
DTEND:20220219T181500Z
LOCATION:Jessup Premier Field #2
CONTACT:
SUMMARY:2008 Maryland International VS. 2008 Dreamers FC
DESCRIPTION:League Name: Youth (WINTER 2) 2022 SD1 SAT/SUN 2008 Boys (U14)\
 nGame Type: Regular\nGame Status: Complete\nHome Team: 2008 Maryland Inter
 national\nAway Team: 2008 Dreamers FC\nHome Score: 5\nAway Score: 3
END:VEVENT
BEGIN:VEVENT
UID:14232469@ezleagues.ezfacility.com
DTSTAMP:20260426T035149Z
CREATED:20260426T035149Z
DTSTART:20220226T215500Z
DTEND:20220226T225000Z
LOCATION:Jessup Premier Field #2
CONTACT:
SUMMARY:2008 HES Vipers Red VS. 2008 Dreamers FC
DESCRIPTION:League Name: Youth (WINTER 2) 2022 SD1 SAT/SUN 2008 Boys (U14)\
 nGame Type: Regular\nGame Status: Complete\nHome Team: 2008 HES Vipers Red
 \nAway Team: 2008 Dreamers FC\nHome Score: 6\nAway Score: 0
END:VEVENT
BEGIN:VEVENT
UID:14232496@ezleagues.ezfacility.com
DTSTAMP:20260426T035149Z
CREATED:20260426T035149Z
DTSTART:20220305T153000Z
DTEND:20220305T162500Z
LOCATION:Jessup Premier Field #1
CONTACT:
SUMMARY:2008 HES Vipers Black VS. 2008 Dreamers FC
DESCRIPTION:League Name: Youth (WINTER 2) 2022 SD1 SAT/SUN 2008 Boys (U14)\
 nGame Type: Regular\nGame Status: Complete\nHome Team: 2008 HES Vipers Bla
 ck\nAway Team: 2008 Dreamers FC\nHome Score: 1\nAway Score: 2
END:VEVENT
BEGIN:VEVENT
UID:14232523@ezleagues.ezfacility.com
DTSTAMP:20260426T035149Z
CREATED:20260426T035149Z
DTSTART:20220312T153000Z
DTEND:20220312T162500Z
LOCATION:Jessup Premier Field #1
CONTACT:
SUMMARY:2007 PG Elite VS. 2008 Dreamers FC
DESCRIPTION:League Name: Youth (WINTER 2) 2022 SD1 SAT/SUN 2008 Boys (U14)\
 nGame Type: Regular\nGame Status: Complete\nHome Team: 2007 PG Elite\nAway
  Team: 2008 Dreamers FC\nHome Score: 7\nAway Score: 3
END:VEVENT
BEGIN:VEVENT
UID:14232550@ezleagues.ezfacility.com
DTSTAMP:20260426T035149Z
CREATED:20260426T035149Z
DTSTART:20220319T143000Z
DTEND:20220319T152500Z
LOCATION:Jessup Premier Field #1
CONTACT:
SUMMARY:2008 Dreamers FC VS. 2008 Broadneck Elite Black
DESCRIPTION:League Name: Youth (WINTER 2) 2022 SD1 SAT/SUN 2008 Boys (U14)\
 nGame Type: Regular\nGame Status: Complete\nHome Team: 2008 Dreamers FC\nA
 way Team: 2008 Broadneck Elite Black\nHome Score: 1\nAway Score: 1
END:VEVENT
END:VCALENDAR
