BEGIN:VCALENDAR
VERSION:2.0
PRODID:-//EZFacility.com, Inc.//EZL 2.5.5.28621
BEGIN:VEVENT
UID:14232427@ezleagues.ezfacility.com
DTSTAMP:20260425T123808Z
CREATED:20260425T123808Z
DTSTART:20220213T170000Z
DTEND:20220213T175500Z
LOCATION:Jessup Premier Field #2
CONTACT:
SUMMARY:2009 Severna Park Black VS. 2009 Thunder PSV
DESCRIPTION:League Name: Youth (WINTER 2) 2022 SD1 SAT/SUN 2009 Boys (U13)\
 nGame Type: Regular\nGame Status: Complete\nHome Team: 2009 Severna Park B
 lack\nAway Team: 2009 Thunder PSV\nHome Score: 0\nAway Score: 5
END:VEVENT
BEGIN:VEVENT
UID:14232453@ezleagues.ezfacility.com
DTSTAMP:20260425T123808Z
CREATED:20260425T123808Z
DTSTART:20220219T210000Z
DTEND:20220219T215500Z
LOCATION:Jessup Premier Field #2
CONTACT:
SUMMARY:2009 HES Gladiators VS. 2009 Thunder PSV
DESCRIPTION:League Name: Youth (WINTER 2) 2022 SD1 SAT/SUN 2009 Boys (U13)\
 nGame Type: Regular\nGame Status: Complete\nHome Team: 2009 HES Gladiators
 \nAway Team: 2009 Thunder PSV\nHome Score: 5\nAway Score: 2
END:VEVENT
BEGIN:VEVENT
UID:14232480@ezleagues.ezfacility.com
DTSTAMP:20260425T123808Z
CREATED:20260425T123808Z
DTSTART:20220226T143500Z
DTEND:20220226T153000Z
LOCATION:Jessup Premier Field #1
CONTACT:
SUMMARY:2009 Thunder PSV VS. 2009 LF United
DESCRIPTION:League Name: Youth (WINTER 2) 2022 SD1 SAT/SUN 2009 Boys (U13)\
 nGame Type: Regular\nGame Status: Complete\nHome Team: 2009 Thunder PSV\nA
 way Team: 2009 LF United\nHome Score: 1\nAway Score: 5
END:VEVENT
BEGIN:VEVENT
UID:14232535@ezleagues.ezfacility.com
DTSTAMP:20260425T123808Z
CREATED:20260425T123808Z
DTSTART:20220312T093500Z
DTEND:20220312T103000Z
LOCATION:Jessup Premier Field #1
CONTACT:
SUMMARY:2009 Thunder PSV VS. 2009 MD International 
DESCRIPTION:League Name: Youth (WINTER 2) 2022 SD1 SAT/SUN 2009 Boys (U13)\
 nGame Type: Regular\nGame Status: Postponed\nHome Team: 2009 Thunder PSV\n
 Away Team: 2009 MD International \n
END:VEVENT
BEGIN:VEVENT
UID:14232507@ezleagues.ezfacility.com
DTSTAMP:20260425T123808Z
CREATED:20260425T123808Z
DTSTART:20220319T205500Z
DTEND:20220319T215000Z
LOCATION:Jessup Premier Field #2
CONTACT:
SUMMARY:2009 Thunder PSV VS. 2009 Academia de Glen Burnie Bulldogs
DESCRIPTION:League Name: Youth (WINTER 2) 2022 SD1 SAT/SUN 2009 Boys (U13)\
 nGame Type: Regular\nGame Status: Complete\nHome Team: 2009 Thunder PSV\nA
 way Team: 2009 Academia de Glen Burnie Bulldogs\nHome Score: 2\nAway Score
 : 5
END:VEVENT
BEGIN:VEVENT
UID:14232590@ezleagues.ezfacility.com
DTSTAMP:20260425T123808Z
CREATED:20260425T123808Z
DTSTART:20220326T181000Z
DTEND:20220326T190500Z
LOCATION:Jessup Premier Field #2
CONTACT:
SUMMARY:2009 Laurel Eagles VS. 2009 Thunder PSV
DESCRIPTION:League Name: Youth (WINTER 2) 2022 SD1 SAT/SUN 2009 Boys (U13)\
 nGame Type: Regular\nGame Status: Complete\nHome Team: 2009 Laurel Eagles\
 nAway Team: 2009 Thunder PSV\nHome Score: 4\nAway Score: 0
END:VEVENT
BEGIN:VEVENT
UID:14277516@ezleagues.ezfacility.com
DTSTAMP:20260425T123808Z
CREATED:20260425T123808Z
DTSTART:20220327T140000Z
DTEND:20220327T145500Z
LOCATION:Jessup Premier Field #2
CONTACT:
SUMMARY:2009 Thunder PSV VS. 2009 LFCIA
DESCRIPTION:League Name: Youth (WINTER 2) 2022 SD1 SAT/SUN 2009 Boys (U13)\
 nGame Type: Regular\nGame Status: Complete\nHome Team: 2009 Thunder PSV\nA
 way Team: 2009 LFCIA\nHome Score: 3\nAway Score: 5
END:VEVENT
END:VCALENDAR
