BEGIN:VCALENDAR
VERSION:2.0
PRODID:-//EZFacility.com, Inc.//EZL 2.5.5.28621
BEGIN:VEVENT
UID:1177015@ezleagues.ezfacility.com
DTSTAMP:20260426T033450Z
CREATED:20260426T033450Z
DTSTART:20080112T140000Z
DTEND:20080112T144500Z
LOCATION: Field 3
CONTACT:
SUMMARY:Herndon Fire VS. Ashburn Sting
DESCRIPTION:League Name: U13-14 Boys East\nGame Type: Regular\nGame Status:
  Complete\nHome Team: Herndon Fire\nAway Team: Ashburn Sting\nHome Score: 
 9\nAway Score: 5
END:VEVENT
BEGIN:VEVENT
UID:1177114@ezleagues.ezfacility.com
DTSTAMP:20260426T033450Z
CREATED:20260426T033450Z
DTSTART:20080119T080000Z
DTEND:20080119T084500Z
LOCATION: Field 3
CONTACT:
SUMMARY:Loudoun 94 Red #1 VS. Herndon Fire
DESCRIPTION:League Name: U13-14 Boys East\nGame Type: Regular\nGame Status:
  Complete\nHome Team: Loudoun 94 Red #1\nAway Team: Herndon Fire\nHome Sco
 re: 3\nAway Score: 7
END:VEVENT
BEGIN:VEVENT
UID:1177220@ezleagues.ezfacility.com
DTSTAMP:20260426T033450Z
CREATED:20260426T033450Z
DTSTART:20080126T153500Z
DTEND:20080126T162000Z
LOCATION:Field 1
CONTACT:
SUMMARY:Reston Raiders VS. Herndon Fire
DESCRIPTION:League Name: U13-14 Boys East\nGame Type: Regular\nGame Status:
  Complete\nHome Team: Reston Raiders\nAway Team: Herndon Fire\nHome Score:
  4\nAway Score: 2
END:VEVENT
BEGIN:VEVENT
UID:1177306@ezleagues.ezfacility.com
DTSTAMP:20260426T033450Z
CREATED:20260426T033450Z
DTSTART:20080202T092000Z
DTEND:20080202T100500Z
LOCATION:Field 1
CONTACT:
SUMMARY:Herndon Fire VS. Loudoun 94 Red #2
DESCRIPTION:League Name: U13-14 Boys East\nGame Type: Regular\nGame Status:
  Complete\nHome Team: Herndon Fire\nAway Team: Loudoun 94 Red #2\nHome Sco
 re: 6\nAway Score: 6
END:VEVENT
BEGIN:VEVENT
UID:1177508@ezleagues.ezfacility.com
DTSTAMP:20260426T033450Z
CREATED:20260426T033450Z
DTSTART:20080224T114000Z
DTEND:20080224T122500Z
LOCATION:VA Army National Guard Field 2
CONTACT:
SUMMARY:LS 94 Black Warriors VS. Herndon Fire
DESCRIPTION:League Name: U13-14 Boys East\nGame Type: Regular\nGame Status:
  Complete\nHome Team: LS 94 Black Warriors\nAway Team: Herndon Fire\nHome 
 Score: 12\nAway Score: 2
END:VEVENT
BEGIN:VEVENT
UID:1177596@ezleagues.ezfacility.com
DTSTAMP:20260426T033450Z
CREATED:20260426T033450Z
DTSTART:20080301T080000Z
DTEND:20080301T084500Z
LOCATION: Field 3
CONTACT:
SUMMARY:Herndon Fire VS. Burke Rangers
DESCRIPTION:League Name: U13-14 Boys East\nGame Type: Regular\nGame Status:
  Complete\nHome Team: Herndon Fire\nAway Team: Burke Rangers\nHome Score: 
 3\nAway Score: 0
END:VEVENT
BEGIN:VEVENT
UID:1177683@ezleagues.ezfacility.com
DTSTAMP:20260426T033450Z
CREATED:20260426T033450Z
DTSTART:20080315T070000Z
DTEND:20080315T074500Z
LOCATION:VA Army National Guard Field 2
CONTACT:
SUMMARY:Herndon Fire VS. Ashburn Sting
DESCRIPTION:League Name: U13-14 Boys East\nGame Type: Regular\nGame Status:
  Complete\nHome Team: Herndon Fire\nAway Team: Ashburn Sting\nHome Score: 
 6\nAway Score: 4
END:VEVENT
END:VCALENDAR
