BEGIN:VCALENDAR
VERSION:2.0
PRODID:-//EZFacility.com, Inc.//EZL 2.5.5.28621
BEGIN:VEVENT
UID:13902476@ezleagues.ezfacility.com
DTSTAMP:20260426T033905Z
CREATED:20260426T033905Z
DTSTART:20210927T230000Z
DTEND:20210928T000000Z
LOCATION:Turf 1
CONTACT:
SUMMARY:Saving Grace (Yellow) VS. Visich (White)
DESCRIPTION:League Name: Monday Coed Soccer 9/20-11/15\nGame Type: Regular\
 nGame Status: Complete\nHome Team: Saving Grace (Yellow)\nAway Team: Visic
 h (White)\nHome Score: 1\nAway Score: 4
END:VEVENT
BEGIN:VEVENT
UID:13902515@ezleagues.ezfacility.com
DTSTAMP:20260426T033905Z
CREATED:20260426T033905Z
DTSTART:20211005T020000Z
DTEND:20211005T030000Z
LOCATION:Turf 1
CONTACT:
SUMMARY:Whalers (Orange) VS. Saving Grace (Yellow)
DESCRIPTION:League Name: Monday Coed Soccer 9/20-11/15\nGame Type: Regular\
 nGame Status: Complete\nHome Team: Whalers (Orange)\nAway Team: Saving Gra
 ce (Yellow)\nHome Score: 10\nAway Score: 2
END:VEVENT
BEGIN:VEVENT
UID:13907391@ezleagues.ezfacility.com
DTSTAMP:20260426T033905Z
CREATED:20260426T033905Z
DTSTART:20211011T230000Z
DTEND:20211012T000000Z
LOCATION:Turf 1
CONTACT:
SUMMARY:Saving Grace (Yellow) VS. Team Familia (Purple)
DESCRIPTION:League Name: Monday Coed Soccer 9/20-11/15\nGame Type: Regular\
 nGame Status: Complete\nHome Team: Saving Grace (Yellow)\nAway Team: Team 
 Familia (Purple)\nHome Score: 3\nAway Score: 4
END:VEVENT
BEGIN:VEVENT
UID:13902520@ezleagues.ezfacility.com
DTSTAMP:20260426T033905Z
CREATED:20260426T033905Z
DTSTART:20211019T000000Z
DTEND:20211019T010000Z
LOCATION:Turf 1
CONTACT:
SUMMARY:Blue Lions (Blue) VS. Saving Grace (Yellow)
DESCRIPTION:League Name: Monday Coed Soccer 9/20-11/15\nGame Type: Regular\
 nGame Status: Complete\nHome Team: Blue Lions (Blue)\nAway Team: Saving Gr
 ace (Yellow)\nHome Score: 6\nAway Score: 5
END:VEVENT
BEGIN:VEVENT
UID:13907375@ezleagues.ezfacility.com
DTSTAMP:20260426T033905Z
CREATED:20260426T033905Z
DTSTART:20211026T010000Z
DTEND:20211026T020000Z
LOCATION:Turf 1
CONTACT:
SUMMARY:The Avengers (Black) VS. Saving Grace (Yellow)
DESCRIPTION:League Name: Monday Coed Soccer 9/20-11/15\nGame Type: Regular\
 nGame Status: Complete\nHome Team: The Avengers (Black)\nAway Team: Saving
  Grace (Yellow)\nHome Score: 12\nAway Score: 4
END:VEVENT
BEGIN:VEVENT
UID:13907380@ezleagues.ezfacility.com
DTSTAMP:20260426T033905Z
CREATED:20260426T033905Z
DTSTART:20211101T230000Z
DTEND:20211102T000000Z
LOCATION:Turf 1
CONTACT:
SUMMARY:Pappas Fritas OPT (Red Team) VS. Saving Grace (Yellow)
DESCRIPTION:League Name: Monday Coed Soccer 9/20-11/15\nGame Type: Regular\
 nGame Status: Complete\nHome Team: Pappas Fritas OPT (Red Team)\nAway Team
 : Saving Grace (Yellow)\nHome Score: 4\nAway Score: 5
END:VEVENT
BEGIN:VEVENT
UID:13907390@ezleagues.ezfacility.com
DTSTAMP:20260426T033905Z
CREATED:20260426T033905Z
DTSTART:20211109T030000Z
DTEND:20211109T040000Z
LOCATION:Turf 1
CONTACT:
SUMMARY:Saving Grace (Yellow) VS. Visich (White)
DESCRIPTION:League Name: Monday Coed Soccer 9/20-11/15\nGame Type: Regular\
 nGame Status: Complete\nHome Team: Saving Grace (Yellow)\nAway Team: Visic
 h (White)\nHome Score: 4\nAway Score: 7
END:VEVENT
BEGIN:VEVENT
UID:13964216@ezleagues.ezfacility.com
DTSTAMP:20260426T033905Z
CREATED:20260426T033905Z
DTSTART:20211116T000000Z
DTEND:20211116T010000Z
LOCATION:Turf 1
CONTACT:
SUMMARY:Wonderlund United (Green) VS. Saving Grace (Yellow)
DESCRIPTION:League Name: Monday Coed Soccer 9/20-11/15\nGame Type: Regular\
 nGame Status: Complete\nHome Team: Wonderlund United (Green)\nAway Team: S
 aving Grace (Yellow)\nHome Score: 12\nAway Score: 2
END:VEVENT
BEGIN:VEVENT
UID:14009866@ezleagues.ezfacility.com
DTSTAMP:20260426T033905Z
CREATED:20260426T033905Z
DTSTART:20211123T020000Z
DTEND:20211123T030000Z
LOCATION:Turf 1
CONTACT:
SUMMARY:Whalers (Orange) VS. Saving Grace (Yellow)
DESCRIPTION:League Name: Monday Coed Soccer 9/20-11/15\nGame Type: Regular\
 nGame Status: Complete\nHome Team: Whalers (Orange)\nAway Team: Saving Gra
 ce (Yellow)\nHome Score: 5\nAway Score: 1
END:VEVENT
END:VCALENDAR
