BEGIN:VCALENDAR
VERSION:2.0
PRODID:-//EZFacility.com, Inc.//EZL 2.5.5.28621
BEGIN:VEVENT
UID:13902572@ezleagues.ezfacility.com
DTSTAMP:20260424T044412Z
CREATED:20260424T044412Z
DTSTART:20210914T230000Z
DTEND:20210915T000000Z
LOCATION:Field 1
CONTACT:
SUMMARY:TBA Galindo VS. Plex Agents
DESCRIPTION:League Name: Mon/Tues/ Wed Men's Soccer League (Fall 2021) (Sep
 tember 6th - October 25th) -Division 3-SOUTH DIVISION\nGame Type: Regular\
 nGame Status: Complete\nHome Team: TBA Galindo\nAway Team: Plex Agents\nHo
 me Score: 3\nAway Score: 9
END:VEVENT
BEGIN:VEVENT
UID:13902565@ezleagues.ezfacility.com
DTSTAMP:20260424T044412Z
CREATED:20260424T044412Z
DTSTART:20210921T010000Z
DTEND:20210921T020000Z
LOCATION:Field 2
CONTACT:Stojanovski
SUMMARY:Ball Jugglers VS. TBA Galindo
DESCRIPTION:League Name: Mon/Tues/ Wed Men's Soccer League (Fall 2021) (Sep
 tember 6th - October 25th) -Division 3-SOUTH DIVISION\nGame Type: Regular\
 nGame Status: Complete\nHome Team: Ball Jugglers\nAway Team: TBA Galindo\n
 Home Score: 11\nAway Score: 1
END:VEVENT
BEGIN:VEVENT
UID:13903381@ezleagues.ezfacility.com
DTSTAMP:20260424T044412Z
CREATED:20260424T044412Z
DTSTART:20210928T230000Z
DTEND:20210929T000000Z
LOCATION:Field 1
CONTACT:
SUMMARY:TBD Jacob VS. TBA Galindo
DESCRIPTION:League Name: Mon/Tues/ Wed Men's Soccer League (Fall 2021) (Sep
 tember 6th - October 25th) -Division 3-SOUTH DIVISION\nGame Type: Regular\
 nGame Status: Complete\nHome Team: TBD Jacob\nAway Team: TBA Galindo\nHome
  Score: 9\nAway Score: 6
END:VEVENT
BEGIN:VEVENT
UID:13902586@ezleagues.ezfacility.com
DTSTAMP:20260424T044412Z
CREATED:20260424T044412Z
DTSTART:20211006T000000Z
DTEND:20211006T010000Z
LOCATION:Field 1
CONTACT:
SUMMARY:Not Your Mothers Fc VS. TBA Galindo
DESCRIPTION:League Name: Mon/Tues/ Wed Men's Soccer League (Fall 2021) (Sep
 tember 6th - October 25th) -Division 3-SOUTH DIVISION\nGame Type: Regular\
 nGame Status: Complete\nHome Team: Not Your Mothers Fc\nAway Team: TBA Gal
 indo\nHome Score: 10\nAway Score: 5
END:VEVENT
BEGIN:VEVENT
UID:13903385@ezleagues.ezfacility.com
DTSTAMP:20260424T044412Z
CREATED:20260424T044412Z
DTSTART:20211013T000000Z
DTEND:20211013T010000Z
LOCATION:Field 1
CONTACT:
SUMMARY:Benfica VS. TBA Galindo
DESCRIPTION:League Name: Mon/Tues/ Wed Men's Soccer League (Fall 2021) (Sep
 tember 6th - October 25th) -Division 3-SOUTH DIVISION\nGame Type: Regular\
 nGame Status: Complete\nHome Team: Benfica\nAway Team: TBA Galindo\nHome S
 core: 7\nAway Score: 8
END:VEVENT
BEGIN:VEVENT
UID:13907814@ezleagues.ezfacility.com
DTSTAMP:20260424T044412Z
CREATED:20260424T044412Z
DTSTART:20211019T230000Z
DTEND:20211020T000000Z
LOCATION:Field 1
CONTACT:
SUMMARY:TBA Galindo VS. PLEX AGENTS
DESCRIPTION:League Name: Mon/Tues/ Wed Men's Soccer League (Fall 2021) (Sep
 tember 6th - October 25th) -Division 3-SOUTH DIVISION\nGame Type: Regular\
 nGame Status: Complete\nHome Team: TBA Galindo\nAway Team: PLEX AGENTS\nHo
 me Score: 3\nAway Score: 0
END:VEVENT
BEGIN:VEVENT
UID:13964655@ezleagues.ezfacility.com
DTSTAMP:20260424T044412Z
CREATED:20260424T044412Z
DTSTART:20211026T230000Z
DTEND:20211027T000000Z
LOCATION:Field 1
CONTACT:
SUMMARY:TBA Galindo VS. Plex Agents
DESCRIPTION:League Name: Mon/Tues/ Wed Men's Soccer League (Fall 2021) (Sep
 tember 6th - October 25th) -Division 3-SOUTH DIVISION\nGame Type: Postseas
 on\nGame Status: Complete\nHome Team: TBA Galindo\nAway Team: Plex Agents\
 nHome Score: 7\nAway Score: 4
END:VEVENT
BEGIN:VEVENT
UID:13992074@ezleagues.ezfacility.com
DTSTAMP:20260424T044412Z
CREATED:20260424T044412Z
DTSTART:20211102T230000Z
DTEND:20211103T000000Z
LOCATION:Field 1
CONTACT:
SUMMARY:TBA Galindo VS. Plex Agents
DESCRIPTION:League Name: Mon/Tues/ Wed Men's Soccer League (Fall 2021) (Sep
 tember 6th - October 25th) -Division 3-SOUTH DIVISION\nGame Type: Postseas
 on\nGame Status: Complete\nHome Team: TBA Galindo\nAway Team: Plex Agents\
 nHome Score: 4\nAway Score: 8
END:VEVENT
END:VCALENDAR
