BEGIN:VCALENDAR
VERSION:2.0
PRODID:-//EZFacility.com, Inc.//EZL 2.5.5.28621
BEGIN:VEVENT
UID:13919365@ezleagues.ezfacility.com
DTSTAMP:20260424T165658Z
CREATED:20260424T165658Z
DTSTART:20211009T113000Z
DTEND:20211009T133000Z
LOCATION:Legends Ballpark Field 4 
CONTACT:
SUMMARY:MA Show VS. KUBA Knights
DESCRIPTION:League Name: Whatever It Takes 9u - Fall 2021\nGame Type: Regul
 ar\nGame Status: Complete\nHome Team: MA Show\nAway Team: KUBA Knights\nHo
 me Score: 3\nAway Score: 8
END:VEVENT
BEGIN:VEVENT
UID:13919367@ezleagues.ezfacility.com
DTSTAMP:20260424T165658Z
CREATED:20260424T165658Z
DTSTART:20211009T151000Z
DTEND:20211009T171000Z
LOCATION:Legends Ballpark Field 4 
CONTACT:
SUMMARY:KUBA Knights VS. Philadelphia Senators National
DESCRIPTION:League Name: Whatever It Takes 9u - Fall 2021\nGame Type: Regul
 ar\nGame Status: Complete\nHome Team: KUBA Knights\nAway Team: Philadelphi
 a Senators National\nHome Score: 5\nAway Score: 8
END:VEVENT
BEGIN:VEVENT
UID:13919493@ezleagues.ezfacility.com
DTSTAMP:20260424T165658Z
CREATED:20260424T165658Z
DTSTART:20211010T180000Z
DTEND:20211010T200000Z
LOCATION:Legends Ballpark Field 4 
CONTACT:
SUMMARY:KUBA Knights VS. MA Show
DESCRIPTION:League Name: Whatever It Takes 9u - Fall 2021\nGame Type: Regul
 ar\nGame Status: Complete\nHome Team: KUBA Knights\nAway Team: MA Show\nHo
 me Score: 2\nAway Score: 2
END:VEVENT
END:VCALENDAR
