BEGIN:VCALENDAR
VERSION:2.0
PRODID:-//EZFacility.com, Inc.//EZL 2.5.5.28621
BEGIN:VEVENT
UID:14073585@ezleagues.ezfacility.com
DTSTAMP:20260421T200950Z
CREATED:20260421T200950Z
DTSTART:20211204T125500Z
DTEND:20211204T135000Z
LOCATION:Harmans Premier Field #4
CONTACT:
SUMMARY:2012 SAC Premier White VS. 2012 Catonsville Cobras
DESCRIPTION:League Name: Youth (WINTER 1) 2021 SD2 SAT/SUN 2012 Girls (U10)
 \nGame Type: Regular\nGame Status: Complete\nHome Team: 2012 SAC Premier W
 hite\nAway Team: 2012 Catonsville Cobras\nHome Score: 1\nAway Score: 2
END:VEVENT
BEGIN:VEVENT
UID:14073621@ezleagues.ezfacility.com
DTSTAMP:20260421T200950Z
CREATED:20260421T200950Z
DTSTART:20211212T180000Z
DTEND:20211212T185500Z
LOCATION:Harmans Premier Field #5
CONTACT:
SUMMARY:2012 Pasadena SC Storm VS. 2012 SAC Premier White
DESCRIPTION:League Name: Youth (WINTER 1) 2021 SD2 SAT/SUN 2012 Girls (U10)
 \nGame Type: Regular\nGame Status: Complete\nHome Team: 2012 Pasadena SC S
 torm\nAway Team: 2012 SAC Premier White\nHome Score: 7\nAway Score: 3
END:VEVENT
BEGIN:VEVENT
UID:14073659@ezleagues.ezfacility.com
DTSTAMP:20260421T200950Z
CREATED:20260421T200950Z
DTSTART:20211218T154000Z
DTEND:20211218T163500Z
LOCATION:Harmans Premier Field #4
CONTACT:
SUMMARY:2012 Phoenix Strikers VS. 2012 SAC Premier White
DESCRIPTION:League Name: Youth (WINTER 1) 2021 SD2 SAT/SUN 2012 Girls (U10)
 \nGame Type: Regular\nGame Status: Complete\nHome Team: 2012 Phoenix Strik
 ers\nAway Team: 2012 SAC Premier White\nHome Score: 3\nAway Score: 2
END:VEVENT
BEGIN:VEVENT
UID:14073734@ezleagues.ezfacility.com
DTSTAMP:20260421T200950Z
CREATED:20260421T200950Z
DTSTART:20220102T200000Z
DTEND:20220102T205500Z
LOCATION:Harmans Premier Field #5
CONTACT:
SUMMARY:2013 ASA Blue Hawks VS. 2012 SAC Premier White
DESCRIPTION:League Name: Youth (WINTER 1) 2021 SD2 SAT/SUN 2012 Girls (U10)
 \nGame Type: Regular\nGame Status: Complete\nHome Team: 2013 ASA Blue Hawk
 s\nAway Team: 2012 SAC Premier White\nHome Score: 1\nAway Score: 4
END:VEVENT
BEGIN:VEVENT
UID:14073770@ezleagues.ezfacility.com
DTSTAMP:20260421T200950Z
CREATED:20260421T200950Z
DTSTART:20220108T125500Z
DTEND:20220108T135000Z
LOCATION:Harmans Premier Field #4
CONTACT:
SUMMARY:2012 Catonsville Cobras VS. 2012 SAC Premier White
DESCRIPTION:League Name: Youth (WINTER 1) 2021 SD2 SAT/SUN 2012 Girls (U10)
 \nGame Type: Regular\nGame Status: Complete\nHome Team: 2012 Catonsville C
 obras\nAway Team: 2012 SAC Premier White\nHome Score: 6\nAway Score: 1
END:VEVENT
BEGIN:VEVENT
UID:14073806@ezleagues.ezfacility.com
DTSTAMP:20260421T200950Z
CREATED:20260421T200950Z
DTSTART:20220115T220500Z
DTEND:20220115T230000Z
LOCATION:Harmans Premier Field #5
CONTACT:
SUMMARY:2012 SAC Premier White VS. 2012 Pasadena SC Storm
DESCRIPTION:League Name: Youth (WINTER 1) 2021 SD2 SAT/SUN 2012 Girls (U10)
 \nGame Type: Regular\nGame Status: Complete\nHome Team: 2012 SAC Premier W
 hite\nAway Team: 2012 Pasadena SC Storm\nHome Score: 2\nAway Score: 3
END:VEVENT
BEGIN:VEVENT
UID:14073844@ezleagues.ezfacility.com
DTSTAMP:20260421T200950Z
CREATED:20260421T200950Z
DTSTART:20220122T135000Z
DTEND:20220122T144500Z
LOCATION:Harmans Premier Field #5
CONTACT:
SUMMARY:2012 SAC Premier White VS. 2012 Phoenix Strikers
DESCRIPTION:League Name: Youth (WINTER 1) 2021 SD2 SAT/SUN 2012 Girls (U10)
 \nGame Type: Regular\nGame Status: Complete\nHome Team: 2012 SAC Premier W
 hite\nAway Team: 2012 Phoenix Strikers\nHome Score: 4\nAway Score: 2
END:VEVENT
BEGIN:VEVENT
UID:14073697@ezleagues.ezfacility.com
DTSTAMP:20260421T200950Z
CREATED:20260421T200950Z
DTSTART:20220130T220000Z
DTEND:20220130T225500Z
LOCATION:Harmans Premier Field #4
CONTACT:
SUMMARY:2012 SAC Premier White VS. 2012 Girl Power Premier
DESCRIPTION:League Name: Youth (WINTER 1) 2021 SD2 SAT/SUN 2012 Girls (U10)
 \nGame Type: Regular\nGame Status: Complete\nHome Team: 2012 SAC Premier W
 hite\nAway Team: 2012 Girl Power Premier\nHome Score: 4\nAway Score: 4
END:VEVENT
END:VCALENDAR
