BEGIN:VCALENDAR
VERSION:2.0
PRODID:-//EZFacility.com, Inc.//EZL 2.5.5.28621
BEGIN:VEVENT
UID:13931022@ezleagues.ezfacility.com
DTSTAMP:20260422T152809Z
CREATED:20260422T152809Z
DTSTART:20211011T010000Z
DTEND:20211011T014500Z
LOCATION:South Field
CONTACT:
SUMMARY:Boca VS. Olimpico Madrid
DESCRIPTION:League Name: Sunday Night SL-Fall 2021\nGame Type: Regular\nGam
 e Status: Complete\nHome Team: Boca\nAway Team: Olimpico Madrid\nHome Scor
 e: 4\nAway Score: 3
END:VEVENT
BEGIN:VEVENT
UID:13931032@ezleagues.ezfacility.com
DTSTAMP:20260422T152809Z
CREATED:20260422T152809Z
DTSTART:20211018T020000Z
DTEND:20211018T024500Z
LOCATION:North Field
CONTACT:
SUMMARY:Boca VS. Tuxpan
DESCRIPTION:League Name: Sunday Night SL-Fall 2021\nGame Type: Regular\nGam
 e Status: Complete\nHome Team: Boca\nAway Team: Tuxpan\nHome Score: 3\nAwa
 y Score: 7
END:VEVENT
BEGIN:VEVENT
UID:13931041@ezleagues.ezfacility.com
DTSTAMP:20260422T152809Z
CREATED:20260422T152809Z
DTSTART:20211025T020000Z
DTEND:20211025T024500Z
LOCATION:South Field
CONTACT:
SUMMARY:Cougar FC VS. Boca
DESCRIPTION:League Name: Sunday Night SL-Fall 2021\nGame Type: Regular\nGam
 e Status: Complete\nHome Team: Cougar FC\nAway Team: Boca\nHome Score: 5\n
 Away Score: 4
END:VEVENT
BEGIN:VEVENT
UID:13931049@ezleagues.ezfacility.com
DTSTAMP:20260422T152809Z
CREATED:20260422T152809Z
DTSTART:20211031T234500Z
DTEND:20211101T003000Z
LOCATION:North Field
CONTACT:
SUMMARY:Atletico VS. Boca
DESCRIPTION:League Name: Sunday Night SL-Fall 2021\nGame Type: Regular\nGam
 e Status: Complete\nHome Team: Atletico\nAway Team: Boca\nHome Score: 4\nA
 way Score: 2
END:VEVENT
BEGIN:VEVENT
UID:13931057@ezleagues.ezfacility.com
DTSTAMP:20260422T152809Z
CREATED:20260422T152809Z
DTSTART:20211108T000000Z
DTEND:20211108T004500Z
LOCATION:North Field
CONTACT:
SUMMARY:Boca VS. Huitzuco MD
DESCRIPTION:League Name: Sunday Night SL-Fall 2021\nGame Type: Regular\nGam
 e Status: Complete\nHome Team: Boca\nAway Team: Huitzuco MD\nHome Score: 1
 \nAway Score: 6
END:VEVENT
BEGIN:VEVENT
UID:13931065@ezleagues.ezfacility.com
DTSTAMP:20260422T152809Z
CREATED:20260422T152809Z
DTSTART:20211115T011500Z
DTEND:20211115T020000Z
LOCATION:South Field
CONTACT:
SUMMARY:Boca VS. Puerkules
DESCRIPTION:League Name: Sunday Night SL-Fall 2021\nGame Type: Regular\nGam
 e Status: Complete\nHome Team: Boca\nAway Team: Puerkules\nHome Score: 4\n
 Away Score: 3
END:VEVENT
BEGIN:VEVENT
UID:13931073@ezleagues.ezfacility.com
DTSTAMP:20260422T152809Z
CREATED:20260422T152809Z
DTSTART:20211122T011500Z
DTEND:20211122T020000Z
LOCATION:South Field
CONTACT:
SUMMARY:Wolves FC VS. Boca
DESCRIPTION:League Name: Sunday Night SL-Fall 2021\nGame Type: Regular\nGam
 e Status: Complete\nHome Team: Wolves FC\nAway Team: Boca\nHome Score: 6\n
 Away Score: 7
END:VEVENT
BEGIN:VEVENT
UID:13931081@ezleagues.ezfacility.com
DTSTAMP:20260422T152809Z
CREATED:20260422T152809Z
DTSTART:20211129T024500Z
DTEND:20211129T033000Z
LOCATION:North Field
CONTACT:
SUMMARY:Brasil VS. Boca
DESCRIPTION:League Name: Sunday Night SL-Fall 2021\nGame Type: Regular\nGam
 e Status: Complete\nHome Team: Brasil\nAway Team: Boca\nHome Score: 6\nAwa
 y Score: 2
END:VEVENT
BEGIN:VEVENT
UID:14091761@ezleagues.ezfacility.com
DTSTAMP:20260422T152809Z
CREATED:20260422T152809Z
DTSTART:20211206T010000Z
DTEND:20211206T014500Z
LOCATION:South Field
CONTACT:
SUMMARY:Boca VS. Wolves FC
DESCRIPTION:League Name: Sunday Night SL-Fall 2021\nGame Type: Postseason\n
 Game Status: Pending\nHome Team: Boca\nAway Team: Wolves FC\n
END:VEVENT
END:VCALENDAR
