BEGIN:VCALENDAR
VERSION:2.0
PRODID:-//EZFacility.com, Inc.//EZL 2.5.5.28621
BEGIN:VEVENT
UID:13931023@ezleagues.ezfacility.com
DTSTAMP:20260425T111846Z
CREATED:20260425T111846Z
DTSTART:20211011T014500Z
DTEND:20211011T023000Z
LOCATION:South Field
CONTACT:
SUMMARY:Tuxpan VS. Guerrero
DESCRIPTION:League Name: Sunday Night SL-Fall 2021\nGame Type: Regular\nGam
 e Status: Complete\nHome Team: Tuxpan\nAway Team: Guerrero\nHome Score: 7\
 nAway Score: 2
END:VEVENT
BEGIN:VEVENT
UID:13931031@ezleagues.ezfacility.com
DTSTAMP:20260425T111846Z
CREATED:20260425T111846Z
DTSTART:20211018T011500Z
DTEND:20211018T020000Z
LOCATION:North Field
CONTACT:
SUMMARY:Cougar FC VS. Guerrero
DESCRIPTION:League Name: Sunday Night SL-Fall 2021\nGame Type: Regular\nGam
 e Status: Complete\nHome Team: Cougar FC\nAway Team: Guerrero\nHome Score:
  1\nAway Score: 6
END:VEVENT
BEGIN:VEVENT
UID:13931039@ezleagues.ezfacility.com
DTSTAMP:20260425T111846Z
CREATED:20260425T111846Z
DTSTART:20211025T003000Z
DTEND:20211025T011500Z
LOCATION:South Field
CONTACT:
SUMMARY:Guerrero VS. Atletico
DESCRIPTION:League Name: Sunday Night SL-Fall 2021\nGame Type: Regular\nGam
 e Status: Complete\nHome Team: Guerrero\nAway Team: Atletico\nHome Score: 
 4\nAway Score: 3
END:VEVENT
BEGIN:VEVENT
UID:13931048@ezleagues.ezfacility.com
DTSTAMP:20260425T111846Z
CREATED:20260425T111846Z
DTSTART:20211101T011500Z
DTEND:20211101T020000Z
LOCATION:North Field
CONTACT:
SUMMARY:Guerrero VS. Salvadoreño
DESCRIPTION:League Name: Sunday Night SL-Fall 2021\nGame Type: Regular\nGam
 e Status: Complete\nHome Team: Guerrero\nAway Team: Salvadoreño\nHome Sco
 re: 0\nAway Score: 4
END:VEVENT
BEGIN:VEVENT
UID:13931055@ezleagues.ezfacility.com
DTSTAMP:20260425T111846Z
CREATED:20260425T111846Z
DTSTART:20211108T003000Z
DTEND:20211108T011500Z
LOCATION:South Field
CONTACT:
SUMMARY:Guerrero VS. Puerkules
DESCRIPTION:League Name: Sunday Night SL-Fall 2021\nGame Type: Regular\nGam
 e Status: Complete\nHome Team: Guerrero\nAway Team: Puerkules\nHome Score:
  3\nAway Score: 3
END:VEVENT
BEGIN:VEVENT
UID:13931063@ezleagues.ezfacility.com
DTSTAMP:20260425T111846Z
CREATED:20260425T111846Z
DTSTART:20211115T013000Z
DTEND:20211115T021500Z
LOCATION:North Field
CONTACT:
SUMMARY:Guerrero VS. Wolves FC
DESCRIPTION:League Name: Sunday Night SL-Fall 2021\nGame Type: Regular\nGam
 e Status: Complete\nHome Team: Guerrero\nAway Team: Wolves FC\nHome Score:
  11\nAway Score: 1
END:VEVENT
BEGIN:VEVENT
UID:13931071@ezleagues.ezfacility.com
DTSTAMP:20260425T111846Z
CREATED:20260425T111846Z
DTSTART:20211122T030000Z
DTEND:20211122T034500Z
LOCATION:North Field
CONTACT:
SUMMARY:Brasil VS. Guerrero
DESCRIPTION:League Name: Sunday Night SL-Fall 2021\nGame Type: Regular\nGam
 e Status: Complete\nHome Team: Brasil\nAway Team: Guerrero\nHome Score: 1\
 nAway Score: 2
END:VEVENT
BEGIN:VEVENT
UID:13931079@ezleagues.ezfacility.com
DTSTAMP:20260425T111846Z
CREATED:20260425T111846Z
DTSTART:20211129T004500Z
DTEND:20211129T013000Z
LOCATION:South Field
CONTACT:
SUMMARY:Atlas VS. Guerrero
DESCRIPTION:League Name: Sunday Night SL-Fall 2021\nGame Type: Regular\nGam
 e Status: Complete\nHome Team: Atlas\nAway Team: Guerrero\nHome Score: 2\n
 Away Score: 4
END:VEVENT
BEGIN:VEVENT
UID:14091755@ezleagues.ezfacility.com
DTSTAMP:20260425T111846Z
CREATED:20260425T111846Z
DTSTART:20211206T030000Z
DTEND:20211206T034500Z
LOCATION:North Field
CONTACT:
SUMMARY:Tuxpan VS. Guerrero
DESCRIPTION:League Name: Sunday Night SL-Fall 2021\nGame Type: Postseason\n
 Game Status: Pending\nHome Team: Tuxpan\nAway Team: Guerrero\n
END:VEVENT
END:VCALENDAR
