BEGIN:VCALENDAR
VERSION:2.0
PRODID:-//EZFacility.com, Inc.//EZL 2.5.5.28621
BEGIN:VEVENT
UID:13940726@ezleagues.ezfacility.com
DTSTAMP:20260423T143447Z
CREATED:20260423T143447Z
DTSTART:20211017T233500Z
DTEND:20211018T012000Z
LOCATION:PFFC Field House - C
CONTACT:
SUMMARY:Babylon2 VS. Bronaldinhos
DESCRIPTION:League Name: MSL Fall 2021 - Men’s Sunday First Game\nGame Ty
 pe: Regular\nGame Status: Complete\nHome Team: Babylon2\nAway Team: Bronal
 dinhos\nHome Score: 5\nAway Score: 3
END:VEVENT
END:VCALENDAR
