BEGIN:VCALENDAR
VERSION:2.0
PRODID:-//EZFacility.com, Inc.//EZL 2.5.5.28621
BEGIN:VEVENT
UID:13963330@ezleagues.ezfacility.com
DTSTAMP:20260422T140158Z
CREATED:20260422T140158Z
DTSTART:20211030T111500Z
DTEND:20211030T122000Z
LOCATION:PFFC Dome - Field #3
CONTACT:
SUMMARY:SSE 90 2013 VS. OSC BU9
DESCRIPTION:League Name: BU9 - Development\nGame Type: Regular\nGame Status
 : Pending\nHome Team: SSE 90 2013\nAway Team: OSC BU9\n
END:VEVENT
BEGIN:VEVENT
UID:13963364@ezleagues.ezfacility.com
DTSTAMP:20260422T140158Z
CREATED:20260422T140158Z
DTSTART:20211113T132000Z
DTEND:20211113T142500Z
LOCATION:PFFC Field House - Field B
CONTACT:
SUMMARY:Supernova FC  VS. OSC BU9
DESCRIPTION:League Name: BU9 - Development\nGame Type: Regular\nGame Status
 : Pending\nHome Team: Supernova FC \nAway Team: OSC BU9\n
END:VEVENT
BEGIN:VEVENT
UID:13963381@ezleagues.ezfacility.com
DTSTAMP:20260422T140158Z
CREATED:20260422T140158Z
DTSTART:20211127T120000Z
DTEND:20211127T130500Z
LOCATION:PFFC Field House - Field C
CONTACT:
SUMMARY:OSC BU9 VS. BSC U9B Red 
DESCRIPTION:League Name: BU9 - Development\nGame Type: Regular\nGame Status
 : Pending\nHome Team: OSC BU9\nAway Team: BSC U9B Red \n
END:VEVENT
BEGIN:VEVENT
UID:13963415@ezleagues.ezfacility.com
DTSTAMP:20260422T140158Z
CREATED:20260422T140158Z
DTSTART:20211204T153000Z
DTEND:20211204T163500Z
LOCATION:PFFC Dome - Field #3
CONTACT:
SUMMARY:OSC BU9 VS. Burlington Bayhawks
DESCRIPTION:League Name: BU9 - Development\nGame Type: Regular\nGame Status
 : Pending\nHome Team: OSC BU9\nAway Team: Burlington Bayhawks\n
END:VEVENT
BEGIN:VEVENT
UID:13963425@ezleagues.ezfacility.com
DTSTAMP:20260422T140158Z
CREATED:20260422T140158Z
DTSTART:20211211T142500Z
DTEND:20211211T153000Z
LOCATION:PFFC Field House - Field A
CONTACT:
SUMMARY:OSC BU9 VS. First Touch Jaguars U9 White
DESCRIPTION:League Name: BU9 - Development\nGame Type: Regular\nGame Status
 : Pending\nHome Team: OSC BU9\nAway Team: First Touch Jaguars U9 White\n
END:VEVENT
BEGIN:VEVENT
UID:13963554@ezleagues.ezfacility.com
DTSTAMP:20260422T140158Z
CREATED:20260422T140158Z
DTSTART:20220205T173000Z
DTEND:20220205T183500Z
LOCATION:PFFC Dome - Field #2
CONTACT:
SUMMARY:OSC BU9 VS. Lakeshore United FC
DESCRIPTION:League Name: BU9 - Development\nGame Type: Regular\nGame Status
 : Pending\nHome Team: OSC BU9\nAway Team: Lakeshore United FC\n
END:VEVENT
BEGIN:VEVENT
UID:13963586@ezleagues.ezfacility.com
DTSTAMP:20260422T140158Z
CREATED:20260422T140158Z
DTSTART:20220219T161000Z
DTEND:20220219T171500Z
LOCATION:PFFC Field House - Field D
CONTACT:
SUMMARY:OSC BU9 VS. Croatia Norval White
DESCRIPTION:League Name: BU9 - Development\nGame Type: Regular\nGame Status
 : Pending\nHome Team: OSC BU9\nAway Team: Croatia Norval White\n
END:VEVENT
BEGIN:VEVENT
UID:13963604@ezleagues.ezfacility.com
DTSTAMP:20260422T140158Z
CREATED:20260422T140158Z
DTSTART:20220226T151500Z
DTEND:20220226T162000Z
LOCATION:PFFC Field House - Field D
CONTACT:
SUMMARY:OSC BU9 VS. Supernova FC 
DESCRIPTION:League Name: BU9 - Development\nGame Type: Regular\nGame Status
 : Pending\nHome Team: OSC BU9\nAway Team: Supernova FC \n
END:VEVENT
BEGIN:VEVENT
UID:13963347@ezleagues.ezfacility.com
DTSTAMP:20260422T140158Z
CREATED:20260422T140158Z
DTSTART:20220312T141000Z
DTEND:20220312T151500Z
LOCATION:PFFC Field House - Field D
CONTACT:
SUMMARY:OSC BU9 VS. Croatia Norval White
DESCRIPTION:League Name: BU9 - Development\nGame Type: Regular\nGame Status
 : Pending\nHome Team: OSC BU9\nAway Team: Croatia Norval White\n
END:VEVENT
BEGIN:VEVENT
UID:13963398@ezleagues.ezfacility.com
DTSTAMP:20260422T140158Z
CREATED:20260422T140158Z
DTSTART:20220319T125500Z
DTEND:20220319T140000Z
LOCATION:PFFC Field House - Field A
CONTACT:
SUMMARY:OSC BU9 VS. Etobicoke Youth SC
DESCRIPTION:League Name: BU9 - Development\nGame Type: Regular\nGame Status
 : Pending\nHome Team: OSC BU9\nAway Team: Etobicoke Youth SC\n
END:VEVENT
BEGIN:VEVENT
UID:13963570@ezleagues.ezfacility.com
DTSTAMP:20260422T140158Z
CREATED:20260422T140158Z
DTSTART:20220326T141500Z
DTEND:20220326T152000Z
LOCATION:PFFC Field House - Field D
CONTACT:
SUMMARY:OSC BU9 VS. SSE 90 2013
DESCRIPTION:League Name: BU9 - Development\nGame Type: Regular\nGame Status
 : Pending\nHome Team: OSC BU9\nAway Team: SSE 90 2013\n
END:VEVENT
BEGIN:VEVENT
UID:13963448@ezleagues.ezfacility.com
DTSTAMP:20260422T140158Z
CREATED:20260422T140158Z
DTSTART:20220402T120500Z
DTEND:20220402T131000Z
LOCATION:PFFC Dome - Field #4
CONTACT:
SUMMARY:Erin Mills Eagles B2013 Green VS. OSC BU9
DESCRIPTION:League Name: BU9 - Development\nGame Type: Regular\nGame Status
 : Pending\nHome Team: Erin Mills Eagles B2013 Green\nAway Team: OSC BU9\n
END:VEVENT
BEGIN:VEVENT
UID:13963463@ezleagues.ezfacility.com
DTSTAMP:20260422T140158Z
CREATED:20260422T140158Z
DTSTART:20220409T152500Z
DTEND:20220409T163000Z
LOCATION:PFFC Field House - Field A
CONTACT:
SUMMARY:Islington Rangers VS. OSC BU9
DESCRIPTION:League Name: BU9 - Development\nGame Type: Regular\nGame Status
 : Pending\nHome Team: Islington Rangers\nAway Team: OSC BU9\n
END:VEVENT
BEGIN:VEVENT
UID:14309896@ezleagues.ezfacility.com
DTSTAMP:20260422T140158Z
CREATED:20260422T140158Z
DTSTART:20220411T220000Z
DTEND:20220411T230500Z
LOCATION:PFFC Field House - Field A
CONTACT:
SUMMARY:USC Karpaty 2013B VS. OSC BU9
DESCRIPTION:League Name: BU9 - Development\nGame Type: Regular\nGame Status
 : Pending\nHome Team: USC Karpaty 2013B\nAway Team: OSC BU9\n
END:VEVENT
BEGIN:VEVENT
UID:13963478@ezleagues.ezfacility.com
DTSTAMP:20260422T140158Z
CREATED:20260422T140158Z
DTSTART:20220416T133500Z
DTEND:20220416T144000Z
LOCATION:PFFC Field House - Field A
CONTACT:
SUMMARY:Georgetown SC VS. OSC BU9
DESCRIPTION:League Name: BU9 - Development\nGame Type: Regular\nGame Status
 : Pending\nHome Team: Georgetown SC\nAway Team: OSC BU9\n
END:VEVENT
BEGIN:VEVENT
UID:13963521@ezleagues.ezfacility.com
DTSTAMP:20260422T140158Z
CREATED:20260422T140158Z
DTSTART:20220423T141500Z
DTEND:20220423T152000Z
LOCATION:CMCC Field 1
CONTACT:
SUMMARY:North Mississauga VS. OSC BU9
DESCRIPTION:League Name: BU9 - Development\nGame Type: Regular\nGame Status
 : Pending\nHome Team: North Mississauga\nAway Team: OSC BU9\n
END:VEVENT
BEGIN:VEVENT
UID:14308602@ezleagues.ezfacility.com
DTSTAMP:20260422T140158Z
CREATED:20260422T140158Z
DTSTART:20220507T180500Z
DTEND:20220507T191000Z
LOCATION:PFFC Field House - Field C
CONTACT:
SUMMARY:Magic Boys 2013 White VS. OSC BU9
DESCRIPTION:League Name: BU9 - Development\nGame Type: Regular\nGame Status
 : Pending\nHome Team: Magic Boys 2013 White\nAway Team: OSC BU9\n
END:VEVENT
BEGIN:VEVENT
UID:14308623@ezleagues.ezfacility.com
DTSTAMP:20260422T140158Z
CREATED:20260422T140158Z
DTSTART:20220508T173500Z
DTEND:20220508T184000Z
LOCATION:PFFC Field House - Field D
CONTACT:
SUMMARY:BRI Football Club Inc VS. OSC BU9
DESCRIPTION:League Name: BU9 - Development\nGame Type: Regular\nGame Status
 : Pending\nHome Team: BRI Football Club Inc\nAway Team: OSC BU9\n
END:VEVENT
END:VCALENDAR
