BEGIN:VCALENDAR
VERSION:2.0
PRODID:-//EZFacility.com, Inc.//EZL 2.5.5.28621
BEGIN:VEVENT
UID:13962256@ezleagues.ezfacility.com
DTSTAMP:20260424T044004Z
CREATED:20260424T044004Z
DTSTART:20211106T143000Z
DTEND:20211106T153500Z
LOCATION:PFFC Dome - Field #2
CONTACT:
SUMMARY:Force Soccer U9 VS. Bri FC U9
DESCRIPTION:League Name: BU9 - Target\nGame Type: Regular\nGame Status: Pen
 ding\nHome Team: Force Soccer U9\nAway Team: Bri FC U9\n
END:VEVENT
BEGIN:VEVENT
UID:13962265@ezleagues.ezfacility.com
DTSTAMP:20260424T044004Z
CREATED:20260424T044004Z
DTSTART:20211113T153000Z
DTEND:20211113T163500Z
LOCATION:PFFC Dome - Field #3
CONTACT:
SUMMARY:First Touch Jaguars U9 Yellow VS. Force Soccer U9
DESCRIPTION:League Name: BU9 - Target\nGame Type: Regular\nGame Status: Pen
 ding\nHome Team: First Touch Jaguars U9 Yellow\nAway Team: Force Soccer U9
 \n
END:VEVENT
BEGIN:VEVENT
UID:13962287@ezleagues.ezfacility.com
DTSTAMP:20260424T044004Z
CREATED:20260424T044004Z
DTSTART:20211127T174000Z
DTEND:20211127T184500Z
LOCATION:PFFC Dome - Field #2
CONTACT:
SUMMARY:Force Soccer U9 VS. BSC U9B Navy
DESCRIPTION:League Name: BU9 - Target\nGame Type: Regular\nGame Status: Pen
 ding\nHome Team: Force Soccer U9\nAway Team: BSC U9B Navy\n
END:VEVENT
BEGIN:VEVENT
UID:13962298@ezleagues.ezfacility.com
DTSTAMP:20260424T044004Z
CREATED:20260424T044004Z
DTSTART:20211204T141000Z
DTEND:20211204T151500Z
LOCATION:PFFC Field House - Field D
CONTACT:
SUMMARY:Croatia Norval Red VS. Force Soccer U9
DESCRIPTION:League Name: BU9 - Target\nGame Type: Regular\nGame Status: Pen
 ding\nHome Team: Croatia Norval Red\nAway Team: Force Soccer U9\n
END:VEVENT
BEGIN:VEVENT
UID:13962320@ezleagues.ezfacility.com
DTSTAMP:20260424T044004Z
CREATED:20260424T044004Z
DTSTART:20211218T135000Z
DTEND:20211218T145500Z
LOCATION:PFFC Field House - Field C
CONTACT:
SUMMARY:Force Soccer U9 VS. Caledon SC 2013
DESCRIPTION:League Name: BU9 - Target\nGame Type: Regular\nGame Status: Pen
 ding\nHome Team: Force Soccer U9\nAway Team: Caledon SC 2013\n
END:VEVENT
BEGIN:VEVENT
UID:14233699@ezleagues.ezfacility.com
DTSTAMP:20260424T044004Z
CREATED:20260424T044004Z
DTSTART:20220205T121500Z
DTEND:20220205T132000Z
LOCATION:PFFC Dome - Field #2
CONTACT:
SUMMARY:Supernova FC VS. Force Soccer U9
DESCRIPTION:League Name: BU9 - Target\nGame Type: Regular\nGame Status: Pen
 ding\nHome Team: Supernova FC\nAway Team: Force Soccer U9\n
END:VEVENT
BEGIN:VEVENT
UID:13962395@ezleagues.ezfacility.com
DTSTAMP:20260424T044004Z
CREATED:20260424T044004Z
DTSTART:20220212T132000Z
DTEND:20220212T142500Z
LOCATION:PFFC Dome - Field #2
CONTACT:
SUMMARY:Force Soccer U9 VS. First Touch Jaguars U9 Yellow
DESCRIPTION:League Name: BU9 - Target\nGame Type: Regular\nGame Status: Pen
 ding\nHome Team: Force Soccer U9\nAway Team: First Touch Jaguars U9 Yellow
 \n
END:VEVENT
BEGIN:VEVENT
UID:13962409@ezleagues.ezfacility.com
DTSTAMP:20260424T044004Z
CREATED:20260424T044004Z
DTSTART:20220219T130500Z
DTEND:20220219T141000Z
LOCATION:PFFC Dome - Field #1
CONTACT:
SUMMARY:Force Soccer U9 VS. Magic Boys 2013 Blue
DESCRIPTION:League Name: BU9 - Target\nGame Type: Regular\nGame Status: Pen
 ding\nHome Team: Force Soccer U9\nAway Team: Magic Boys 2013 Blue\n
END:VEVENT
BEGIN:VEVENT
UID:13962428@ezleagues.ezfacility.com
DTSTAMP:20260424T044004Z
CREATED:20260424T044004Z
DTSTART:20220305T120000Z
DTEND:20220305T130500Z
LOCATION:PFFC Field House - Field C
CONTACT:
SUMMARY:Force Soccer U9 VS. Croatia Norval Red
DESCRIPTION:League Name: BU9 - Target\nGame Type: Regular\nGame Status: Pen
 ding\nHome Team: Force Soccer U9\nAway Team: Croatia Norval Red\n
END:VEVENT
BEGIN:VEVENT
UID:13962418@ezleagues.ezfacility.com
DTSTAMP:20260424T044004Z
CREATED:20260424T044004Z
DTSTART:20220312T132000Z
DTEND:20220312T142500Z
LOCATION:PFFC Dome - Field #2
CONTACT:
SUMMARY:Force Soccer U9 VS. Etobicoke Youth SC
DESCRIPTION:League Name: BU9 - Target\nGame Type: Regular\nGame Status: Pen
 ding\nHome Team: Force Soccer U9\nAway Team: Etobicoke Youth SC\n
END:VEVENT
BEGIN:VEVENT
UID:13962387@ezleagues.ezfacility.com
DTSTAMP:20260424T044004Z
CREATED:20260424T044004Z
DTSTART:20220319T150500Z
DTEND:20220319T161000Z
LOCATION:PFFC Dome - Field #1
CONTACT:
SUMMARY:Caledon SC 2013 VS. Force Soccer U9
DESCRIPTION:League Name: BU9 - Target\nGame Type: Regular\nGame Status: Pen
 ding\nHome Team: Caledon SC 2013\nAway Team: Force Soccer U9\n
END:VEVENT
BEGIN:VEVENT
UID:13962275@ezleagues.ezfacility.com
DTSTAMP:20260424T044004Z
CREATED:20260424T044004Z
DTSTART:20220326T130500Z
DTEND:20220326T141000Z
LOCATION:PFFC Field House - Field B
CONTACT:
SUMMARY:Magic Boys 2013 Blue VS. Force Soccer U9
DESCRIPTION:League Name: BU9 - Target\nGame Type: Regular\nGame Status: Pen
 ding\nHome Team: Magic Boys 2013 Blue\nAway Team: Force Soccer U9\n
END:VEVENT
BEGIN:VEVENT
UID:13962309@ezleagues.ezfacility.com
DTSTAMP:20260424T044004Z
CREATED:20260424T044004Z
DTSTART:20220402T125500Z
DTEND:20220402T140000Z
LOCATION:CMCC Field 2
CONTACT:
SUMMARY:Force Soccer U9 VS. Blue Devils 2013
DESCRIPTION:League Name: BU9 - Target\nGame Type: Regular\nGame Status: Com
 plete\nHome Team: Force Soccer U9\nAway Team: Blue Devils 2013\nHome Score
 : 0\nAway Score: 0
END:VEVENT
BEGIN:VEVENT
UID:13962359@ezleagues.ezfacility.com
DTSTAMP:20260424T044004Z
CREATED:20260424T044004Z
DTSTART:20220409T131000Z
DTEND:20220409T141500Z
LOCATION:PFFC Dome - Field #1
CONTACT:
SUMMARY:Etobicoke Youth SC VS. Force Soccer U9
DESCRIPTION:League Name: BU9 - Target\nGame Type: Regular\nGame Status: Pen
 ding\nHome Team: Etobicoke Youth SC\nAway Team: Force Soccer U9\n
END:VEVENT
BEGIN:VEVENT
UID:13962331@ezleagues.ezfacility.com
DTSTAMP:20260424T044004Z
CREATED:20260424T044004Z
DTSTART:20220416T141500Z
DTEND:20220416T152000Z
LOCATION:CMCC Field 1
CONTACT:
SUMMARY:Force Soccer U9 VS. OSC BU9
DESCRIPTION:League Name: BU9 - Target\nGame Type: Regular\nGame Status: Pen
 ding\nHome Team: Force Soccer U9\nAway Team: OSC BU9\n
END:VEVENT
BEGIN:VEVENT
UID:14309923@ezleagues.ezfacility.com
DTSTAMP:20260424T044004Z
CREATED:20260424T044004Z
DTSTART:20220420T220000Z
DTEND:20220420T230500Z
LOCATION:PFFC Dome - Field #1
CONTACT:
SUMMARY:Force Soccer U9 VS. First Touch Jaguars U9 Yellow
DESCRIPTION:League Name: BU9 - Target\nGame Type: Regular\nGame Status: Pen
 ding\nHome Team: Force Soccer U9\nAway Team: First Touch Jaguars U9 Yellow
 \n
END:VEVENT
BEGIN:VEVENT
UID:13962341@ezleagues.ezfacility.com
DTSTAMP:20260424T044004Z
CREATED:20260424T044004Z
DTSTART:20220423T163000Z
DTEND:20220423T173500Z
LOCATION:PFFC Dome - Field #2
CONTACT:
SUMMARY:DSC 2013 Black VS. Force Soccer U9
DESCRIPTION:League Name: BU9 - Target\nGame Type: Regular\nGame Status: Pen
 ding\nHome Team: DSC 2013 Black\nAway Team: Force Soccer U9\n
END:VEVENT
BEGIN:VEVENT
UID:14308612@ezleagues.ezfacility.com
DTSTAMP:20260424T044004Z
CREATED:20260424T044004Z
DTSTART:20220507T132500Z
DTEND:20220507T143000Z
LOCATION:PFFC Field House - Field B
CONTACT:
SUMMARY:Burlington Bayhawks VS. Force Soccer U9
DESCRIPTION:League Name: BU9 - Target\nGame Type: Regular\nGame Status: Pen
 ding\nHome Team: Burlington Bayhawks\nAway Team: Force Soccer U9\n
END:VEVENT
END:VCALENDAR
