BEGIN:VCALENDAR
VERSION:2.0
PRODID:-//EZFacility.com, Inc.//EZL 2.5.5.28621
BEGIN:VEVENT
UID:13973707@ezleagues.ezfacility.com
DTSTAMP:20260422T075438Z
CREATED:20260422T075438Z
DTSTART:20211030T180500Z
DTEND:20211030T190000Z
LOCATION:PFFC Dome - Full Field
CONTACT:
SUMMARY:NMSC Panthers GU15 VS. Bolton Wanderers 2007 Girls
DESCRIPTION:League Name: GU15 - Target\nGame Type: Regular\nGame Status: Co
 mplete\nHome Team: NMSC Panthers GU15\nAway Team: Bolton Wanderers 2007 Gi
 rls\nHome Score: 2\nAway Score: 0
END:VEVENT
BEGIN:VEVENT
UID:14012263@ezleagues.ezfacility.com
DTSTAMP:20260422T075438Z
CREATED:20260422T075438Z
DTSTART:20211113T211000Z
DTEND:20211113T220500Z
LOCATION:CMCC - Full Field
CONTACT:
SUMMARY:Caledon Blue VS. NMSC Panthers GU15
DESCRIPTION:League Name: GU15 - Target\nGame Type: Regular\nGame Status: Co
 mplete\nHome Team: Caledon Blue\nAway Team: NMSC Panthers GU15\nHome Score
 : 1\nAway Score: 1
END:VEVENT
BEGIN:VEVENT
UID:14012245@ezleagues.ezfacility.com
DTSTAMP:20260422T075438Z
CREATED:20260422T075438Z
DTSTART:20211127T205500Z
DTEND:20211127T215000Z
LOCATION:PFFC Field House - Full Field 
CONTACT:
SUMMARY:NMSC Panthers GU15 VS. Erin Mills Eagles G2007 Green
DESCRIPTION:League Name: GU15 - Target\nGame Type: Regular\nGame Status: Co
 mplete\nHome Team: NMSC Panthers GU15\nAway Team: Erin Mills Eagles G2007 
 Green\nHome Score: 1\nAway Score: 0
END:VEVENT
BEGIN:VEVENT
UID:14012223@ezleagues.ezfacility.com
DTSTAMP:20260422T075438Z
CREATED:20260422T075438Z
DTSTART:20211211T220500Z
DTEND:20211211T230000Z
LOCATION:CMCC - Full Field
CONTACT:
SUMMARY:Brampton Navy VS. NMSC Panthers GU15
DESCRIPTION:League Name: GU15 - Target\nGame Type: Regular\nGame Status: Re
 scheduled\nHome Team: Brampton Navy\nAway Team: NMSC Panthers GU15\n
END:VEVENT
BEGIN:VEVENT
UID:14012302@ezleagues.ezfacility.com
DTSTAMP:20260422T075438Z
CREATED:20260422T075438Z
DTSTART:20220109T002000Z
DTEND:20220109T011500Z
LOCATION:PFFC Field House - Full Field 
CONTACT:
SUMMARY:NMSC Panthers GU15 VS. Vaughan Azzurri SSC U15 Premier
DESCRIPTION:League Name: GU15 - Target\nGame Type: Regular\nGame Status: Re
 scheduled\nHome Team: NMSC Panthers GU15\nAway Team: Vaughan Azzurri SSC U
 15 Premier\n
END:VEVENT
BEGIN:VEVENT
UID:14012322@ezleagues.ezfacility.com
DTSTAMP:20260422T075438Z
CREATED:20260422T075438Z
DTSTART:20220122T230000Z
DTEND:20220122T235500Z
LOCATION:CMCC - Full Field
CONTACT:
SUMMARY:NMSC Panthers GU15 VS. Oakville Soccer Club
DESCRIPTION:League Name: GU15 - Target\nGame Type: Regular\nGame Status: Re
 scheduled\nHome Team: NMSC Panthers GU15\nAway Team: Oakville Soccer Club\
 n
END:VEVENT
BEGIN:VEVENT
UID:14012234@ezleagues.ezfacility.com
DTSTAMP:20260422T075438Z
CREATED:20260422T075438Z
DTSTART:20220212T230000Z
DTEND:20220212T235500Z
LOCATION:CMCC - Full Field
CONTACT:
SUMMARY:Oakville Soccer Club VS. NMSC Panthers GU15
DESCRIPTION:League Name: GU15 - Target\nGame Type: Regular\nGame Status: Co
 mplete\nHome Team: Oakville Soccer Club\nAway Team: NMSC Panthers GU15\nHo
 me Score: 1\nAway Score: 1
END:VEVENT
BEGIN:VEVENT
UID:14221501@ezleagues.ezfacility.com
DTSTAMP:20260422T075438Z
CREATED:20260422T075438Z
DTSTART:20220219T173000Z
DTEND:20220219T182500Z
LOCATION:CMCC - Full Field
CONTACT:
SUMMARY:Brampton Navy VS. NMSC Panthers GU15
DESCRIPTION:League Name: GU15 - Target\nGame Type: Regular\nGame Status: Co
 mplete\nHome Team: Brampton Navy\nAway Team: NMSC Panthers GU15\nHome Scor
 e: 0\nAway Score: 1
END:VEVENT
BEGIN:VEVENT
UID:14012256@ezleagues.ezfacility.com
DTSTAMP:20260422T075438Z
CREATED:20260422T075438Z
DTSTART:20220226T230000Z
DTEND:20220226T235500Z
LOCATION:CMCC - Full Field
CONTACT:
SUMMARY:NMSC Panthers GU15 VS. Bolton Wanderers 2007 Girls
DESCRIPTION:League Name: GU15 - Target\nGame Type: Regular\nGame Status: Co
 mplete\nHome Team: NMSC Panthers GU15\nAway Team: Bolton Wanderers 2007 Gi
 rls\nHome Score: 1\nAway Score: 1
END:VEVENT
BEGIN:VEVENT
UID:14012276@ezleagues.ezfacility.com
DTSTAMP:20260422T075438Z
CREATED:20260422T075438Z
DTSTART:20220312T200000Z
DTEND:20220312T205500Z
LOCATION:PFFC Dome - Full Field
CONTACT:
SUMMARY:Islington Rangers VS. NMSC Panthers GU15
DESCRIPTION:League Name: GU15 - Target\nGame Type: Regular\nGame Status: Co
 mplete\nHome Team: Islington Rangers\nAway Team: NMSC Panthers GU15\nHome 
 Score: 0\nAway Score: 4
END:VEVENT
BEGIN:VEVENT
UID:14012285@ezleagues.ezfacility.com
DTSTAMP:20260422T075438Z
CREATED:20260422T075438Z
DTSTART:20220326T224000Z
DTEND:20220326T233500Z
LOCATION:PFFC Dome - Full Field
CONTACT:
SUMMARY:NMSC Panthers GU15 VS. Georgetown Mustangs
DESCRIPTION:League Name: GU15 - Target\nGame Type: Regular\nGame Status: Co
 mplete\nHome Team: NMSC Panthers GU15\nAway Team: Georgetown Mustangs\nHom
 e Score: 2\nAway Score: 0
END:VEVENT
BEGIN:VEVENT
UID:14012294@ezleagues.ezfacility.com
DTSTAMP:20260422T075438Z
CREATED:20260422T075438Z
DTSTART:20220409T201000Z
DTEND:20220409T210500Z
LOCATION:PFFC Field House - Full Field 
CONTACT:
SUMMARY:Force Soccer U15 VS. NMSC Panthers GU15
DESCRIPTION:League Name: GU15 - Target\nGame Type: Regular\nGame Status: Co
 mplete\nHome Team: Force Soccer U15\nAway Team: NMSC Panthers GU15\nHome S
 core: 2\nAway Score: 0
END:VEVENT
BEGIN:VEVENT
UID:14012313@ezleagues.ezfacility.com
DTSTAMP:20260422T075438Z
CREATED:20260422T075438Z
DTSTART:20220423T232000Z
DTEND:20220424T001500Z
LOCATION:CMCC - Full Field
CONTACT:
SUMMARY:NMSC Panthers GU15 VS. Brampton Navy
DESCRIPTION:League Name: GU15 - Target\nGame Type: Regular\nGame Status: Co
 mplete\nHome Team: NMSC Panthers GU15\nAway Team: Brampton Navy\nHome Scor
 e: 0\nAway Score: 0
END:VEVENT
BEGIN:VEVENT
UID:14231968@ezleagues.ezfacility.com
DTSTAMP:20260422T075438Z
CREATED:20260422T075438Z
DTSTART:20220501T164500Z
DTEND:20220501T174000Z
LOCATION:Iceland #1 - Outdoor
CONTACT:
SUMMARY:NMSC Panthers GU15 VS. Oakville Soccer Club
DESCRIPTION:League Name: GU15 - Target\nGame Type: Regular\nGame Status: Co
 mplete\nHome Team: NMSC Panthers GU15\nAway Team: Oakville Soccer Club\nHo
 me Score: 1\nAway Score: 1
END:VEVENT
BEGIN:VEVENT
UID:14310421@ezleagues.ezfacility.com
DTSTAMP:20260422T075438Z
CREATED:20260422T075438Z
DTSTART:20220508T162000Z
DTEND:20220508T171500Z
LOCATION:Iceland #1 - Outdoor
CONTACT:
SUMMARY:NMSC Panthers GU15 VS. Vaughan Azzurri SSC U15 Premier
DESCRIPTION:League Name: GU15 - Target\nGame Type: Regular\nGame Status: Co
 mplete\nHome Team: NMSC Panthers GU15\nAway Team: Vaughan Azzurri SSC U15 
 Premier\nHome Score: 2\nAway Score: 0
END:VEVENT
END:VCALENDAR
