BEGIN:VCALENDAR
VERSION:2.0
PRODID:-//EZFacility.com, Inc.//EZL 2.5.5.28621
BEGIN:VEVENT
UID:13973762@ezleagues.ezfacility.com
DTSTAMP:20260419T134201Z
CREATED:20260419T134201Z
DTSTART:20211031T004000Z
DTEND:20211031T013500Z
LOCATION:PFFC Dome - Full Field
CONTACT:
SUMMARY:North Mississauga VS. Force Soccer U17
DESCRIPTION:League Name: GU17\nGame Type: Regular\nGame Status: Complete\nH
 ome Team: North Mississauga\nAway Team: Force Soccer U17\nHome Score: 1\nA
 way Score: 3
END:VEVENT
BEGIN:VEVENT
UID:14011890@ezleagues.ezfacility.com
DTSTAMP:20260419T134201Z
CREATED:20260419T134201Z
DTSTART:20211113T230000Z
DTEND:20211113T235500Z
LOCATION:PFFC Field House - Full Field 
CONTACT:
SUMMARY:Force Soccer U17 VS. Erin Mills Eagles G2005 White
DESCRIPTION:League Name: GU17\nGame Type: Regular\nGame Status: Complete\nH
 ome Team: Force Soccer U17\nAway Team: Erin Mills Eagles G2005 White\nHome
  Score: 0\nAway Score: 1
END:VEVENT
BEGIN:VEVENT
UID:14011880@ezleagues.ezfacility.com
DTSTAMP:20260419T134201Z
CREATED:20260419T134201Z
DTSTART:20211128T033500Z
DTEND:20211128T043000Z
LOCATION:CMCC - Full Field
CONTACT:
SUMMARY:Croatia Norval 2005G VS. Force Soccer U17
DESCRIPTION:League Name: GU17\nGame Type: Regular\nGame Status: Complete\nH
 ome Team: Croatia Norval 2005G\nAway Team: Force Soccer U17\nHome Score: 2
 \nAway Score: 1
END:VEVENT
BEGIN:VEVENT
UID:14011899@ezleagues.ezfacility.com
DTSTAMP:20260419T134201Z
CREATED:20260419T134201Z
DTSTART:20211211T234000Z
DTEND:20211212T003500Z
LOCATION:PFFC Dome - Full Field
CONTACT:
SUMMARY:DSC Girls 2005 Black VS. Force Soccer U17
DESCRIPTION:League Name: GU17\nGame Type: Regular\nGame Status: Complete\nH
 ome Team: DSC Girls 2005 Black\nAway Team: Force Soccer U17\nHome Score: 0
 \nAway Score: 0
END:VEVENT
BEGIN:VEVENT
UID:14011918@ezleagues.ezfacility.com
DTSTAMP:20260419T134201Z
CREATED:20260419T134201Z
DTSTART:20220115T234000Z
DTEND:20220116T003500Z
LOCATION:PFFC Dome - Full Field
CONTACT:
SUMMARY:Force Soccer U17 VS. Erin Mills Eagles G2005 White
DESCRIPTION:League Name: GU17\nGame Type: Regular\nGame Status: Rescheduled
 \nHome Team: Force Soccer U17\nAway Team: Erin Mills Eagles G2005 White\n
END:VEVENT
BEGIN:VEVENT
UID:14011885@ezleagues.ezfacility.com
DTSTAMP:20260419T134201Z
CREATED:20260419T134201Z
DTSTART:20220129T234000Z
DTEND:20220130T003500Z
LOCATION:PFFC Dome - Full Field
CONTACT:
SUMMARY:North Mississauga VS. Force Soccer U17
DESCRIPTION:League Name: GU17\nGame Type: Regular\nGame Status: Rescheduled
 \nHome Team: North Mississauga\nAway Team: Force Soccer U17\n
END:VEVENT
BEGIN:VEVENT
UID:14011895@ezleagues.ezfacility.com
DTSTAMP:20260419T134201Z
CREATED:20260419T134201Z
DTSTART:20220214T022000Z
DTEND:20220214T031500Z
LOCATION:PFFC Dome - Full Field
CONTACT:
SUMMARY:Oakville SC GU17B VS. Force Soccer U17
DESCRIPTION:League Name: GU17\nGame Type: Regular\nGame Status: Complete\nH
 ome Team: Oakville SC GU17B\nAway Team: Force Soccer U17\nHome Score: 1\nA
 way Score: 0
END:VEVENT
BEGIN:VEVENT
UID:14011902@ezleagues.ezfacility.com
DTSTAMP:20260419T134201Z
CREATED:20260419T134201Z
DTSTART:20220228T022000Z
DTEND:20220228T031500Z
LOCATION:PFFC Dome - Full Field
CONTACT:
SUMMARY:Burlington Bayhawks VS. Force Soccer U17
DESCRIPTION:League Name: GU17\nGame Type: Regular\nGame Status: Complete\nH
 ome Team: Burlington Bayhawks\nAway Team: Force Soccer U17\nHome Score: 0\
 nAway Score: 2
END:VEVENT
BEGIN:VEVENT
UID:14011905@ezleagues.ezfacility.com
DTSTAMP:20260419T134201Z
CREATED:20260419T134201Z
DTSTART:20220313T024000Z
DTEND:20220313T033500Z
LOCATION:CMCC - Full Field
CONTACT:
SUMMARY:Guelph Gryphons U17 Girls VS. Force Soccer U17
DESCRIPTION:League Name: GU17\nGame Type: Regular\nGame Status: Complete\nH
 ome Team: Guelph Gryphons U17 Girls\nAway Team: Force Soccer U17\nHome Sco
 re: 1\nAway Score: 0
END:VEVENT
BEGIN:VEVENT
UID:14011908@ezleagues.ezfacility.com
DTSTAMP:20260419T134201Z
CREATED:20260419T134201Z
DTSTART:20220403T014000Z
DTEND:20220403T023500Z
LOCATION:CMCC - Full Field
CONTACT:
SUMMARY:Force Soccer U17 VS. Croatia Norval 2005G
DESCRIPTION:League Name: GU17\nGame Type: Regular\nGame Status: Complete\nH
 ome Team: Force Soccer U17\nAway Team: Croatia Norval 2005G\nHome Score: 1
 \nAway Score: 0
END:VEVENT
BEGIN:VEVENT
UID:14011913@ezleagues.ezfacility.com
DTSTAMP:20260419T134201Z
CREATED:20260419T134201Z
DTSTART:20220416T224000Z
DTEND:20220416T233500Z
LOCATION:PFFC Field House - Full Field 
CONTACT:
SUMMARY:Force Soccer U17 VS. North Mississauga
DESCRIPTION:League Name: GU17\nGame Type: Regular\nGame Status: Complete\nH
 ome Team: Force Soccer U17\nAway Team: North Mississauga\nHome Score: 3\nA
 way Score: 0
END:VEVENT
BEGIN:VEVENT
UID:14231343@ezleagues.ezfacility.com
DTSTAMP:20260419T134201Z
CREATED:20260419T134201Z
DTSTART:20220424T193000Z
DTEND:20220424T202500Z
LOCATION:Churchill - Outdoor #2
CONTACT:
SUMMARY:Force Soccer U17 VS. Erin Mills Eagles G2005 White
DESCRIPTION:League Name: GU17\nGame Type: Regular\nGame Status: Complete\nH
 ome Team: Force Soccer U17\nAway Team: Erin Mills Eagles G2005 White\nHome
  Score: 1\nAway Score: 0
END:VEVENT
BEGIN:VEVENT
UID:14011923@ezleagues.ezfacility.com
DTSTAMP:20260419T134201Z
CREATED:20260419T134201Z
DTSTART:20220430T221500Z
DTEND:20220430T231000Z
LOCATION:PFFC Dome - Full Field
CONTACT:
SUMMARY:Force Soccer U17 VS. Oakville SC GU17B
DESCRIPTION:League Name: GU17\nGame Type: Regular\nGame Status: Complete\nH
 ome Team: Force Soccer U17\nAway Team: Oakville SC GU17B\nHome Score: 0\nA
 way Score: 0
END:VEVENT
BEGIN:VEVENT
UID:14231983@ezleagues.ezfacility.com
DTSTAMP:20260419T134201Z
CREATED:20260419T134201Z
DTSTART:20220501T212000Z
DTEND:20220501T221500Z
LOCATION:Iceland #2 - Outdoor
CONTACT:
SUMMARY:North Mississauga VS. Force Soccer U17
DESCRIPTION:League Name: GU17\nGame Type: Regular\nGame Status: Complete\nH
 ome Team: North Mississauga\nAway Team: Force Soccer U17\nHome Score: 1\nA
 way Score: 1
END:VEVENT
END:VCALENDAR
