BEGIN:VCALENDAR
VERSION:2.0
PRODID:-//EZFacility.com, Inc.//EZL 2.5.5.28621
BEGIN:VEVENT
UID:13974134@ezleagues.ezfacility.com
DTSTAMP:20260424T044221Z
CREATED:20260424T044221Z
DTSTART:20211031T014500Z
DTEND:20211031T024000Z
LOCATION:CMCC - Full Field
CONTACT:
SUMMARY:GSC BU18 Red VS. Prostars FC White
DESCRIPTION:League Name: BU17/18 - Development\nGame Type: Regular\nGame St
 atus: Complete\nHome Team: GSC BU18 Red\nAway Team: Prostars FC White\nHom
 e Score: 0\nAway Score: 1
END:VEVENT
BEGIN:VEVENT
UID:14008783@ezleagues.ezfacility.com
DTSTAMP:20260424T044221Z
CREATED:20260424T044221Z
DTSTART:20211120T200000Z
DTEND:20211120T205500Z
LOCATION:Iceland #1 - Outdoor
CONTACT:
SUMMARY:Vaughan Azzurri White VS. GSC BU18 Red
DESCRIPTION:League Name: BU17/18 - Development\nGame Type: Regular\nGame St
 atus: Complete\nHome Team: Vaughan Azzurri White\nAway Team: GSC BU18 Red\
 nHome Score: 0\nAway Score: 0
END:VEVENT
BEGIN:VEVENT
UID:14008751@ezleagues.ezfacility.com
DTSTAMP:20260424T044221Z
CREATED:20260424T044221Z
DTSTART:20211206T022000Z
DTEND:20211206T031500Z
LOCATION:PFFC Dome - Full Field
CONTACT:
SUMMARY:Prostars FC White VS. GSC BU18 Red
DESCRIPTION:League Name: BU17/18 - Development\nGame Type: Regular\nGame St
 atus: Complete\nHome Team: Prostars FC White\nAway Team: GSC BU18 Red\nHom
 e Score: 1\nAway Score: 2
END:VEVENT
BEGIN:VEVENT
UID:14008743@ezleagues.ezfacility.com
DTSTAMP:20260424T044221Z
CREATED:20260424T044221Z
DTSTART:20211212T195500Z
DTEND:20211212T205000Z
LOCATION:PFFC Dome - Full Field
CONTACT:
SUMMARY:BRI Football Club Inc VS. GSC BU18 Red
DESCRIPTION:League Name: BU17/18 - Development\nGame Type: Regular\nGame St
 atus: Rescheduled\nHome Team: BRI Football Club Inc\nAway Team: GSC BU18 R
 ed\n
END:VEVENT
BEGIN:VEVENT
UID:14008771@ezleagues.ezfacility.com
DTSTAMP:20260424T044221Z
CREATED:20260424T044221Z
DTSTART:20220110T022000Z
DTEND:20220110T031500Z
LOCATION:PFFC Dome - Full Field
CONTACT:
SUMMARY:GSC BU18 Red VS. BRI Football Club Inc
DESCRIPTION:League Name: BU17/18 - Development\nGame Type: Regular\nGame St
 atus: Rescheduled\nHome Team: GSC BU18 Red\nAway Team: BRI Football Club I
 nc\n
END:VEVENT
BEGIN:VEVENT
UID:14008779@ezleagues.ezfacility.com
DTSTAMP:20260424T044221Z
CREATED:20260424T044221Z
DTSTART:20220124T022000Z
DTEND:20220124T031500Z
LOCATION:PFFC Dome - Full Field
CONTACT:
SUMMARY:Prostars FC White VS. GSC BU18 Red
DESCRIPTION:League Name: BU17/18 - Development\nGame Type: Regular\nGame St
 atus: Rescheduled\nHome Team: Prostars FC White\nAway Team: GSC BU18 Red\n
END:VEVENT
BEGIN:VEVENT
UID:14008747@ezleagues.ezfacility.com
DTSTAMP:20260424T044221Z
CREATED:20260424T044221Z
DTSTART:20220207T022000Z
DTEND:20220207T031500Z
LOCATION:PFFC Dome - Full Field
CONTACT:
SUMMARY:GSC BU18 Red VS. Brampton Soccer Club
DESCRIPTION:League Name: BU17/18 - Development\nGame Type: Regular\nGame St
 atus: Complete\nHome Team: GSC BU18 Red\nAway Team: Brampton Soccer Club\n
 Home Score: 2\nAway Score: 1
END:VEVENT
BEGIN:VEVENT
UID:14008755@ezleagues.ezfacility.com
DTSTAMP:20260424T044221Z
CREATED:20260424T044221Z
DTSTART:20220221T022000Z
DTEND:20220221T031500Z
LOCATION:PFFC Dome - Full Field
CONTACT:
SUMMARY:GSC BU18 Red VS. Vaughan Azzurri White
DESCRIPTION:League Name: BU17/18 - Development\nGame Type: Regular\nGame St
 atus: Complete\nHome Team: GSC BU18 Red\nAway Team: Vaughan Azzurri White\
 nHome Score: 1\nAway Score: 1
END:VEVENT
BEGIN:VEVENT
UID:14221510@ezleagues.ezfacility.com
DTSTAMP:20260424T044221Z
CREATED:20260424T044221Z
DTSTART:20220226T211000Z
DTEND:20220226T220500Z
LOCATION:CMCC - Full Field
CONTACT:
SUMMARY:BRI Football Club Inc VS. GSC BU18 Red
DESCRIPTION:League Name: BU17/18 - Development\nGame Type: Regular\nGame St
 atus: Complete\nHome Team: BRI Football Club Inc\nAway Team: GSC BU18 Red\
 nHome Score: 0\nAway Score: 7
END:VEVENT
BEGIN:VEVENT
UID:14008759@ezleagues.ezfacility.com
DTSTAMP:20260424T044221Z
CREATED:20260424T044221Z
DTSTART:20220307T022000Z
DTEND:20220307T031500Z
LOCATION:PFFC Dome - Full Field
CONTACT:
SUMMARY:GSC BU18 Red VS. Oakville BU17C
DESCRIPTION:League Name: BU17/18 - Development\nGame Type: Regular\nGame St
 atus: Complete\nHome Team: GSC BU18 Red\nAway Team: Oakville BU17C\nHome S
 core: 3\nAway Score: 0
END:VEVENT
BEGIN:VEVENT
UID:14008763@ezleagues.ezfacility.com
DTSTAMP:20260424T044221Z
CREATED:20260424T044221Z
DTSTART:20220313T233000Z
DTEND:20220314T002500Z
LOCATION:PFFC Dome - Full Field
CONTACT:
SUMMARY:GSC BU18 Red VS. International SC
DESCRIPTION:League Name: BU17/18 - Development\nGame Type: Regular\nGame St
 atus: Complete\nHome Team: GSC BU18 Red\nAway Team: International SC\nHome
  Score: 2\nAway Score: 0
END:VEVENT
BEGIN:VEVENT
UID:14008775@ezleagues.ezfacility.com
DTSTAMP:20260424T044221Z
CREATED:20260424T044221Z
DTSTART:20220328T012000Z
DTEND:20220328T021500Z
LOCATION:PFFC Dome - Full Field
CONTACT:
SUMMARY:Brampton Soccer Club VS. GSC BU18 Red
DESCRIPTION:League Name: BU17/18 - Development\nGame Type: Regular\nGame St
 atus: Complete\nHome Team: Brampton Soccer Club\nAway Team: GSC BU18 Red\n
 Home Score: 0\nAway Score: 0
END:VEVENT
BEGIN:VEVENT
UID:14008767@ezleagues.ezfacility.com
DTSTAMP:20260424T044221Z
CREATED:20260424T044221Z
DTSTART:20220411T012000Z
DTEND:20220411T021500Z
LOCATION:PFFC Dome - Full Field
CONTACT:
SUMMARY:GSC BU18 Red VS. First Touch Jaguars U18
DESCRIPTION:League Name: BU17/18 - Development\nGame Type: Regular\nGame St
 atus: Complete\nHome Team: GSC BU18 Red\nAway Team: First Touch Jaguars U1
 8\nHome Score: 3\nAway Score: 0
END:VEVENT
BEGIN:VEVENT
UID:14226056@ezleagues.ezfacility.com
DTSTAMP:20260424T044221Z
CREATED:20260424T044221Z
DTSTART:20220416T174000Z
DTEND:20220416T183500Z
LOCATION:PFFC - Outdoors #2
CONTACT:
SUMMARY:GSC BU18 Red VS. BRI Football Club Inc
DESCRIPTION:League Name: BU17/18 - Development\nGame Type: Regular\nGame St
 atus: Complete\nHome Team: GSC BU18 Red\nAway Team: BRI Football Club Inc\
 nHome Score: 5\nAway Score: 0
END:VEVENT
BEGIN:VEVENT
UID:14231368@ezleagues.ezfacility.com
DTSTAMP:20260424T044221Z
CREATED:20260424T044221Z
DTSTART:20220424T202500Z
DTEND:20220424T212000Z
LOCATION:PFFC - Outdoors #2
CONTACT:
SUMMARY:Prostars FC White VS. GSC BU18 Red
DESCRIPTION:League Name: BU17/18 - Development\nGame Type: Regular\nGame St
 atus: Complete\nHome Team: Prostars FC White\nAway Team: GSC BU18 Red\nHom
 e Score: 1\nAway Score: 1
END:VEVENT
END:VCALENDAR
