BEGIN:VCALENDAR
VERSION:2.0
PRODID:-//EZFacility.com, Inc.//EZL 2.5.5.28621
BEGIN:VEVENT
UID:13975958@ezleagues.ezfacility.com
DTSTAMP:20260423T161210Z
CREATED:20260423T161210Z
DTSTART:20211029T010000Z
DTEND:20211029T020000Z
LOCATION:Rink 1
CONTACT:
SUMMARY:Sports Kitchen VS. Huff and Puff
DESCRIPTION:League Name: Thursday Roller Hockey (Lower B) 10/2021\nGame Typ
 e: Regular\nGame Status: Complete\nHome Team: Sports Kitchen\nAway Team: H
 uff and Puff\nHome Score: 10\nAway Score: 3
END:VEVENT
BEGIN:VEVENT
UID:14002355@ezleagues.ezfacility.com
DTSTAMP:20260423T161210Z
CREATED:20260423T161210Z
DTSTART:20211104T230000Z
DTEND:20211105T000000Z
LOCATION:Rink 1
CONTACT:
SUMMARY:Dekes Out for Harambe VS. Huff and Puff
DESCRIPTION:League Name: Thursday Roller Hockey (Lower B) 10/2021\nGame Typ
 e: Regular\nGame Status: Complete\nHome Team: Dekes Out for Harambe\nAway 
 Team: Huff and Puff\nHome Score: 3\nAway Score: 5
END:VEVENT
BEGIN:VEVENT
UID:14051642@ezleagues.ezfacility.com
DTSTAMP:20260423T161210Z
CREATED:20260423T161210Z
DTSTART:20211112T000000Z
DTEND:20211112T010000Z
LOCATION:Rink 1
CONTACT:
SUMMARY:Crossbar Cronies VS. Huff and Puff
DESCRIPTION:League Name: Thursday Roller Hockey (Lower B) 10/2021\nGame Typ
 e: Regular\nGame Status: Complete\nHome Team: Crossbar Cronies\nAway Team:
  Huff and Puff\nHome Score: 3\nAway Score: 7
END:VEVENT
BEGIN:VEVENT
UID:14051707@ezleagues.ezfacility.com
DTSTAMP:20260423T161210Z
CREATED:20260423T161210Z
DTSTART:20211119T020000Z
DTEND:20211119T030000Z
LOCATION:Rink 1
CONTACT:
SUMMARY:Huff and Puff VS. NEH
DESCRIPTION:League Name: Thursday Roller Hockey (Lower B) 10/2021\nGame Typ
 e: Regular\nGame Status: Complete\nHome Team: Huff and Puff\nAway Team: NE
 H\nHome Score: 3\nAway Score: 9
END:VEVENT
BEGIN:VEVENT
UID:14052266@ezleagues.ezfacility.com
DTSTAMP:20260423T161210Z
CREATED:20260423T161210Z
DTSTART:20211203T020000Z
DTEND:20211203T030000Z
LOCATION:Rink 1
CONTACT:
SUMMARY:Huff and Puff VS. Bastards BLACK
DESCRIPTION:League Name: Thursday Roller Hockey (Lower B) 10/2021\nGame Typ
 e: Regular\nGame Status: Complete\nHome Team: Huff and Puff\nAway Team: Ba
 stards BLACK\nHome Score: 5\nAway Score: 11
END:VEVENT
BEGIN:VEVENT
UID:14052320@ezleagues.ezfacility.com
DTSTAMP:20260423T161210Z
CREATED:20260423T161210Z
DTSTART:20211217T030000Z
DTEND:20211217T040000Z
LOCATION:Rink 1
CONTACT:
SUMMARY:Huff and Puff VS. Bastards WHITE
DESCRIPTION:League Name: Thursday Roller Hockey (Lower B) 10/2021\nGame Typ
 e: Regular\nGame Status: Complete\nHome Team: Huff and Puff\nAway Team: Ba
 stards WHITE\nHome Score: 4\nAway Score: 12
END:VEVENT
BEGIN:VEVENT
UID:14052322@ezleagues.ezfacility.com
DTSTAMP:20260423T161210Z
CREATED:20260423T161210Z
DTSTART:20211224T010000Z
DTEND:20211224T020000Z
LOCATION:Rink 1
CONTACT:
SUMMARY:Huff and Puff VS. Bastards BLACK
DESCRIPTION:League Name: Thursday Roller Hockey (Lower B) 10/2021\nGame Typ
 e: Regular\nGame Status: Complete\nHome Team: Huff and Puff\nAway Team: Ba
 stards BLACK\nHome Score: 5\nAway Score: 8
END:VEVENT
BEGIN:VEVENT
UID:14052328@ezleagues.ezfacility.com
DTSTAMP:20260423T161210Z
CREATED:20260423T161210Z
DTSTART:20211231T030000Z
DTEND:20211231T040000Z
LOCATION:Rink 1
CONTACT:
SUMMARY:Huff and Puff VS. Sports Kitchen
DESCRIPTION:League Name: Thursday Roller Hockey (Lower B) 10/2021\nGame Typ
 e: Regular\nGame Status: Complete\nHome Team: Huff and Puff\nAway Team: Sp
 orts Kitchen\nHome Score: 2\nAway Score: 14
END:VEVENT
BEGIN:VEVENT
UID:14052329@ezleagues.ezfacility.com
DTSTAMP:20260423T161210Z
CREATED:20260423T161210Z
DTSTART:20220107T000000Z
DTEND:20220107T010000Z
LOCATION:Rink 1
CONTACT:
SUMMARY:Punishers VS. Huff and Puff
DESCRIPTION:League Name: Thursday Roller Hockey (Lower B) 10/2021\nGame Typ
 e: Regular\nGame Status: Complete\nHome Team: Punishers\nAway Team: Huff a
 nd Puff\nHome Score: 4\nAway Score: 10
END:VEVENT
BEGIN:VEVENT
UID:14052336@ezleagues.ezfacility.com
DTSTAMP:20260423T161210Z
CREATED:20260423T161210Z
DTSTART:20220114T030000Z
DTEND:20220114T040000Z
LOCATION:Rink 1
CONTACT:
SUMMARY:Huff and Puff VS. Nor' Dekes
DESCRIPTION:League Name: Thursday Roller Hockey (Lower B) 10/2021\nGame Typ
 e: Regular\nGame Status: Complete\nHome Team: Huff and Puff\nAway Team: No
 r' Dekes\nHome Score: 7\nAway Score: 8
END:VEVENT
BEGIN:VEVENT
UID:14052339@ezleagues.ezfacility.com
DTSTAMP:20260423T161210Z
CREATED:20260423T161210Z
DTSTART:20220121T000000Z
DTEND:20220121T010000Z
LOCATION:Rink 1
CONTACT:
SUMMARY:Dekes Out for Harambe VS. Huff and Puff
DESCRIPTION:League Name: Thursday Roller Hockey (Lower B) 10/2021\nGame Typ
 e: Regular\nGame Status: Complete\nHome Team: Dekes Out for Harambe\nAway 
 Team: Huff and Puff\nHome Score: 5\nAway Score: 4
END:VEVENT
BEGIN:VEVENT
UID:14052346@ezleagues.ezfacility.com
DTSTAMP:20260423T161210Z
CREATED:20260423T161210Z
DTSTART:20220128T030000Z
DTEND:20220128T040000Z
LOCATION:Rink 1
CONTACT:
SUMMARY:Huff and Puff VS. NEH
DESCRIPTION:League Name: Thursday Roller Hockey (Lower B) 10/2021\nGame Typ
 e: Regular\nGame Status: Complete\nHome Team: Huff and Puff\nAway Team: NE
 H\nHome Score: 2\nAway Score: 8
END:VEVENT
BEGIN:VEVENT
UID:14052349@ezleagues.ezfacility.com
DTSTAMP:20260423T161210Z
CREATED:20260423T161210Z
DTSTART:20220204T020000Z
DTEND:20220204T030000Z
LOCATION:Rink 1
CONTACT:
SUMMARY:Bastards WHITE VS. Huff and Puff
DESCRIPTION:League Name: Thursday Roller Hockey (Lower B) 10/2021\nGame Typ
 e: Regular\nGame Status: Complete\nHome Team: Bastards WHITE\nAway Team: H
 uff and Puff\nHome Score: 5\nAway Score: 1
END:VEVENT
BEGIN:VEVENT
UID:14052351@ezleagues.ezfacility.com
DTSTAMP:20260423T161210Z
CREATED:20260423T161210Z
DTSTART:20220211T000000Z
DTEND:20220211T010000Z
LOCATION:Rink 1
CONTACT:
SUMMARY:Huff and Puff VS. Nor' Dekes
DESCRIPTION:League Name: Thursday Roller Hockey (Lower B) 10/2021\nGame Typ
 e: Regular\nGame Status: Complete\nHome Team: Huff and Puff\nAway Team: No
 r' Dekes\nHome Score: 2\nAway Score: 5
END:VEVENT
BEGIN:VEVENT
UID:14052363@ezleagues.ezfacility.com
DTSTAMP:20260423T161210Z
CREATED:20260423T161210Z
DTSTART:20220225T010000Z
DTEND:20220225T020000Z
LOCATION:Rink 1
CONTACT:
SUMMARY:Crossbar Cronies VS. Huff and Puff
DESCRIPTION:League Name: Thursday Roller Hockey (Lower B) 10/2021\nGame Typ
 e: Regular\nGame Status: Complete\nHome Team: Crossbar Cronies\nAway Team:
  Huff and Puff\nHome Score: 3\nAway Score: 8
END:VEVENT
BEGIN:VEVENT
UID:14052370@ezleagues.ezfacility.com
DTSTAMP:20260423T161210Z
CREATED:20260423T161210Z
DTSTART:20220304T010000Z
DTEND:20220304T020000Z
LOCATION:Rink 1
CONTACT:
SUMMARY:Punishers VS. Huff and Puff
DESCRIPTION:League Name: Thursday Roller Hockey (Lower B) 10/2021\nGame Typ
 e: Regular\nGame Status: Complete\nHome Team: Punishers\nAway Team: Huff a
 nd Puff\nHome Score: 5\nAway Score: 10
END:VEVENT
BEGIN:VEVENT
UID:14052375@ezleagues.ezfacility.com
DTSTAMP:20260423T161210Z
CREATED:20260423T161210Z
DTSTART:20220311T010000Z
DTEND:20220311T020000Z
LOCATION:Rink 1
CONTACT:
SUMMARY:Bastards BLACK VS. Huff and Puff
DESCRIPTION:League Name: Thursday Roller Hockey (Lower B) 10/2021\nGame Typ
 e: Postseason\nGame Status: Complete\nHome Team: Bastards BLACK\nAway Team
 : Huff and Puff\nHome Score: 1\nAway Score: 0
END:VEVENT
END:VCALENDAR
