BEGIN:VCALENDAR
VERSION:2.0
PRODID:-//EZFacility.com, Inc.//EZL 2.5.5.28621
BEGIN:VEVENT
UID:13988424@ezleagues.ezfacility.com
DTSTAMP:20260422T040003Z
CREATED:20260422T040003Z
DTSTART:20211107T180000Z
DTEND:20211107T190000Z
LOCATION:Rocky River 3/4 Yellow
CONTACT:
SUMMARY:North Ridgeville VS. BSA
DESCRIPTION:League Name: U12 Girls - Gold (Session 1)\nGame Type: Regular\n
 Game Status: Complete\nHome Team: North Ridgeville\nAway Team: BSA\nHome S
 core: 11\nAway Score: 1
END:VEVENT
BEGIN:VEVENT
UID:13988427@ezleagues.ezfacility.com
DTSTAMP:20260422T040003Z
CREATED:20260422T040003Z
DTSTART:20211114T170000Z
DTEND:20211114T180000Z
LOCATION:Rocky River 3/4 Yellow
CONTACT:
SUMMARY:North Ridgeville VS. U12 Strongsville Mustangs
DESCRIPTION:League Name: U12 Girls - Gold (Session 1)\nGame Type: Regular\n
 Game Status: Complete\nHome Team: North Ridgeville\nAway Team: U12 Strongs
 ville Mustangs\nHome Score: 12\nAway Score: 5
END:VEVENT
BEGIN:VEVENT
UID:13988429@ezleagues.ezfacility.com
DTSTAMP:20260422T040003Z
CREATED:20260422T040003Z
DTSTART:20211121T180000Z
DTEND:20211121T190000Z
LOCATION:Rocky River 3/4 Yellow
CONTACT:
SUMMARY:NOSO VS. North Ridgeville
DESCRIPTION:League Name: U12 Girls - Gold (Session 1)\nGame Type: Regular\n
 Game Status: Complete\nHome Team: NOSO\nAway Team: North Ridgeville\nHome 
 Score: 4\nAway Score: 0
END:VEVENT
BEGIN:VEVENT
UID:13988431@ezleagues.ezfacility.com
DTSTAMP:20260422T040003Z
CREATED:20260422T040003Z
DTSTART:20211128T170000Z
DTEND:20211128T180000Z
LOCATION:Rocky River 3/4 Yellow
CONTACT:
SUMMARY:Avon Lake U12 Girls VS. North Ridgeville
DESCRIPTION:League Name: U12 Girls - Gold (Session 1)\nGame Type: Regular\n
 Game Status: Complete\nHome Team: Avon Lake U12 Girls\nAway Team: North Ri
 dgeville\nHome Score: 2\nAway Score: 2
END:VEVENT
BEGIN:VEVENT
UID:13988439@ezleagues.ezfacility.com
DTSTAMP:20260422T040003Z
CREATED:20260422T040003Z
DTSTART:20211212T180000Z
DTEND:20211212T190000Z
LOCATION:Rocky River 3/4 Yellow
CONTACT:
SUMMARY:BSA VS. North Ridgeville
DESCRIPTION:League Name: U12 Girls - Gold (Session 1)\nGame Type: Regular\n
 Game Status: Complete\nHome Team: BSA\nAway Team: North Ridgeville\nHome S
 core: 5\nAway Score: 2
END:VEVENT
BEGIN:VEVENT
UID:13988442@ezleagues.ezfacility.com
DTSTAMP:20260422T040003Z
CREATED:20260422T040003Z
DTSTART:20211219T170000Z
DTEND:20211219T180000Z
LOCATION:Rocky River 3/4 Yellow
CONTACT:
SUMMARY:U12 Strongsville Mustangs VS. North Ridgeville
DESCRIPTION:League Name: U12 Girls - Gold (Session 1)\nGame Type: Regular\n
 Game Status: Complete\nHome Team: U12 Strongsville Mustangs\nAway Team: No
 rth Ridgeville\nHome Score: 3\nAway Score: 7
END:VEVENT
BEGIN:VEVENT
UID:13988446@ezleagues.ezfacility.com
DTSTAMP:20260422T040003Z
CREATED:20260422T040003Z
DTSTART:20220102T170000Z
DTEND:20220102T180000Z
LOCATION:Rocky River 3/4 Yellow
CONTACT:
SUMMARY:North Ridgeville VS. Avon Lake U12 Girls
DESCRIPTION:League Name: U12 Girls - Gold (Session 1)\nGame Type: Regular\n
 Game Status: Complete\nHome Team: North Ridgeville\nAway Team: Avon Lake U
 12 Girls\nHome Score: 6\nAway Score: 3
END:VEVENT
BEGIN:VEVENT
UID:13988444@ezleagues.ezfacility.com
DTSTAMP:20260422T040003Z
CREATED:20260422T040003Z
DTSTART:20220115T130000Z
DTEND:20220115T140000Z
LOCATION:Rocky River 3/4 Yellow
CONTACT:
SUMMARY:North Ridgeville VS. NOSO
DESCRIPTION:League Name: U12 Girls - Gold (Session 1)\nGame Type: Regular\n
 Game Status: Complete\nHome Team: North Ridgeville\nAway Team: NOSO\nHome 
 Score: 6\nAway Score: 2
END:VEVENT
END:VCALENDAR
