BEGIN:VCALENDAR
VERSION:2.0
PRODID:-//EZFacility.com, Inc.//EZL 2.5.5.28621
BEGIN:VEVENT
UID:13989187@ezleagues.ezfacility.com
DTSTAMP:20260423T034726Z
CREATED:20260423T034726Z
DTSTART:20211106T190000Z
DTEND:20211106T200000Z
LOCATION:Rocky River 3/4 Blue
CONTACT:
SUMMARY:Corner65 VS. North Ridgeville
DESCRIPTION:League Name: U13/14 Boys (Session 1)\nGame Type: Regular\nGame 
 Status: Complete\nHome Team: Corner65\nAway Team: North Ridgeville\nHome S
 core: 1\nAway Score: 1
END:VEVENT
BEGIN:VEVENT
UID:13989189@ezleagues.ezfacility.com
DTSTAMP:20260423T034726Z
CREATED:20260423T034726Z
DTSTART:20211113T190000Z
DTEND:20211113T200000Z
LOCATION:Rocky River 3/4 Blue
CONTACT:
SUMMARY:Corner65 VS. ALSO - Lardie
DESCRIPTION:League Name: U13/14 Boys (Session 1)\nGame Type: Regular\nGame 
 Status: Complete\nHome Team: Corner65\nAway Team: ALSO - Lardie\nHome Scor
 e: 2\nAway Score: 2
END:VEVENT
BEGIN:VEVENT
UID:13989195@ezleagues.ezfacility.com
DTSTAMP:20260423T034726Z
CREATED:20260423T034726Z
DTSTART:20211127T180000Z
DTEND:20211127T190000Z
LOCATION:Rocky River 3/4 Blue
CONTACT:
SUMMARY:Corner65 VS. BVFC
DESCRIPTION:League Name: U13/14 Boys (Session 1)\nGame Type: Regular\nGame 
 Status: Complete\nHome Team: Corner65\nAway Team: BVFC\nHome Score: 2\nAwa
 y Score: 1
END:VEVENT
BEGIN:VEVENT
UID:13989202@ezleagues.ezfacility.com
DTSTAMP:20260423T034726Z
CREATED:20260423T034726Z
DTSTART:20211211T200000Z
DTEND:20211211T210000Z
LOCATION:Rocky River 3/4 Blue
CONTACT:
SUMMARY:North Ridgeville VS. Corner65
DESCRIPTION:League Name: U13/14 Boys (Session 1)\nGame Type: Regular\nGame 
 Status: Complete\nHome Team: North Ridgeville\nAway Team: Corner65\nHome S
 core: 2\nAway Score: 1
END:VEVENT
BEGIN:VEVENT
UID:13989204@ezleagues.ezfacility.com
DTSTAMP:20260423T034726Z
CREATED:20260423T034726Z
DTSTART:20211218T190000Z
DTEND:20211218T200000Z
LOCATION:Rocky River 3/4 Blue
CONTACT:
SUMMARY:ALSO - Lardie VS. Corner65
DESCRIPTION:League Name: U13/14 Boys (Session 1)\nGame Type: Regular\nGame 
 Status: Complete\nHome Team: ALSO - Lardie\nAway Team: Corner65\nHome Scor
 e: 2\nAway Score: 3
END:VEVENT
BEGIN:VEVENT
UID:13989206@ezleagues.ezfacility.com
DTSTAMP:20260423T034726Z
CREATED:20260423T034726Z
DTSTART:20220108T193000Z
DTEND:20220108T203000Z
LOCATION:Rocky River 3/4 Blue
CONTACT:
SUMMARY:ABCDE FC VS. Corner65
DESCRIPTION:League Name: U13/14 Boys (Session 1)\nGame Type: Regular\nGame 
 Status: Complete\nHome Team: ABCDE FC\nAway Team: Corner65\nHome Score: 2\
 nAway Score: 1
END:VEVENT
BEGIN:VEVENT
UID:13989191@ezleagues.ezfacility.com
DTSTAMP:20260423T034726Z
CREATED:20260423T034726Z
DTSTART:20220123T000000Z
DTEND:20220123T010000Z
LOCATION:Rocky River 3/4 Yellow
CONTACT:
SUMMARY:ABCDE FC VS. Corner65
DESCRIPTION:League Name: U13/14 Boys (Session 1)\nGame Type: Regular\nGame 
 Status: Complete\nHome Team: ABCDE FC\nAway Team: Corner65\nHome Score: 4\
 nAway Score: 1
END:VEVENT
BEGIN:VEVENT
UID:13989199@ezleagues.ezfacility.com
DTSTAMP:20260423T034726Z
CREATED:20260423T034726Z
DTSTART:20220123T010000Z
DTEND:20220123T020000Z
LOCATION:Rocky River 3/4 Yellow
CONTACT:
SUMMARY:Corner65 VS. Avon Lake Shoremen-Hollender
DESCRIPTION:League Name: U13/14 Boys (Session 1)\nGame Type: Regular\nGame 
 Status: Complete\nHome Team: Corner65\nAway Team: Avon Lake Shoremen-Holle
 nder\nHome Score: 1\nAway Score: 6
END:VEVENT
END:VCALENDAR
