BEGIN:VCALENDAR
VERSION:2.0
PRODID:-//EZFacility.com, Inc.//EZL 2.5.5.28621
BEGIN:VEVENT
UID:14008478@ezleagues.ezfacility.com
DTSTAMP:20260426T034831Z
CREATED:20260426T034831Z
DTSTART:20211113T212000Z
DTEND:20211113T220000Z
LOCATION:Field #2
CONTACT:Sopczak\, Maric 
SUMMARY:Bears (N) VS. Jaguars (N)
DESCRIPTION:League Name: 10-12 NFL Flag Football - Winter 2021\nGame Type: 
 Regular\nGame Status: Complete\nHome Team: Bears (N)\nAway Team: Jaguars (
 N)\nHome Score: 36\nAway Score: 8
END:VEVENT
BEGIN:VEVENT
UID:14008497@ezleagues.ezfacility.com
DTSTAMP:20260426T034831Z
CREATED:20260426T034831Z
DTSTART:20211120T212000Z
DTEND:20211120T220000Z
LOCATION:Field #3
CONTACT:Engalhuet\, Koontz
SUMMARY:Raiders (N) VS. Jaguars (N)
DESCRIPTION:League Name: 10-12 NFL Flag Football - Winter 2021\nGame Type: 
 Regular\nGame Status: Complete\nHome Team: Raiders (N)\nAway Team: Jaguars
  (N)\nHome Score: 34\nAway Score: 24
END:VEVENT
BEGIN:VEVENT
UID:14008514@ezleagues.ezfacility.com
DTSTAMP:20260426T034831Z
CREATED:20260426T034831Z
DTSTART:20211127T202000Z
DTEND:20211127T210000Z
LOCATION:Field #1
CONTACT:Darling\, Siavelis
SUMMARY:Broncos (N) VS. Jaguars (N)
DESCRIPTION:League Name: 10-12 NFL Flag Football - Winter 2021\nGame Type: 
 Regular\nGame Status: Complete\nHome Team: Broncos (N)\nAway Team: Jaguars
  (N)\nHome Score: 28\nAway Score: 0
END:VEVENT
BEGIN:VEVENT
UID:14008537@ezleagues.ezfacility.com
DTSTAMP:20260426T034831Z
CREATED:20260426T034831Z
DTSTART:20211204T222000Z
DTEND:20211204T230000Z
LOCATION:Field #4
CONTACT:Sopczak
SUMMARY:Chiefs (N) VS. Jaguars (N)
DESCRIPTION:League Name: 10-12 NFL Flag Football - Winter 2021\nGame Type: 
 Regular\nGame Status: Complete\nHome Team: Chiefs (N)\nAway Team: Jaguars 
 (N)\nHome Score: 31\nAway Score: 6
END:VEVENT
BEGIN:VEVENT
UID:14008577@ezleagues.ezfacility.com
DTSTAMP:20260426T034831Z
CREATED:20260426T034831Z
DTSTART:20211211T212000Z
DTEND:20211211T220000Z
LOCATION:Field #4
CONTACT:Koontz
SUMMARY:Jaguars (N) VS. Falcons (N)
DESCRIPTION:League Name: 10-12 NFL Flag Football - Winter 2021\nGame Type: 
 Regular\nGame Status: Complete\nHome Team: Jaguars (N)\nAway Team: Falcons
  (N)\nHome Score: 18\nAway Score: 20
END:VEVENT
BEGIN:VEVENT
UID:14008592@ezleagues.ezfacility.com
DTSTAMP:20260426T034831Z
CREATED:20260426T034831Z
DTSTART:20211218T222000Z
DTEND:20211218T230000Z
LOCATION:Field #1
CONTACT:Zakman
SUMMARY:Jaguars (N) VS. Buccaneers (N)
DESCRIPTION:League Name: 10-12 NFL Flag Football - Winter 2021\nGame Type: 
 Regular\nGame Status: Complete\nHome Team: Jaguars (N)\nAway Team: Buccane
 ers (N)\nHome Score: 16\nAway Score: 38
END:VEVENT
BEGIN:VEVENT
UID:14039558@ezleagues.ezfacility.com
DTSTAMP:20260426T034831Z
CREATED:20260426T034831Z
DTSTART:20220108T192000Z
DTEND:20220108T200000Z
LOCATION:Field #1
CONTACT:Engalhuet\, Maric 
SUMMARY:Texans (S) VS. Jaguars (N)
DESCRIPTION:League Name: 10-12 NFL Flag Football - Winter 2021\nGame Type: 
 Regular\nGame Status: Complete\nHome Team: Texans (S)\nAway Team: Jaguars 
 (N)\nHome Score: 38\nAway Score: 6
END:VEVENT
END:VCALENDAR
